Workbook

Sheet Plan
A1: Debt snowball spreadsheet
A2: Type your numbers in the blue cells. The Schedule sheet shows every month.
A3: Free from debtpayoff.app
B4: Settings
B5: Method | C5: Snowball | D5: Snowball or Avalanche
B6: Monthly budget | C6: 480 | D6: All you pay toward your debts each month
B7: Start date | C7: =TODAY() -> 46300 | D7: Date of your balances. The first payment is one month later.
B8: Minimum payments | C8: =ROUND(SUM(Schedule!I6:AL6),2) -> 330
B9: Extra each month | C9: =C6-C8 -> 150 | D9: Budget minus minimums. It goes to the first debt in the order.
B10: Results
B11: Debt-free month | C11: =IF(C12>0,EDATE(C7,C12),"") -> 47213
B12: Months to debt-free | C12: =COUNTIF(Schedule!F11:F370,">0") -> 30
B13: Total interest | C13: =ROUND(SUM(Schedule!G11:G370),2) -> 1618.61
B14: Total paid | C14: =ROUND(SUM(Schedule!F11:F370),2) -> 13908.61
B15: Check | C15: =IF(COUNTIF(Schedule!I8:AL8,">0")=0,"Add your debts below.",IF(COUNTIF(Schedule!I9:AL9,"No minimum")>0,"Add a minimum payment for each debt.",IF(C9<0,"The budget is below the minimum payments.",IF(COUNTIF(Schedule!I9:AL9,"Too low")>0,"A payment does not cover its interest. See the Check column.",IF(Schedule!H370>0,"Not paid off in 360 months. Raise the budget.","OK"))))) -> OK
B17: Debts (up to 10)
A18: # | B18: Debt | C18: Balance | D18: APR % | E18: Minimum payment | F18: Order | G18: Months | H18: Paid off | I18: Interest paid | J18: Check
A19: 1 | B19: Credit card | C19: 3250 | D19: 24.99 | E19: 95 | F19: =IF(Schedule!I5>0,Schedule!I5,"") -> 2 | G19: =IF(Schedule!I8>0,COUNTIF(Schedule!I11:I370,">0"),"") -> 18 | H19: =IF(Schedule!I8>0,IF(Schedule!K370=0,EDATE($C$7,G19),""),"") -> 46848 | I19: =IF(Schedule!I8>0,ROUND(SUM(Schedule!J11:J370),2),"") -> 759.82 | J19: =Schedule!I9 -> OK
A20: 2 | B20: Car loan | C20: 8400 | D20: 6.5 | E20: 210 | F20: =IF(Schedule!L5>0,Schedule!L5,"") -> 3 | G20: =IF(Schedule!L8>0,COUNTIF(Schedule!L11:L370,">0"),"") -> 30 | H20: =IF(Schedule!L8>0,IF(Schedule!N370=0,EDATE($C$7,G20),""),"") -> 47213 | I20: =IF(Schedule!L8>0,ROUND(SUM(Schedule!M11:M370),2),"") -> 858.79 | J20: =Schedule!L9 -> OK
A21: 3 | B21: Medical bill | C21: 640 | D21: 0 | E21: 25 | F21: =IF(Schedule!O5>0,Schedule!O5,"") -> 1 | G21: =IF(Schedule!O8>0,COUNTIF(Schedule!O11:O370,">0"),"") -> 4 | H21: =IF(Schedule!O8>0,IF(Schedule!Q370=0,EDATE($C$7,G21),""),"") -> 46423 | I21: =IF(Schedule!O8>0,ROUND(SUM(Schedule!P11:P370),2),"") -> 0 | J21: =Schedule!O9 -> OK
A22: 4 | F22: =IF(Schedule!R5>0,Schedule!R5,"") | G22: =IF(Schedule!R8>0,COUNTIF(Schedule!R11:R370,">0"),"") | H22: =IF(Schedule!R8>0,IF(Schedule!T370=0,EDATE($C$7,G22),""),"") | I22: =IF(Schedule!R8>0,ROUND(SUM(Schedule!S11:S370),2),"") | J22: =Schedule!R9
A23: 5 | F23: =IF(Schedule!U5>0,Schedule!U5,"") | G23: =IF(Schedule!U8>0,COUNTIF(Schedule!U11:U370,">0"),"") | H23: =IF(Schedule!U8>0,IF(Schedule!W370=0,EDATE($C$7,G23),""),"") | I23: =IF(Schedule!U8>0,ROUND(SUM(Schedule!V11:V370),2),"") | J23: =Schedule!U9
A24: 6 | F24: =IF(Schedule!X5>0,Schedule!X5,"") | G24: =IF(Schedule!X8>0,COUNTIF(Schedule!X11:X370,">0"),"") | H24: =IF(Schedule!X8>0,IF(Schedule!Z370=0,EDATE($C$7,G24),""),"") | I24: =IF(Schedule!X8>0,ROUND(SUM(Schedule!Y11:Y370),2),"") | J24: =Schedule!X9
A25: 7 | F25: =IF(Schedule!AA5>0,Schedule!AA5,"") | G25: =IF(Schedule!AA8>0,COUNTIF(Schedule!AA11:AA370,">0"),"") | H25: =IF(Schedule!AA8>0,IF(Schedule!AC370=0,EDATE($C$7,G25),""),"") | I25: =IF(Schedule!AA8>0,ROUND(SUM(Schedule!AB11:AB370),2),"") | J25: =Schedule!AA9
A26: 8 | F26: =IF(Schedule!AD5>0,Schedule!AD5,"") | G26: =IF(Schedule!AD8>0,COUNTIF(Schedule!AD11:AD370,">0"),"") | H26: =IF(Schedule!AD8>0,IF(Schedule!AF370=0,EDATE($C$7,G26),""),"") | I26: =IF(Schedule!AD8>0,ROUND(SUM(Schedule!AE11:AE370),2),"") | J26: =Schedule!AD9
A27: 9 | F27: =IF(Schedule!AG5>0,Schedule!AG5,"") | G27: =IF(Schedule!AG8>0,COUNTIF(Schedule!AG11:AG370,">0"),"") | H27: =IF(Schedule!AG8>0,IF(Schedule!AI370=0,EDATE($C$7,G27),""),"") | I27: =IF(Schedule!AG8>0,ROUND(SUM(Schedule!AH11:AH370),2),"") | J27: =Schedule!AG9
A28: 10 | F28: =IF(Schedule!AJ5>0,Schedule!AJ5,"") | G28: =IF(Schedule!AJ8>0,COUNTIF(Schedule!AJ11:AJ370,">0"),"") | H28: =IF(Schedule!AJ8>0,IF(Schedule!AL370=0,EDATE($C$7,G28),""),"") | I28: =IF(Schedule!AJ8>0,ROUND(SUM(Schedule!AK11:AK370),2),"") | J28: =Schedule!AJ9
B29: Total | C29: =ROUND(SUM(Schedule!I8:AL8),2) -> 12290 | E29: =C8 -> 330 | I29: =C13 -> 1618.61

Sheet Schedule
A1: Month-by-month schedule
A2: Calculated from the Plan sheet. Change your numbers there.
D4: Method | E4: =IF(UPPER(LEFT(TRIM(Plan!C5),1))="A","Avalanche","Snowball") -> Snowball | H4: Debt | I4: =IF(I8>0,IF(TRIM(Plan!B19)="","Debt 1",TRIM(Plan!B19)),"") -> Credit card | L4: =IF(L8>0,IF(TRIM(Plan!B20)="","Debt 2",TRIM(Plan!B20)),"") -> Car loan | O4: =IF(O8>0,IF(TRIM(Plan!B21)="","Debt 3",TRIM(Plan!B21)),"") -> Medical bill | R4: =IF(R8>0,IF(TRIM(Plan!B22)="","Debt 4",TRIM(Plan!B22)),"") | U4: =IF(U8>0,IF(TRIM(Plan!B23)="","Debt 5",TRIM(Plan!B23)),"") | X4: =IF(X8>0,IF(TRIM(Plan!B24)="","Debt 6",TRIM(Plan!B24)),"") | AA4: =IF(AA8>0,IF(TRIM(Plan!B25)="","Debt 7",TRIM(Plan!B25)),"") | AD4: =IF(AD8>0,IF(TRIM(Plan!B26)="","Debt 8",TRIM(Plan!B26)),"") | AG4: =IF(AG8>0,IF(TRIM(Plan!B27)="","Debt 9",TRIM(Plan!B27)),"") | AJ4: =IF(AJ8>0,IF(TRIM(Plan!B28)="","Debt 10",TRIM(Plan!B28)),"")
D5: Extra each month | E5: =MAX(0,Plan!C9) -> 150 | H5: Order | I5: =IF(I8>0,1+IF(AND(L8>0,IF($E$4="Avalanche",OR(L7>I7,AND(L7=I7,OR(L8<I8,AND(L8=I8,L4<I4)))),OR(L8<I8,AND(L8=I8,OR(L7>I7,AND(L7=I7,L4<I4)))))),1,0)+IF(AND(O8>0,IF($E$4="Avalanche",OR(O7>I7,AND(O7=I7,OR(O8<I8,AND(O8=I8,O4<I4)))),OR(O8<I8,AND(O8=I8,OR(O7>I7,AND(O7=I7,O4<I4)))))),1,0)+IF(AND(R8>0,IF($E$4="Avalanche",OR(R7>I7,AND(R7=I7,OR(R8<I8,AND(R8=I8,R4<I4)))),OR(R8<I8,AND(R8=I8,OR(R7>I7,AND(R7=I7,R4<I4)))))),1,0)+IF(AND(U8>0,IF($E$4="Avalanche",OR(U7>I7,AND(U7=I7,OR(U8<I8,AND(U8=I8,U4<I4)))),OR(U8<I8,AND(U8=I8,OR(U7>I7,AND(U7=I7,U4<I4)))))),1,0)+IF(AND(X8>0,IF($E$4="Avalanche",OR(X7>I7,AND(X7=I7,OR(X8<I8,AND(X8=I8,X4<I4)))),OR(X8<I8,AND(X8=I8,OR(X7>I7,AND(X7=I7,X4<I4)))))),1,0)+IF(AND(AA8>0,IF($E$4="Avalanche",OR(AA7>I7,AND(AA7=I7,OR(AA8<I8,AND(AA8=I8,AA4<I4)))),OR(AA8<I8,AND(AA8=I8,OR(AA7>I7,AND(AA7=I7,AA4<I4)))))),1,0)+IF(AND(AD8>0,IF($E$4="Avalanche",OR(AD7>I7,AND(AD7=I7,OR(AD8<I8,AND(AD8=I8,AD4<I4)))),OR(AD8<I8,AND(AD8=I8,OR(AD7>I7,AND(AD7=I7,AD4<I4)))))),1,0)+IF(AND(AG8>0,IF($E$4="Avalanche",OR(AG7>I7,AND(AG7=I7,OR(AG8<I8,AND(AG8=I8,AG4<I4)))),OR(AG8<I8,AND(AG8=I8,OR(AG7>I7,AND(AG7=I7,AG4<I4)))))),1,0)+IF(AND(AJ8>0,IF($E$4="Avalanche",OR(AJ7>I7,AND(AJ7=I7,OR(AJ8<I8,AND(AJ8=I8,AJ4<I4)))),OR(AJ8<I8,AND(AJ8=I8,OR(AJ7>I7,AND(AJ7=I7,AJ4<I4)))))),1,0),0) -> 2 | L5: =IF(L8>0,1+IF(AND(I8>0,IF($E$4="Avalanche",OR(I7>L7,AND(I7=L7,OR(I8<L8,AND(I8=L8,I4<=L4)))),OR(I8<L8,AND(I8=L8,OR(I7>L7,AND(I7=L7,I4<=L4)))))),1,0)+IF(AND(O8>0,IF($E$4="Avalanche",OR(O7>L7,AND(O7=L7,OR(O8<L8,AND(O8=L8,O4<L4)))),OR(O8<L8,AND(O8=L8,OR(O7>L7,AND(O7=L7,O4<L4)))))),1,0)+IF(AND(R8>0,IF($E$4="Avalanche",OR(R7>L7,AND(R7=L7,OR(R8<L8,AND(R8=L8,R4<L4)))),OR(R8<L8,AND(R8=L8,OR(R7>L7,AND(R7=L7,R4<L4)))))),1,0)+IF(AND(U8>0,IF($E$4="Avalanche",OR(U7>L7,AND(U7=L7,OR(U8<L8,AND(U8=L8,U4<L4)))),OR(U8<L8,AND(U8=L8,OR(U7>L7,AND(U7=L7,U4<L4)))))),1,0)+IF(AND(X8>0,IF($E$4="Avalanche",OR(X7>L7,AND(X7=L7,OR(X8<L8,AND(X8=L8,X4<L4)))),OR(X8<L8,AND(X8=L8,OR(X7>L7,AND(X7=L7,X4<L4)))))),1,0)+IF(AND(AA8>0,IF($E$4="Avalanche",OR(AA7>L7,AND(AA7=L7,OR(AA8<L8,AND(AA8=L8,AA4<L4)))),OR(AA8<L8,AND(AA8=L8,OR(AA7>L7,AND(AA7=L7,AA4<L4)))))),1,0)+IF(AND(AD8>0,IF($E$4="Avalanche",OR(AD7>L7,AND(AD7=L7,OR(AD8<L8,AND(AD8=L8,AD4<L4)))),OR(AD8<L8,AND(AD8=L8,OR(AD7>L7,AND(AD7=L7,AD4<L4)))))),1,0)+IF(AND(AG8>0,IF($E$4="Avalanche",OR(AG7>L7,AND(AG7=L7,OR(AG8<L8,AND(AG8=L8,AG4<L4)))),OR(AG8<L8,AND(AG8=L8,OR(AG7>L7,AND(AG7=L7,AG4<L4)))))),1,0)+IF(AND(AJ8>0,IF($E$4="Avalanche",OR(AJ7>L7,AND(AJ7=L7,OR(AJ8<L8,AND(AJ8=L8,AJ4<L4)))),OR(AJ8<L8,AND(AJ8=L8,OR(AJ7>L7,AND(AJ7=L7,AJ4<L4)))))),1,0),0) -> 3 | O5: =IF(O8>0,1+IF(AND(I8>0,IF($E$4="Avalanche",OR(I7>O7,AND(I7=O7,OR(I8<O8,AND(I8=O8,I4<=O4)))),OR(I8<O8,AND(I8=O8,OR(I7>O7,AND(I7=O7,I4<=O4)))))),1,0)+IF(AND(L8>0,IF($E$4="Avalanche",OR(L7>O7,AND(L7=O7,OR(L8<O8,AND(L8=O8,L4<=O4)))),OR(L8<O8,AND(L8=O8,OR(L7>O7,AND(L7=O7,L4<=O4)))))),1,0)+IF(AND(R8>0,IF($E$4="Avalanche",OR(R7>O7,AND(R7=O7,OR(R8<O8,AND(R8=O8,R4<O4)))),OR(R8<O8,AND(R8=O8,OR(R7>O7,AND(R7=O7,R4<O4)))))),1,0)+IF(AND(U8>0,IF($E$4="Avalanche",OR(U7>O7,AND(U7=O7,OR(U8<O8,AND(U8=O8,U4<O4)))),OR(U8<O8,AND(U8=O8,OR(U7>O7,AND(U7=O7,U4<O4)))))),1,0)+IF(AND(X8>0,IF($E$4="Avalanche",OR(X7>O7,AND(X7=O7,OR(X8<O8,AND(X8=O8,X4<O4)))),OR(X8<O8,AND(X8=O8,OR(X7>O7,AND(X7=O7,X4<O4)))))),1,0)+IF(AND(AA8>0,IF($E$4="Avalanche",OR(AA7>O7,AND(AA7=O7,OR(AA8<O8,AND(AA8=O8,AA4<O4)))),OR(AA8<O8,AND(AA8=O8,OR(AA7>O7,AND(AA7=O7,AA4<O4)))))),1,0)+IF(AND(AD8>0,IF($E$4="Avalanche",OR(AD7>O7,AND(AD7=O7,OR(AD8<O8,AND(AD8=O8,AD4<O4)))),OR(AD8<O8,AND(AD8=O8,OR(AD7>O7,AND(AD7=O7,AD4<O4)))))),1,0)+IF(AND(AG8>0,IF($E$4="Avalanche",OR(AG7>O7,AND(AG7=O7,OR(AG8<O8,AND(AG8=O8,AG4<O4)))),OR(AG8<O8,AND(AG8=O8,OR(AG7>O7,AND(AG7=O7,AG4<O4)))))),1,0)+IF(AND(AJ8>0,IF($E$4="Avalanche",OR(AJ7>O7,AND(AJ7=O7,OR(AJ8<O8,AND(AJ8=O8,AJ4<O4)))),OR(AJ8<O8,AND(AJ8=O8,OR(AJ7>O7,AND(AJ7=O7,AJ4<O4)))))),1,0),0) -> 1 | R5: =IF(R8>0,1+IF(AND(I8>0,IF($E$4="Avalanche",OR(I7>R7,AND(I7=R7,OR(I8<R8,AND(I8=R8,I4<=R4)))),OR(I8<R8,AND(I8=R8,OR(I7>R7,AND(I7=R7,I4<=R4)))))),1,0)+IF(AND(L8>0,IF($E$4="Avalanche",OR(L7>R7,AND(L7=R7,OR(L8<R8,AND(L8=R8,L4<=R4)))),OR(L8<R8,AND(L8=R8,OR(L7>R7,AND(L7=R7,L4<=R4)))))),1,0)+IF(AND(O8>0,IF($E$4="Avalanche",OR(O7>R7,AND(O7=R7,OR(O8<R8,AND(O8=R8,O4<=R4)))),OR(O8<R8,AND(O8=R8,OR(O7>R7,AND(O7=R7,O4<=R4)))))),1,0)+IF(AND(U8>0,IF($E$4="Avalanche",OR(U7>R7,AND(U7=R7,OR(U8<R8,AND(U8=R8,U4<R4)))),OR(U8<R8,AND(U8=R8,OR(U7>R7,AND(U7=R7,U4<R4)))))),1,0)+IF(AND(X8>0,IF($E$4="Avalanche",OR(X7>R7,AND(X7=R7,OR(X8<R8,AND(X8=R8,X4<R4)))),OR(X8<R8,AND(X8=R8,OR(X7>R7,AND(X7=R7,X4<R4)))))),1,0)+IF(AND(AA8>0,IF($E$4="Avalanche",OR(AA7>R7,AND(AA7=R7,OR(AA8<R8,AND(AA8=R8,AA4<R4)))),OR(AA8<R8,AND(AA8=R8,OR(AA7>R7,AND(AA7=R7,AA4<R4)))))),1,0)+IF(AND(AD8>0,IF($E$4="Avalanche",OR(AD7>R7,AND(AD7=R7,OR(AD8<R8,AND(AD8=R8,AD4<R4)))),OR(AD8<R8,AND(AD8=R8,OR(AD7>R7,AND(AD7=R7,AD4<R4)))))),1,0)+IF(AND(AG8>0,IF($E$4="Avalanche",OR(AG7>R7,AND(AG7=R7,OR(AG8<R8,AND(AG8=R8,AG4<R4)))),OR(AG8<R8,AND(AG8=R8,OR(AG7>R7,AND(AG7=R7,AG4<R4)))))),1,0)+IF(AND(AJ8>0,IF($E$4="Avalanche",OR(AJ7>R7,AND(AJ7=R7,OR(AJ8<R8,AND(AJ8=R8,AJ4<R4)))),OR(AJ8<R8,AND(AJ8=R8,OR(AJ7>R7,AND(AJ7=R7,AJ4<R4)))))),1,0),0) -> 0 | U5: =IF(U8>0,1+IF(AND(I8>0,IF($E$4="Avalanche",OR(I7>U7,AND(I7=U7,OR(I8<U8,AND(I8=U8,I4<=U4)))),OR(I8<U8,AND(I8=U8,OR(I7>U7,AND(I7=U7,I4<=U4)))))),1,0)+IF(AND(L8>0,IF($E$4="Avalanche",OR(L7>U7,AND(L7=U7,OR(L8<U8,AND(L8=U8,L4<=U4)))),OR(L8<U8,AND(L8=U8,OR(L7>U7,AND(L7=U7,L4<=U4)))))),1,0)+IF(AND(O8>0,IF($E$4="Avalanche",OR(O7>U7,AND(O7=U7,OR(O8<U8,AND(O8=U8,O4<=U4)))),OR(O8<U8,AND(O8=U8,OR(O7>U7,AND(O7=U7,O4<=U4)))))),1,0)+IF(AND(R8>0,IF($E$4="Avalanche",OR(R7>U7,AND(R7=U7,OR(R8<U8,AND(R8=U8,R4<=U4)))),OR(R8<U8,AND(R8=U8,OR(R7>U7,AND(R7=U7,R4<=U4)))))),1,0)+IF(AND(X8>0,IF($E$4="Avalanche",OR(X7>U7,AND(X7=U7,OR(X8<U8,AND(X8=U8,X4<U4)))),OR(X8<U8,AND(X8=U8,OR(X7>U7,AND(X7=U7,X4<U4)))))),1,0)+IF(AND(AA8>0,IF($E$4="Avalanche",OR(AA7>U7,AND(AA7=U7,OR(AA8<U8,AND(AA8=U8,AA4<U4)))),OR(AA8<U8,AND(AA8=U8,OR(AA7>U7,AND(AA7=U7,AA4<U4)))))),1,0)+IF(AND(AD8>0,IF($E$4="Avalanche",OR(AD7>U7,AND(AD7=U7,OR(AD8<U8,AND(AD8=U8,AD4<U4)))),OR(AD8<U8,AND(AD8=U8,OR(AD7>U7,AND(AD7=U7,AD4<U4)))))),1,0)+IF(AND(AG8>0,IF($E$4="Avalanche",OR(AG7>U7,AND(AG7=U7,OR(AG8<U8,AND(AG8=U8,AG4<U4)))),OR(AG8<U8,AND(AG8=U8,OR(AG7>U7,AND(AG7=U7,AG4<U4)))))),1,0)+IF(AND(AJ8>0,IF($E$4="Avalanche",OR(AJ7>U7,AND(AJ7=U7,OR(AJ8<U8,AND(AJ8=U8,AJ4<U4)))),OR(AJ8<U8,AND(AJ8=U8,OR(AJ7>U7,AND(AJ7=U7,AJ4<U4)))))),1,0),0) -> 0 | X5: =IF(X8>0,1+IF(AND(I8>0,IF($E$4="Avalanche",OR(I7>X7,AND(I7=X7,OR(I8<X8,AND(I8=X8,I4<=X4)))),OR(I8<X8,AND(I8=X8,OR(I7>X7,AND(I7=X7,I4<=X4)))))),1,0)+IF(AND(L8>0,IF($E$4="Avalanche",OR(L7>X7,AND(L7=X7,OR(L8<X8,AND(L8=X8,L4<=X4)))),OR(L8<X8,AND(L8=X8,OR(L7>X7,AND(L7=X7,L4<=X4)))))),1,0)+IF(AND(O8>0,IF($E$4="Avalanche",OR(O7>X7,AND(O7=X7,OR(O8<X8,AND(O8=X8,O4<=X4)))),OR(O8<X8,AND(O8=X8,OR(O7>X7,AND(O7=X7,O4<=X4)))))),1,0)+IF(AND(R8>0,IF($E$4="Avalanche",OR(R7>X7,AND(R7=X7,OR(R8<X8,AND(R8=X8,R4<=X4)))),OR(R8<X8,AND(R8=X8,OR(R7>X7,AND(R7=X7,R4<=X4)))))),1,0)+IF(AND(U8>0,IF($E$4="Avalanche",OR(U7>X7,AND(U7=X7,OR(U8<X8,AND(U8=X8,U4<=X4)))),OR(U8<X8,AND(U8=X8,OR(U7>X7,AND(U7=X7,U4<=X4)))))),1,0)+IF(AND(AA8>0,IF($E$4="Avalanche",OR(AA7>X7,AND(AA7=X7,OR(AA8<X8,AND(AA8=X8,AA4<X4)))),OR(AA8<X8,AND(AA8=X8,OR(AA7>X7,AND(AA7=X7,AA4<X4)))))),1,0)+IF(AND(AD8>0,IF($E$4="Avalanche",OR(AD7>X7,AND(AD7=X7,OR(AD8<X8,AND(AD8=X8,AD4<X4)))),OR(AD8<X8,AND(AD8=X8,OR(AD7>X7,AND(AD7=X7,AD4<X4)))))),1,0)+IF(AND(AG8>0,IF($E$4="Avalanche",OR(AG7>X7,AND(AG7=X7,OR(AG8<X8,AND(AG8=X8,AG4<X4)))),OR(AG8<X8,AND(AG8=X8,OR(AG7>X7,AND(AG7=X7,AG4<X4)))))),1,0)+IF(AND(AJ8>0,IF($E$4="Avalanche",OR(AJ7>X7,AND(AJ7=X7,OR(AJ8<X8,AND(AJ8=X8,AJ4<X4)))),OR(AJ8<X8,AND(AJ8=X8,OR(AJ7>X7,AND(AJ7=X7,AJ4<X4)))))),1,0),0) -> 0 | AA5: =IF(AA8>0,1+IF(AND(I8>0,IF($E$4="Avalanche",OR(I7>AA7,AND(I7=AA7,OR(I8<AA8,AND(I8=AA8,I4<=AA4)))),OR(I8<AA8,AND(I8=AA8,OR(I7>AA7,AND(I7=AA7,I4<=AA4)))))),1,0)+IF(AND(L8>0,IF($E$4="Avalanche",OR(L7>AA7,AND(L7=AA7,OR(L8<AA8,AND(L8=AA8,L4<=AA4)))),OR(L8<AA8,AND(L8=AA8,OR(L7>AA7,AND(L7=AA7,L4<=AA4)))))),1,0)+IF(AND(O8>0,IF($E$4="Avalanche",OR(O7>AA7,AND(O7=AA7,OR(O8<AA8,AND(O8=AA8,O4<=AA4)))),OR(O8<AA8,AND(O8=AA8,OR(O7>AA7,AND(O7=AA7,O4<=AA4)))))),1,0)+IF(AND(R8>0,IF($E$4="Avalanche",OR(R7>AA7,AND(R7=AA7,OR(R8<AA8,AND(R8=AA8,R4<=AA4)))),OR(R8<AA8,AND(R8=AA8,OR(R7>AA7,AND(R7=AA7,R4<=AA4)))))),1,0)+IF(AND(U8>0,IF($E$4="Avalanche",OR(U7>AA7,AND(U7=AA7,OR(U8<AA8,AND(U8=AA8,U4<=AA4)))),OR(U8<AA8,AND(U8=AA8,OR(U7>AA7,AND(U7=AA7,U4<=AA4)))))),1,0)+IF(AND(X8>0,IF($E$4="Avalanche",OR(X7>AA7,AND(X7=AA7,OR(X8<AA8,AND(X8=AA8,X4<=AA4)))),OR(X8<AA8,AND(X8=AA8,OR(X7>AA7,AND(X7=AA7,X4<=AA4)))))),1,0)+IF(AND(AD8>0,IF($E$4="Avalanche",OR(AD7>AA7,AND(AD7=AA7,OR(AD8<AA8,AND(AD8=AA8,AD4<AA4)))),OR(AD8<AA8,AND(AD8=AA8,OR(AD7>AA7,AND(AD7=AA7,AD4<AA4)))))),1,0)+IF(AND(AG8>0,IF($E$4="Avalanche",OR(AG7>AA7,AND(AG7=AA7,OR(AG8<AA8,AND(AG8=AA8,AG4<AA4)))),OR(AG8<AA8,AND(AG8=AA8,OR(AG7>AA7,AND(AG7=AA7,AG4<AA4)))))),1,0)+IF(AND(AJ8>0,IF($E$4="Avalanche",OR(AJ7>AA7,AND(AJ7=AA7,OR(AJ8<AA8,AND(AJ8=AA8,AJ4<AA4)))),OR(AJ8<AA8,AND(AJ8=AA8,OR(AJ7>AA7,AND(AJ7=AA7,AJ4<AA4)))))),1,0),0) -> 0 | AD5: =IF(AD8>0,1+IF(AND(I8>0,IF($E$4="Avalanche",OR(I7>AD7,AND(I7=AD7,OR(I8<AD8,AND(I8=AD8,I4<=AD4)))),OR(I8<AD8,AND(I8=AD8,OR(I7>AD7,AND(I7=AD7,I4<=AD4)))))),1,0)+IF(AND(L8>0,IF($E$4="Avalanche",OR(L7>AD7,AND(L7=AD7,OR(L8<AD8,AND(L8=AD8,L4<=AD4)))),OR(L8<AD8,AND(L8=AD8,OR(L7>AD7,AND(L7=AD7,L4<=AD4)))))),1,0)+IF(AND(O8>0,IF($E$4="Avalanche",OR(O7>AD7,AND(O7=AD7,OR(O8<AD8,AND(O8=AD8,O4<=AD4)))),OR(O8<AD8,AND(O8=AD8,OR(O7>AD7,AND(O7=AD7,O4<=AD4)))))),1,0)+IF(AND(R8>0,IF($E$4="Avalanche",OR(R7>AD7,AND(R7=AD7,OR(R8<AD8,AND(R8=AD8,R4<=AD4)))),OR(R8<AD8,AND(R8=AD8,OR(R7>AD7,AND(R7=AD7,R4<=AD4)))))),1,0)+IF(AND(U8>0,IF($E$4="Avalanche",OR(U7>AD7,AND(U7=AD7,OR(U8<AD8,AND(U8=AD8,U4<=AD4)))),OR(U8<AD8,AND(U8=AD8,OR(U7>AD7,AND(U7=AD7,U4<=AD4)))))),1,0)+IF(AND(X8>0,IF($E$4="Avalanche",OR(X7>AD7,AND(X7=AD7,OR(X8<AD8,AND(X8=AD8,X4<=AD4)))),OR(X8<AD8,AND(X8=AD8,OR(X7>AD7,AND(X7=AD7,X4<=AD4)))))),1,0)+IF(AND(AA8>0,IF($E$4="Avalanche",OR(AA7>AD7,AND(AA7=AD7,OR(AA8<AD8,AND(AA8=AD8,AA4<=AD4)))),OR(AA8<AD8,AND(AA8=AD8,OR(AA7>AD7,AND(AA7=AD7,AA4<=AD4)))))),1,0)+IF(AND(AG8>0,IF($E$4="Avalanche",OR(AG7>AD7,AND(AG7=AD7,OR(AG8<AD8,AND(AG8=AD8,AG4<AD4)))),OR(AG8<AD8,AND(AG8=AD8,OR(AG7>AD7,AND(AG7=AD7,AG4<AD4)))))),1,0)+IF(AND(AJ8>0,IF($E$4="Avalanche",OR(AJ7>AD7,AND(AJ7=AD7,OR(AJ8<AD8,AND(AJ8=AD8,AJ4<AD4)))),OR(AJ8<AD8,AND(AJ8=AD8,OR(AJ7>AD7,AND(AJ7=AD7,AJ4<AD4)))))),1,0),0) -> 0 | AG5: =IF(AG8>0,1+IF(AND(I8>0,IF($E$4="Avalanche",OR(I7>AG7,AND(I7=AG7,OR(I8<AG8,AND(I8=AG8,I4<=AG4)))),OR(I8<AG8,AND(I8=AG8,OR(I7>AG7,AND(I7=AG7,I4<=AG4)))))),1,0)+IF(AND(L8>0,IF($E$4="Avalanche",OR(L7>AG7,AND(L7=AG7,OR(L8<AG8,AND(L8=AG8,L4<=AG4)))),OR(L8<AG8,AND(L8=AG8,OR(L7>AG7,AND(L7=AG7,L4<=AG4)))))),1,0)+IF(AND(O8>0,IF($E$4="Avalanche",OR(O7>AG7,AND(O7=AG7,OR(O8<AG8,AND(O8=AG8,O4<=AG4)))),OR(O8<AG8,AND(O8=AG8,OR(O7>AG7,AND(O7=AG7,O4<=AG4)))))),1,0)+IF(AND(R8>0,IF($E$4="Avalanche",OR(R7>AG7,AND(R7=AG7,OR(R8<AG8,AND(R8=AG8,R4<=AG4)))),OR(R8<AG8,AND(R8=AG8,OR(R7>AG7,AND(R7=AG7,R4<=AG4)))))),1,0)+IF(AND(U8>0,IF($E$4="Avalanche",OR(U7>AG7,AND(U7=AG7,OR(U8<AG8,AND(U8=AG8,U4<=AG4)))),OR(U8<AG8,AND(U8=AG8,OR(U7>AG7,AND(U7=AG7,U4<=AG4)))))),1,0)+IF(AND(X8>0,IF($E$4="Avalanche",OR(X7>AG7,AND(X7=AG7,OR(X8<AG8,AND(X8=AG8,X4<=AG4)))),OR(X8<AG8,AND(X8=AG8,OR(X7>AG7,AND(X7=AG7,X4<=AG4)))))),1,0)+IF(AND(AA8>0,IF($E$4="Avalanche",OR(AA7>AG7,AND(AA7=AG7,OR(AA8<AG8,AND(AA8=AG8,AA4<=AG4)))),OR(AA8<AG8,AND(AA8=AG8,OR(AA7>AG7,AND(AA7=AG7,AA4<=AG4)))))),1,0)+IF(AND(AD8>0,IF($E$4="Avalanche",OR(AD7>AG7,AND(AD7=AG7,OR(AD8<AG8,AND(AD8=AG8,AD4<=AG4)))),OR(AD8<AG8,AND(AD8=AG8,OR(AD7>AG7,AND(AD7=AG7,AD4<=AG4)))))),1,0)+IF(AND(AJ8>0,IF($E$4="Avalanche",OR(AJ7>AG7,AND(AJ7=AG7,OR(AJ8<AG8,AND(AJ8=AG8,AJ4<AG4)))),OR(AJ8<AG8,AND(AJ8=AG8,OR(AJ7>AG7,AND(AJ7=AG7,AJ4<AG4)))))),1,0),0) -> 0 | AJ5: =IF(AJ8>0,1+IF(AND(I8>0,IF($E$4="Avalanche",OR(I7>AJ7,AND(I7=AJ7,OR(I8<AJ8,AND(I8=AJ8,I4<=AJ4)))),OR(I8<AJ8,AND(I8=AJ8,OR(I7>AJ7,AND(I7=AJ7,I4<=AJ4)))))),1,0)+IF(AND(L8>0,IF($E$4="Avalanche",OR(L7>AJ7,AND(L7=AJ7,OR(L8<AJ8,AND(L8=AJ8,L4<=AJ4)))),OR(L8<AJ8,AND(L8=AJ8,OR(L7>AJ7,AND(L7=AJ7,L4<=AJ4)))))),1,0)+IF(AND(O8>0,IF($E$4="Avalanche",OR(O7>AJ7,AND(O7=AJ7,OR(O8<AJ8,AND(O8=AJ8,O4<=AJ4)))),OR(O8<AJ8,AND(O8=AJ8,OR(O7>AJ7,AND(O7=AJ7,O4<=AJ4)))))),1,0)+IF(AND(R8>0,IF($E$4="Avalanche",OR(R7>AJ7,AND(R7=AJ7,OR(R8<AJ8,AND(R8=AJ8,R4<=AJ4)))),OR(R8<AJ8,AND(R8=AJ8,OR(R7>AJ7,AND(R7=AJ7,R4<=AJ4)))))),1,0)+IF(AND(U8>0,IF($E$4="Avalanche",OR(U7>AJ7,AND(U7=AJ7,OR(U8<AJ8,AND(U8=AJ8,U4<=AJ4)))),OR(U8<AJ8,AND(U8=AJ8,OR(U7>AJ7,AND(U7=AJ7,U4<=AJ4)))))),1,0)+IF(AND(X8>0,IF($E$4="Avalanche",OR(X7>AJ7,AND(X7=AJ7,OR(X8<AJ8,AND(X8=AJ8,X4<=AJ4)))),OR(X8<AJ8,AND(X8=AJ8,OR(X7>AJ7,AND(X7=AJ7,X4<=AJ4)))))),1,0)+IF(AND(AA8>0,IF($E$4="Avalanche",OR(AA7>AJ7,AND(AA7=AJ7,OR(AA8<AJ8,AND(AA8=AJ8,AA4<=AJ4)))),OR(AA8<AJ8,AND(AA8=AJ8,OR(AA7>AJ7,AND(AA7=AJ7,AA4<=AJ4)))))),1,0)+IF(AND(AD8>0,IF($E$4="Avalanche",OR(AD7>AJ7,AND(AD7=AJ7,OR(AD8<AJ8,AND(AD8=AJ8,AD4<=AJ4)))),OR(AD8<AJ8,AND(AD8=AJ8,OR(AD7>AJ7,AND(AD7=AJ7,AD4<=AJ4)))))),1,0)+IF(AND(AG8>0,IF($E$4="Avalanche",OR(AG7>AJ7,AND(AG7=AJ7,OR(AG8<AJ8,AND(AG8=AJ8,AG4<=AJ4)))),OR(AG8<AJ8,AND(AG8=AJ8,OR(AG7>AJ7,AND(AG7=AJ7,AG4<=AJ4)))))),1,0),0) -> 0
D6: Start date | E6: =Plan!C7 -> 46300 | H6: Minimum | I6: =IF(I8>0,MAX(0,IFERROR(ROUND(Plan!E19,2),0)),0) -> 95 | L6: =IF(L8>0,MAX(0,IFERROR(ROUND(Plan!E20,2),0)),0) -> 210 | O6: =IF(O8>0,MAX(0,IFERROR(ROUND(Plan!E21,2),0)),0) -> 25 | R6: =IF(R8>0,MAX(0,IFERROR(ROUND(Plan!E22,2),0)),0) -> 0 | U6: =IF(U8>0,MAX(0,IFERROR(ROUND(Plan!E23,2),0)),0) -> 0 | X6: =IF(X8>0,MAX(0,IFERROR(ROUND(Plan!E24,2),0)),0) -> 0 | AA6: =IF(AA8>0,MAX(0,IFERROR(ROUND(Plan!E25,2),0)),0) -> 0 | AD6: =IF(AD8>0,MAX(0,IFERROR(ROUND(Plan!E26,2),0)),0) -> 0 | AG6: =IF(AG8>0,MAX(0,IFERROR(ROUND(Plan!E27,2),0)),0) -> 0 | AJ6: =IF(AJ8>0,MAX(0,IFERROR(ROUND(Plan!E28,2),0)),0) -> 0
H7: APR % | I7: =IF(I8>0,MAX(0,IFERROR(ROUND(Plan!D19,4),0)),0) -> 24.99 | L7: =IF(L8>0,MAX(0,IFERROR(ROUND(Plan!D20,4),0)),0) -> 6.5 | O7: =IF(O8>0,MAX(0,IFERROR(ROUND(Plan!D21,4),0)),0) -> 0 | R7: =IF(R8>0,MAX(0,IFERROR(ROUND(Plan!D22,4),0)),0) -> 0 | U7: =IF(U8>0,MAX(0,IFERROR(ROUND(Plan!D23,4),0)),0) -> 0 | X7: =IF(X8>0,MAX(0,IFERROR(ROUND(Plan!D24,4),0)),0) -> 0 | AA7: =IF(AA8>0,MAX(0,IFERROR(ROUND(Plan!D25,4),0)),0) -> 0 | AD7: =IF(AD8>0,MAX(0,IFERROR(ROUND(Plan!D26,4),0)),0) -> 0 | AG7: =IF(AG8>0,MAX(0,IFERROR(ROUND(Plan!D27,4),0)),0) -> 0 | AJ7: =IF(AJ8>0,MAX(0,IFERROR(ROUND(Plan!D28,4),0)),0) -> 0
H8: Starting balance | I8: =MAX(0,IFERROR(ROUND(Plan!C19,2),0)) -> 3250 | L8: =MAX(0,IFERROR(ROUND(Plan!C20,2),0)) -> 8400 | O8: =MAX(0,IFERROR(ROUND(Plan!C21,2),0)) -> 640 | R8: =MAX(0,IFERROR(ROUND(Plan!C22,2),0)) -> 0 | U8: =MAX(0,IFERROR(ROUND(Plan!C23,2),0)) -> 0 | X8: =MAX(0,IFERROR(ROUND(Plan!C24,2),0)) -> 0 | AA8: =MAX(0,IFERROR(ROUND(Plan!C25,2),0)) -> 0 | AD8: =MAX(0,IFERROR(ROUND(Plan!C26,2),0)) -> 0 | AG8: =MAX(0,IFERROR(ROUND(Plan!C27,2),0)) -> 0 | AJ8: =MAX(0,IFERROR(ROUND(Plan!C28,2),0)) -> 0
H9: Check | I9: =IF(I8>0,IF(I6<=0,"No minimum",IF(I11<=J11,"Too low","OK")),"") -> OK | L9: =IF(L8>0,IF(L6<=0,"No minimum",IF(L11<=M11,"Too low","OK")),"") -> OK | O9: =IF(O8>0,IF(O6<=0,"No minimum",IF(O11<=P11,"Too low","OK")),"") -> OK | R9: =IF(R8>0,IF(R6<=0,"No minimum",IF(R11<=S11,"Too low","OK")),"") | U9: =IF(U8>0,IF(U6<=0,"No minimum",IF(U11<=V11,"Too low","OK")),"") | X9: =IF(X8>0,IF(X6<=0,"No minimum",IF(X11<=Y11,"Too low","OK")),"") | AA9: =IF(AA8>0,IF(AA6<=0,"No minimum",IF(AA11<=AB11,"Too low","OK")),"") | AD9: =IF(AD8>0,IF(AD6<=0,"No minimum",IF(AD11<=AE11,"Too low","OK")),"") | AG9: =IF(AG8>0,IF(AG6<=0,"No minimum",IF(AG11<=AH11,"Too low","OK")),"") | AJ9: =IF(AJ8>0,IF(AJ6<=0,"No minimum",IF(AJ11<=AK11,"Too low","OK")),"")
A10: Month | B10: Date | C10: Extra to # | D10: Extra goes to | E10: Rolled over | F10: Paid | G10: Interest | H10: Balance left | I10: Payment | J10: Interest | K10: Balance | L10: Payment | M10: Interest | N10: Balance | O10: Payment | P10: Interest | Q10: Balance | R10: Payment | S10: Interest | T10: Balance | U10: Payment | V10: Interest | W10: Balance | X10: Payment | Y10: Interest | Z10: Balance | AA10: Payment | AB10: Interest | AC10: Balance | AD10: Payment | AE10: Interest | AF10: Balance | AG10: Payment | AH10: Interest | AI10: Balance | AJ10: Payment | AK10: Interest | AL10: Balance
A11: =IF(F11>0,1,"") -> 1 | B11: =IF(F11>0,EDATE($E$6,1),"") -> 46331 | C11: =IF(SUM($I$8:$AL$8)>0,MIN(IF(I$8>0,I$5,99),IF(L$8>0,L$5,99),IF(O$8>0,O$5,99),IF(R$8>0,R$5,99),IF(U$8>0,U$5,99),IF(X$8>0,X$5,99),IF(AA$8>0,AA$5,99),IF(AD$8>0,AD$5,99),IF(AG$8>0,AG$5,99),IF(AJ$8>0,AJ$5,99)),0) -> 1 | D11: =IF(C11>0,INDEX($I$4:$AL$4,1,MATCH(C11,$I$5:$AL$5,0)),"") -> Medical bill | E11: =ROUND(IF(AND(I$8>0,I$8=0),I$6,0)+IF(AND(L$8>0,L$8=0),L$6,0)+IF(AND(O$8>0,O$8=0),O$6,0)+IF(AND(R$8>0,R$8=0),R$6,0)+IF(AND(U$8>0,U$8=0),U$6,0)+IF(AND(X$8>0,X$8=0),X$6,0)+IF(AND(AA$8>0,AA$8=0),AA$6,0)+IF(AND(AD$8>0,AD$8=0),AD$6,0)+IF(AND(AG$8>0,AG$8=0),AG$6,0)+IF(AND(AJ$8>0,AJ$8=0),AJ$6,0),2) -> 0 | F11: =ROUND(I11+L11+O11+R11+U11+X11+AA11+AD11+AG11+AJ11,2) -> 480 | G11: =ROUND(J11+M11+P11+S11+V11+Y11+AB11+AE11+AH11+AK11,2) -> 113.18 | H11: =ROUND(K11+N11+Q11+T11+W11+Z11+AC11+AF11+AI11+AL11,2) -> 11923.18 | I11: =IF(I$8>0,MIN(ROUND(I$6+IF(I$5=$C11,$E$5+$E11,0),2),ROUND(I$8+J11,2)),0) -> 95 | J11: =IF(I$8>0,ROUND(ROUND(I$8*100,0)*ROUND(I$7*10000,0)/12000000,0)/100,0) -> 67.68 | K11: =IF(I$8>0,ROUND(I$8+J11-I11,2),0) -> 3222.68 | L11: =IF(L$8>0,MIN(ROUND(L$6+IF(L$5=$C11,$E$5+$E11,0),2),ROUND(L$8+M11,2)),0) -> 210 | M11: =IF(L$8>0,ROUND(ROUND(L$8*100,0)*ROUND(L$7*10000,0)/12000000,0)/100,0) -> 45.5 | N11: =IF(L$8>0,ROUND(L$8+M11-L11,2),0) -> 8235.5 | O11: =IF(O$8>0,MIN(ROUND(O$6+IF(O$5=$C11,$E$5+$E11,0),2),ROUND(O$8+P11,2)),0) -> 175 | P11: =IF(O$8>0,ROUND(ROUND(O$8*100,0)*ROUND(O$7*10000,0)/12000000,0)/100,0) -> 0 | Q11: =IF(O$8>0,ROUND(O$8+P11-O11,2),0) -> 465 | R11: =IF(R$8>0,MIN(ROUND(R$6+IF(R$5=$C11,$E$5+$E11,0),2),ROUND(R$8+S11,2)),0) -> 0 | S11: =IF(R$8>0,ROUND(ROUND(R$8*100,0)*ROUND(R$7*10000,0)/12000000,0)/100,0) -> 0 | T11: =IF(R$8>0,ROUND(R$8+S11-R11,2),0) -> 0 | U11: =IF(U$8>0,MIN(ROUND(U$6+IF(U$5=$C11,$E$5+$E11,0),2),ROUND(U$8+V11,2)),0) -> 0 | V11: =IF(U$8>0,ROUND(ROUND(U$8*100,0)*ROUND(U$7*10000,0)/12000000,0)/100,0) -> 0 | W11: =IF(U$8>0,ROUND(U$8+V11-U11,2),0) -> 0 | X11: =IF(X$8>0,MIN(ROUND(X$6+IF(X$5=$C11,$E$5+$E11,0),2),ROUND(X$8+Y11,2)),0) -> 0 | Y11: =IF(X$8>0,ROUND(ROUND(X$8*100,0)*ROUND(X$7*10000,0)/12000000,0)/100,0) -> 0 | Z11: =IF(X$8>0,ROUND(X$8+Y11-X11,2),0) -> 0 | AA11: =IF(AA$8>0,MIN(ROUND(AA$6+IF(AA$5=$C11,$E$5+$E11,0),2),ROUND(AA$8+AB11,2)),0) -> 0 | AB11: =IF(AA$8>0,ROUND(ROUND(AA$8*100,0)*ROUND(AA$7*10000,0)/12000000,0)/100,0) -> 0 | AC11: =IF(AA$8>0,ROUND(AA$8+AB11-AA11,2),0) -> 0 | AD11: =IF(AD$8>0,MIN(ROUND(AD$6+IF(AD$5=$C11,$E$5+$E11,0),2),ROUND(AD$8+AE11,2)),0) -> 0 | AE11: =IF(AD$8>0,ROUND(ROUND(AD$8*100,0)*ROUND(AD$7*10000,0)/12000000,0)/100,0) -> 0 | AF11: =IF(AD$8>0,ROUND(AD$8+AE11-AD11,2),0) -> 0 | AG11: =IF(AG$8>0,MIN(ROUND(AG$6+IF(AG$5=$C11,$E$5+$E11,0),2),ROUND(AG$8+AH11,2)),0) -> 0 | AH11: =IF(AG$8>0,ROUND(ROUND(AG$8*100,0)*ROUND(AG$7*10000,0)/12000000,0)/100,0) -> 0 | AI11: =IF(AG$8>0,ROUND(AG$8+AH11-AG11,2),0) -> 0 | AJ11: =IF(AJ$8>0,MIN(ROUND(AJ$6+IF(AJ$5=$C11,$E$5+$E11,0),2),ROUND(AJ$8+AK11,2)),0) -> 0 | AK11: =IF(AJ$8>0,ROUND(ROUND(AJ$8*100,0)*ROUND(AJ$7*10000,0)/12000000,0)/100,0) -> 0 | AL11: =IF(AJ$8>0,ROUND(AJ$8+AK11-AJ11,2),0) -> 0
A12: =IF(F12>0,2,"") -> 2 | B12: =IF(F12>0,EDATE($E$6,2),"") -> 46361 | C12: =IF(H11>0,MIN(IF(K11>0,I$5,99),IF(N11>0,L$5,99),IF(Q11>0,O$5,99),IF(T11>0,R$5,99),IF(W11>0,U$5,99),IF(Z11>0,X$5,99),IF(AC11>0,AA$5,99),IF(AF11>0,AD$5,99),IF(AI11>0,AG$5,99),IF(AL11>0,AJ$5,99)),0) -> 1 | D12: =IF(C12>0,INDEX($I$4:$AL$4,1,MATCH(C12,$I$5:$AL$5,0)),"") -> Medical bill | E12: =ROUND(IF(AND(I$8>0,K11=0),I$6,0)+IF(AND(L$8>0,N11=0),L$6,0)+IF(AND(O$8>0,Q11=0),O$6,0)+IF(AND(R$8>0,T11=0),R$6,0)+IF(AND(U$8>0,W11=0),U$6,0)+IF(AND(X$8>0,Z11=0),X$6,0)+IF(AND(AA$8>0,AC11=0),AA$6,0)+IF(AND(AD$8>0,AF11=0),AD$6,0)+IF(AND(AG$8>0,AI11=0),AG$6,0)+IF(AND(AJ$8>0,AL11=0),AJ$6,0),2) -> 0 | F12: =ROUND(I12+L12+O12+R12+U12+X12+AA12+AD12+AG12+AJ12,2) -> 480 | G12: =ROUND(J12+M12+P12+S12+V12+Y12+AB12+AE12+AH12+AK12,2) -> 111.72 | H12: =ROUND(K12+N12+Q12+T12+W12+Z12+AC12+AF12+AI12+AL12,2) -> 11554.9 | I12: =IF(K11>0,MIN(ROUND(I$6+IF(I$5=$C12,$E$5+$E12,0),2),ROUND(K11+J12,2)),0) -> 95 | J12: =IF(K11>0,ROUND(ROUND(K11*100,0)*ROUND(I$7*10000,0)/12000000,0)/100,0) -> 67.11 | K12: =IF(K11>0,ROUND(K11+J12-I12,2),0) -> 3194.79 | L12: =IF(N11>0,MIN(ROUND(L$6+IF(L$5=$C12,$E$5+$E12,0),2),ROUND(N11+M12,2)),0) -> 210 | M12: =IF(N11>0,ROUND(ROUND(N11*100,0)*ROUND(L$7*10000,0)/12000000,0)/100,0) -> 44.61 | N12: =IF(N11>0,ROUND(N11+M12-L12,2),0) -> 8070.11 | O12: =IF(Q11>0,MIN(ROUND(O$6+IF(O$5=$C12,$E$5+$E12,0),2),ROUND(Q11+P12,2)),0) -> 175 | P12: =IF(Q11>0,ROUND(ROUND(Q11*100,0)*ROUND(O$7*10000,0)/12000000,0)/100,0) -> 0 | Q12: =IF(Q11>0,ROUND(Q11+P12-O12,2),0) -> 290 | R12: =IF(T11>0,MIN(ROUND(R$6+IF(R$5=$C12,$E$5+$E12,0),2),ROUND(T11+S12,2)),0) -> 0 | S12: =IF(T11>0,ROUND(ROUND(T11*100,0)*ROUND(R$7*10000,0)/12000000,0)/100,0) -> 0 | T12: =IF(T11>0,ROUND(T11+S12-R12,2),0) -> 0 | U12: =IF(W11>0,MIN(ROUND(U$6+IF(U$5=$C12,$E$5+$E12,0),2),ROUND(W11+V12,2)),0) -> 0 | V12: =IF(W11>0,ROUND(ROUND(W11*100,0)*ROUND(U$7*10000,0)/12000000,0)/100,0) -> 0 | W12: =IF(W11>0,ROUND(W11+V12-U12,2),0) -> 0 | X12: =IF(Z11>0,MIN(ROUND(X$6+IF(X$5=$C12,$E$5+$E12,0),2),ROUND(Z11+Y12,2)),0) -> 0 | Y12: =IF(Z11>0,ROUND(ROUND(Z11*100,0)*ROUND(X$7*10000,0)/12000000,0)/100,0) -> 0 | Z12: =IF(Z11>0,ROUND(Z11+Y12-X12,2),0) -> 0 | AA12: =IF(AC11>0,MIN(ROUND(AA$6+IF(AA$5=$C12,$E$5+$E12,0),2),ROUND(AC11+AB12,2)),0) -> 0 | AB12: =IF(AC11>0,ROUND(ROUND(AC11*100,0)*ROUND(AA$7*10000,0)/12000000,0)/100,0) -> 0 | AC12: =IF(AC11>0,ROUND(AC11+AB12-AA12,2),0) -> 0 | AD12: =IF(AF11>0,MIN(ROUND(AD$6+IF(AD$5=$C12,$E$5+$E12,0),2),ROUND(AF11+AE12,2)),0) -> 0 | AE12: =IF(AF11>0,ROUND(ROUND(AF11*100,0)*ROUND(AD$7*10000,0)/12000000,0)/100,0) -> 0 | AF12: =IF(AF11>0,ROUND(AF11+AE12-AD12,2),0) -> 0 | AG12: =IF(AI11>0,MIN(ROUND(AG$6+IF(AG$5=$C12,$E$5+$E12,0),2),ROUND(AI11+AH12,2)),0) -> 0 | AH12: =IF(AI11>0,ROUND(ROUND(AI11*100,0)*ROUND(AG$7*10000,0)/12000000,0)/100,0) -> 0 | AI12: =IF(AI11>0,ROUND(AI11+AH12-AG12,2),0) -> 0 | AJ12: =IF(AL11>0,MIN(ROUND(AJ$6+IF(AJ$5=$C12,$E$5+$E12,0),2),ROUND(AL11+AK12,2)),0) -> 0 | AK12: =IF(AL11>0,ROUND(ROUND(AL11*100,0)*ROUND(AJ$7*10000,0)/12000000,0)/100,0) -> 0 | AL12: =IF(AL11>0,ROUND(AL11+AK12-AJ12,2),0) -> 0
A13: =IF(F13>0,3,"") -> 3 | B13: =IF(F13>0,EDATE($E$6,3),"") -> 46392 | C13: =IF(H12>0,MIN(IF(K12>0,I$5,99),IF(N12>0,L$5,99),IF(Q12>0,O$5,99),IF(T12>0,R$5,99),IF(W12>0,U$5,99),IF(Z12>0,X$5,99),IF(AC12>0,AA$5,99),IF(AF12>0,AD$5,99),IF(AI12>0,AG$5,99),IF(AL12>0,AJ$5,99)),0) -> 1 | D13: =IF(C13>0,INDEX($I$4:$AL$4,1,MATCH(C13,$I$5:$AL$5,0)),"") -> Medical bill | E13: =ROUND(IF(AND(I$8>0,K12=0),I$6,0)+IF(AND(L$8>0,N12=0),L$6,0)+IF(AND(O$8>0,Q12=0),O$6,0)+IF(AND(R$8>0,T12=0),R$6,0)+IF(AND(U$8>0,W12=0),U$6,0)+IF(AND(X$8>0,Z12=0),X$6,0)+IF(AND(AA$8>0,AC12=0),AA$6,0)+IF(AND(AD$8>0,AF12=0),AD$6,0)+IF(AND(AG$8>0,AI12=0),AG$6,0)+IF(AND(AJ$8>0,AL12=0),AJ$6,0),2) -> 0 | F13: =ROUND(I13+L13+O13+R13+U13+X13+AA13+AD13+AG13+AJ13,2) -> 480 | G13: =ROUND(J13+M13+P13+S13+V13+Y13+AB13+AE13+AH13+AK13,2) -> 110.24 | H13: =ROUND(K13+N13+Q13+T13+W13+Z13+AC13+AF13+AI13+AL13,2) -> 11185.14 | I13: =IF(K12>0,MIN(ROUND(I$6+IF(I$5=$C13,$E$5+$E13,0),2),ROUND(K12+J13,2)),0) -> 95 | J13: =IF(K12>0,ROUND(ROUND(K12*100,0)*ROUND(I$7*10000,0)/12000000,0)/100,0) -> 66.53 | K13: =IF(K12>0,ROUND(K12+J13-I13,2),0) -> 3166.32 | L13: =IF(N12>0,MIN(ROUND(L$6+IF(L$5=$C13,$E$5+$E13,0),2),ROUND(N12+M13,2)),0) -> 210 | M13: =IF(N12>0,ROUND(ROUND(N12*100,0)*ROUND(L$7*10000,0)/12000000,0)/100,0) -> 43.71 | N13: =IF(N12>0,ROUND(N12+M13-L13,2),0) -> 7903.82 | O13: =IF(Q12>0,MIN(ROUND(O$6+IF(O$5=$C13,$E$5+$E13,0),2),ROUND(Q12+P13,2)),0) -> 175 | P13: =IF(Q12>0,ROUND(ROUND(Q12*100,0)*ROUND(O$7*10000,0)/12000000,0)/100,0) -> 0 | Q13: =IF(Q12>0,ROUND(Q12+P13-O13,2),0) -> 115 | R13: =IF(T12>0,MIN(ROUND(R$6+IF(R$5=$C13,$E$5+$E13,0),2),ROUND(T12+S13,2)),0) -> 0 | S13: =IF(T12>0,ROUND(ROUND(T12*100,0)*ROUND(R$7*10000,0)/12000000,0)/100,0) -> 0 | T13: =IF(T12>0,ROUND(T12+S13-R13,2),0) -> 0 | U13: =IF(W12>0,MIN(ROUND(U$6+IF(U$5=$C13,$E$5+$E13,0),2),ROUND(W12+V13,2)),0) -> 0 | V13: =IF(W12>0,ROUND(ROUND(W12*100,0)*ROUND(U$7*10000,0)/12000000,0)/100,0) -> 0 | W13: =IF(W12>0,ROUND(W12+V13-U13,2),0) -> 0 | X13: =IF(Z12>0,MIN(ROUND(X$6+IF(X$5=$C13,$E$5+$E13,0),2),ROUND(Z12+Y13,2)),0) -> 0 | Y13: =IF(Z12>0,ROUND(ROUND(Z12*100,0)*ROUND(X$7*10000,0)/12000000,0)/100,0) -> 0 | Z13: =IF(Z12>0,ROUND(Z12+Y13-X13,2),0) -> 0 | AA13: =IF(AC12>0,MIN(ROUND(AA$6+IF(AA$5=$C13,$E$5+$E13,0),2),ROUND(AC12+AB13,2)),0) -> 0 | AB13: =IF(AC12>0,ROUND(ROUND(AC12*100,0)*ROUND(AA$7*10000,0)/12000000,0)/100,0) -> 0 | AC13: =IF(AC12>0,ROUND(AC12+AB13-AA13,2),0) -> 0 | AD13: =IF(AF12>0,MIN(ROUND(AD$6+IF(AD$5=$C13,$E$5+$E13,0),2),ROUND(AF12+AE13,2)),0) -> 0 | AE13: =IF(AF12>0,ROUND(ROUND(AF12*100,0)*ROUND(AD$7*10000,0)/12000000,0)/100,0) -> 0 | AF13: =IF(AF12>0,ROUND(AF12+AE13-AD13,2),0) -> 0 | AG13: =IF(AI12>0,MIN(ROUND(AG$6+IF(AG$5=$C13,$E$5+$E13,0),2),ROUND(AI12+AH13,2)),0) -> 0 | AH13: =IF(AI12>0,ROUND(ROUND(AI12*100,0)*ROUND(AG$7*10000,0)/12000000,0)/100,0) -> 0 | AI13: =IF(AI12>0,ROUND(AI12+AH13-AG13,2),0) -> 0 | AJ13: =IF(AL12>0,MIN(ROUND(AJ$6+IF(AJ$5=$C13,$E$5+$E13,0),2),ROUND(AL12+AK13,2)),0) -> 0 | AK13: =IF(AL12>0,ROUND(ROUND(AL12*100,0)*ROUND(AJ$7*10000,0)/12000000,0)/100,0) -> 0 | AL13: =IF(AL12>0,ROUND(AL12+AK13-AJ13,2),0) -> 0
A14: =IF(F14>0,4,"") -> 4 | B14: =IF(F14>0,EDATE($E$6,4),"") -> 46423 | C14: =IF(H13>0,MIN(IF(K13>0,I$5,99),IF(N13>0,L$5,99),IF(Q13>0,O$5,99),IF(T13>0,R$5,99),IF(W13>0,U$5,99),IF(Z13>0,X$5,99),IF(AC13>0,AA$5,99),IF(AF13>0,AD$5,99),IF(AI13>0,AG$5,99),IF(AL13>0,AJ$5,99)),0) -> 1 | D14: =IF(C14>0,INDEX($I$4:$AL$4,1,MATCH(C14,$I$5:$AL$5,0)),"") -> Medical bill | E14: =ROUND(IF(AND(I$8>0,K13=0),I$6,0)+IF(AND(L$8>0,N13=0),L$6,0)+IF(AND(O$8>0,Q13=0),O$6,0)+IF(AND(R$8>0,T13=0),R$6,0)+IF(AND(U$8>0,W13=0),U$6,0)+IF(AND(X$8>0,Z13=0),X$6,0)+IF(AND(AA$8>0,AC13=0),AA$6,0)+IF(AND(AD$8>0,AF13=0),AD$6,0)+IF(AND(AG$8>0,AI13=0),AG$6,0)+IF(AND(AJ$8>0,AL13=0),AJ$6,0),2) -> 0 | F14: =ROUND(I14+L14+O14+R14+U14+X14+AA14+AD14+AG14+AJ14,2) -> 420 | G14: =ROUND(J14+M14+P14+S14+V14+Y14+AB14+AE14+AH14+AK14,2) -> 108.75 | H14: =ROUND(K14+N14+Q14+T14+W14+Z14+AC14+AF14+AI14+AL14,2) -> 10873.89 | I14: =IF(K13>0,MIN(ROUND(I$6+IF(I$5=$C14,$E$5+$E14,0),2),ROUND(K13+J14,2)),0) -> 95 | J14: =IF(K13>0,ROUND(ROUND(K13*100,0)*ROUND(I$7*10000,0)/12000000,0)/100,0) -> 65.94 | K14: =IF(K13>0,ROUND(K13+J14-I14,2),0) -> 3137.26 | L14: =IF(N13>0,MIN(ROUND(L$6+IF(L$5=$C14,$E$5+$E14,0),2),ROUND(N13+M14,2)),0) -> 210 | M14: =IF(N13>0,ROUND(ROUND(N13*100,0)*ROUND(L$7*10000,0)/12000000,0)/100,0) -> 42.81 | N14: =IF(N13>0,ROUND(N13+M14-L14,2),0) -> 7736.63 | O14: =IF(Q13>0,MIN(ROUND(O$6+IF(O$5=$C14,$E$5+$E14,0),2),ROUND(Q13+P14,2)),0) -> 115 | P14: =IF(Q13>0,ROUND(ROUND(Q13*100,0)*ROUND(O$7*10000,0)/12000000,0)/100,0) -> 0 | Q14: =IF(Q13>0,ROUND(Q13+P14-O14,2),0) -> 0 | R14: =IF(T13>0,MIN(ROUND(R$6+IF(R$5=$C14,$E$5+$E14,0),2),ROUND(T13+S14,2)),0) -> 0 | S14: =IF(T13>0,ROUND(ROUND(T13*100,0)*ROUND(R$7*10000,0)/12000000,0)/100,0) -> 0 | T14: =IF(T13>0,ROUND(T13+S14-R14,2),0) -> 0 | U14: =IF(W13>0,MIN(ROUND(U$6+IF(U$5=$C14,$E$5+$E14,0),2),ROUND(W13+V14,2)),0) -> 0 | V14: =IF(W13>0,ROUND(ROUND(W13*100,0)*ROUND(U$7*10000,0)/12000000,0)/100,0) -> 0 | W14: =IF(W13>0,ROUND(W13+V14-U14,2),0) -> 0 | X14: =IF(Z13>0,MIN(ROUND(X$6+IF(X$5=$C14,$E$5+$E14,0),2),ROUND(Z13+Y14,2)),0) -> 0 | Y14: =IF(Z13>0,ROUND(ROUND(Z13*100,0)*ROUND(X$7*10000,0)/12000000,0)/100,0) -> 0 | Z14: =IF(Z13>0,ROUND(Z13+Y14-X14,2),0) -> 0 | AA14: =IF(AC13>0,MIN(ROUND(AA$6+IF(AA$5=$C14,$E$5+$E14,0),2),ROUND(AC13+AB14,2)),0) -> 0 | AB14: =IF(AC13>0,ROUND(ROUND(AC13*100,0)*ROUND(AA$7*10000,0)/12000000,0)/100,0) -> 0 | AC14: =IF(AC13>0,ROUND(AC13+AB14-AA14,2),0) -> 0 | AD14: =IF(AF13>0,MIN(ROUND(AD$6+IF(AD$5=$C14,$E$5+$E14,0),2),ROUND(AF13+AE14,2)),0) -> 0 | AE14: =IF(AF13>0,ROUND(ROUND(AF13*100,0)*ROUND(AD$7*10000,0)/12000000,0)/100,0) -> 0 | AF14: =IF(AF13>0,ROUND(AF13+AE14-AD14,2),0) -> 0 | AG14: =IF(AI13>0,MIN(ROUND(AG$6+IF(AG$5=$C14,$E$5+$E14,0),2),ROUND(AI13+AH14,2)),0) -> 0 | AH14: =IF(AI13>0,ROUND(ROUND(AI13*100,0)*ROUND(AG$7*10000,0)/12000000,0)/100,0) -> 0 | AI14: =IF(AI13>0,ROUND(AI13+AH14-AG14,2),0) -> 0 | AJ14: =IF(AL13>0,MIN(ROUND(AJ$6+IF(AJ$5=$C14,$E$5+$E14,0),2),ROUND(AL13+AK14,2)),0) -> 0 | AK14: =IF(AL13>0,ROUND(ROUND(AL13*100,0)*ROUND(AJ$7*10000,0)/12000000,0)/100,0) -> 0 | AL14: =IF(AL13>0,ROUND(AL13+AK14-AJ14,2),0) -> 0
A15: =IF(F15>0,5,"") -> 5 | B15: =IF(F15>0,EDATE($E$6,5),"") -> 46451 | C15: =IF(H14>0,MIN(IF(K14>0,I$5,99),IF(N14>0,L$5,99),IF(Q14>0,O$5,99),IF(T14>0,R$5,99),IF(W14>0,U$5,99),IF(Z14>0,X$5,99),IF(AC14>0,AA$5,99),IF(AF14>0,AD$5,99),IF(AI14>0,AG$5,99),IF(AL14>0,AJ$5,99)),0) -> 2 | D15: =IF(C15>0,INDEX($I$4:$AL$4,1,MATCH(C15,$I$5:$AL$5,0)),"") -> Credit card | E15: =ROUND(IF(AND(I$8>0,K14=0),I$6,0)+IF(AND(L$8>0,N14=0),L$6,0)+IF(AND(O$8>0,Q14=0),O$6,0)+IF(AND(R$8>0,T14=0),R$6,0)+IF(AND(U$8>0,W14=0),U$6,0)+IF(AND(X$8>0,Z14=0),X$6,0)+IF(AND(AA$8>0,AC14=0),AA$6,0)+IF(AND(AD$8>0,AF14=0),AD$6,0)+IF(AND(AG$8>0,AI14=0),AG$6,0)+IF(AND(AJ$8>0,AL14=0),AJ$6,0),2) -> 25 | F15: =ROUND(I15+L15+O15+R15+U15+X15+AA15+AD15+AG15+AJ15,2) -> 480 | G15: =ROUND(J15+M15+P15+S15+V15+Y15+AB15+AE15+AH15+AK15,2) -> 107.24 | H15: =ROUND(K15+N15+Q15+T15+W15+Z15+AC15+AF15+AI15+AL15,2) -> 10501.13 | I15: =IF(K14>0,MIN(ROUND(I$6+IF(I$5=$C15,$E$5+$E15,0),2),ROUND(K14+J15,2)),0) -> 270 | J15: =IF(K14>0,ROUND(ROUND(K14*100,0)*ROUND(I$7*10000,0)/12000000,0)/100,0) -> 65.33 | K15: =IF(K14>0,ROUND(K14+J15-I15,2),0) -> 2932.59 | L15: =IF(N14>0,MIN(ROUND(L$6+IF(L$5=$C15,$E$5+$E15,0),2),ROUND(N14+M15,2)),0) -> 210 | M15: =IF(N14>0,ROUND(ROUND(N14*100,0)*ROUND(L$7*10000,0)/12000000,0)/100,0) -> 41.91 | N15: =IF(N14>0,ROUND(N14+M15-L15,2),0) -> 7568.54 | O15: =IF(Q14>0,MIN(ROUND(O$6+IF(O$5=$C15,$E$5+$E15,0),2),ROUND(Q14+P15,2)),0) -> 0 | P15: =IF(Q14>0,ROUND(ROUND(Q14*100,0)*ROUND(O$7*10000,0)/12000000,0)/100,0) -> 0 | Q15: =IF(Q14>0,ROUND(Q14+P15-O15,2),0) -> 0 | R15: =IF(T14>0,MIN(ROUND(R$6+IF(R$5=$C15,$E$5+$E15,0),2),ROUND(T14+S15,2)),0) -> 0 | S15: =IF(T14>0,ROUND(ROUND(T14*100,0)*ROUND(R$7*10000,0)/12000000,0)/100,0) -> 0 | T15: =IF(T14>0,ROUND(T14+S15-R15,2),0) -> 0 | U15: =IF(W14>0,MIN(ROUND(U$6+IF(U$5=$C15,$E$5+$E15,0),2),ROUND(W14+V15,2)),0) -> 0 | V15: =IF(W14>0,ROUND(ROUND(W14*100,0)*ROUND(U$7*10000,0)/12000000,0)/100,0) -> 0 | W15: =IF(W14>0,ROUND(W14+V15-U15,2),0) -> 0 | X15: =IF(Z14>0,MIN(ROUND(X$6+IF(X$5=$C15,$E$5+$E15,0),2),ROUND(Z14+Y15,2)),0) -> 0 | Y15: =IF(Z14>0,ROUND(ROUND(Z14*100,0)*ROUND(X$7*10000,0)/12000000,0)/100,0) -> 0 | Z15: =IF(Z14>0,ROUND(Z14+Y15-X15,2),0) -> 0 | AA15: =IF(AC14>0,MIN(ROUND(AA$6+IF(AA$5=$C15,$E$5+$E15,0),2),ROUND(AC14+AB15,2)),0) -> 0 | AB15: =IF(AC14>0,ROUND(ROUND(AC14*100,0)*ROUND(AA$7*10000,0)/12000000,0)/100,0) -> 0 | AC15: =IF(AC14>0,ROUND(AC14+AB15-AA15,2),0) -> 0 | AD15: =IF(AF14>0,MIN(ROUND(AD$6+IF(AD$5=$C15,$E$5+$E15,0),2),ROUND(AF14+AE15,2)),0) -> 0 | AE15: =IF(AF14>0,ROUND(ROUND(AF14*100,0)*ROUND(AD$7*10000,0)/12000000,0)/100,0) -> 0 | AF15: =IF(AF14>0,ROUND(AF14+AE15-AD15,2),0) -> 0 | AG15: =IF(AI14>0,MIN(ROUND(AG$6+IF(AG$5=$C15,$E$5+$E15,0),2),ROUND(AI14+AH15,2)),0) -> 0 | AH15: =IF(AI14>0,ROUND(ROUND(AI14*100,0)*ROUND(AG$7*10000,0)/12000000,0)/100,0) -> 0 | AI15: =IF(AI14>0,ROUND(AI14+AH15-AG15,2),0) -> 0 | AJ15: =IF(AL14>0,MIN(ROUND(AJ$6+IF(AJ$5=$C15,$E$5+$E15,0),2),ROUND(AL14+AK15,2)),0) -> 0 | AK15: =IF(AL14>0,ROUND(ROUND(AL14*100,0)*ROUND(AJ$7*10000,0)/12000000,0)/100,0) -> 0 | AL15: =IF(AL14>0,ROUND(AL14+AK15-AJ15,2),0) -> 0
A16: =IF(F16>0,6,"") -> 6 | B16: =IF(F16>0,EDATE($E$6,6),"") -> 46482 | C16: =IF(H15>0,MIN(IF(K15>0,I$5,99),IF(N15>0,L$5,99),IF(Q15>0,O$5,99),IF(T15>0,R$5,99),IF(W15>0,U$5,99),IF(Z15>0,X$5,99),IF(AC15>0,AA$5,99),IF(AF15>0,AD$5,99),IF(AI15>0,AG$5,99),IF(AL15>0,AJ$5,99)),0) -> 2 | D16: =IF(C16>0,INDEX($I$4:$AL$4,1,MATCH(C16,$I$5:$AL$5,0)),"") -> Credit card | E16: =ROUND(IF(AND(I$8>0,K15=0),I$6,0)+IF(AND(L$8>0,N15=0),L$6,0)+IF(AND(O$8>0,Q15=0),O$6,0)+IF(AND(R$8>0,T15=0),R$6,0)+IF(AND(U$8>0,W15=0),U$6,0)+IF(AND(X$8>0,Z15=0),X$6,0)+IF(AND(AA$8>0,AC15=0),AA$6,0)+IF(AND(AD$8>0,AF15=0),AD$6,0)+IF(AND(AG$8>0,AI15=0),AG$6,0)+IF(AND(AJ$8>0,AL15=0),AJ$6,0),2) -> 25 | F16: =ROUND(I16+L16+O16+R16+U16+X16+AA16+AD16+AG16+AJ16,2) -> 480 | G16: =ROUND(J16+M16+P16+S16+V16+Y16+AB16+AE16+AH16+AK16,2) -> 102.07 | H16: =ROUND(K16+N16+Q16+T16+W16+Z16+AC16+AF16+AI16+AL16,2) -> 10123.2 | I16: =IF(K15>0,MIN(ROUND(I$6+IF(I$5=$C16,$E$5+$E16,0),2),ROUND(K15+J16,2)),0) -> 270 | J16: =IF(K15>0,ROUND(ROUND(K15*100,0)*ROUND(I$7*10000,0)/12000000,0)/100,0) -> 61.07 | K16: =IF(K15>0,ROUND(K15+J16-I16,2),0) -> 2723.66 | L16: =IF(N15>0,MIN(ROUND(L$6+IF(L$5=$C16,$E$5+$E16,0),2),ROUND(N15+M16,2)),0) -> 210 | M16: =IF(N15>0,ROUND(ROUND(N15*100,0)*ROUND(L$7*10000,0)/12000000,0)/100,0) -> 41 | N16: =IF(N15>0,ROUND(N15+M16-L16,2),0) -> 7399.54 | O16: =IF(Q15>0,MIN(ROUND(O$6+IF(O$5=$C16,$E$5+$E16,0),2),ROUND(Q15+P16,2)),0) -> 0 | P16: =IF(Q15>0,ROUND(ROUND(Q15*100,0)*ROUND(O$7*10000,0)/12000000,0)/100,0) -> 0 | Q16: =IF(Q15>0,ROUND(Q15+P16-O16,2),0) -> 0 | R16: =IF(T15>0,MIN(ROUND(R$6+IF(R$5=$C16,$E$5+$E16,0),2),ROUND(T15+S16,2)),0) -> 0 | S16: =IF(T15>0,ROUND(ROUND(T15*100,0)*ROUND(R$7*10000,0)/12000000,0)/100,0) -> 0 | T16: =IF(T15>0,ROUND(T15+S16-R16,2),0) -> 0 | U16: =IF(W15>0,MIN(ROUND(U$6+IF(U$5=$C16,$E$5+$E16,0),2),ROUND(W15+V16,2)),0) -> 0 | V16: =IF(W15>0,ROUND(ROUND(W15*100,0)*ROUND(U$7*10000,0)/12000000,0)/100,0) -> 0 | W16: =IF(W15>0,ROUND(W15+V16-U16,2),0) -> 0 | X16: =IF(Z15>0,MIN(ROUND(X$6+IF(X$5=$C16,$E$5+$E16,0),2),ROUND(Z15+Y16,2)),0) -> 0 | Y16: =IF(Z15>0,ROUND(ROUND(Z15*100,0)*ROUND(X$7*10000,0)/12000000,0)/100,0) -> 0 | Z16: =IF(Z15>0,ROUND(Z15+Y16-X16,2),0) -> 0 | AA16: =IF(AC15>0,MIN(ROUND(AA$6+IF(AA$5=$C16,$E$5+$E16,0),2),ROUND(AC15+AB16,2)),0) -> 0 | AB16: =IF(AC15>0,ROUND(ROUND(AC15*100,0)*ROUND(AA$7*10000,0)/12000000,0)/100,0) -> 0 | AC16: =IF(AC15>0,ROUND(AC15+AB16-AA16,2),0) -> 0 | AD16: =IF(AF15>0,MIN(ROUND(AD$6+IF(AD$5=$C16,$E$5+$E16,0),2),ROUND(AF15+AE16,2)),0) -> 0 | AE16: =IF(AF15>0,ROUND(ROUND(AF15*100,0)*ROUND(AD$7*10000,0)/12000000,0)/100,0) -> 0 | AF16: =IF(AF15>0,ROUND(AF15+AE16-AD16,2),0) -> 0 | AG16: =IF(AI15>0,MIN(ROUND(AG$6+IF(AG$5=$C16,$E$5+$E16,0),2),ROUND(AI15+AH16,2)),0) -> 0 | AH16: =IF(AI15>0,ROUND(ROUND(AI15*100,0)*ROUND(AG$7*10000,0)/12000000,0)/100,0) -> 0 | AI16: =IF(AI15>0,ROUND(AI15+AH16-AG16,2),0) -> 0 | AJ16: =IF(AL15>0,MIN(ROUND(AJ$6+IF(AJ$5=$C16,$E$5+$E16,0),2),ROUND(AL15+AK16,2)),0) -> 0 | AK16: =IF(AL15>0,ROUND(ROUND(AL15*100,0)*ROUND(AJ$7*10000,0)/12000000,0)/100,0) -> 0 | AL16: =IF(AL15>0,ROUND(AL15+AK16-AJ16,2),0) -> 0
A17: =IF(F17>0,7,"") -> 7 | B17: =IF(F17>0,EDATE($E$6,7),"") -> 46512 | C17: =IF(H16>0,MIN(IF(K16>0,I$5,99),IF(N16>0,L$5,99),IF(Q16>0,O$5,99),IF(T16>0,R$5,99),IF(W16>0,U$5,99),IF(Z16>0,X$5,99),IF(AC16>0,AA$5,99),IF(AF16>0,AD$5,99),IF(AI16>0,AG$5,99),IF(AL16>0,AJ$5,99)),0) -> 2 | D17: =IF(C17>0,INDEX($I$4:$AL$4,1,MATCH(C17,$I$5:$AL$5,0)),"") -> Credit card | E17: =ROUND(IF(AND(I$8>0,K16=0),I$6,0)+IF(AND(L$8>0,N16=0),L$6,0)+IF(AND(O$8>0,Q16=0),O$6,0)+IF(AND(R$8>0,T16=0),R$6,0)+IF(AND(U$8>0,W16=0),U$6,0)+IF(AND(X$8>0,Z16=0),X$6,0)+IF(AND(AA$8>0,AC16=0),AA$6,0)+IF(AND(AD$8>0,AF16=0),AD$6,0)+IF(AND(AG$8>0,AI16=0),AG$6,0)+IF(AND(AJ$8>0,AL16=0),AJ$6,0),2) -> 25 | F17: =ROUND(I17+L17+O17+R17+U17+X17+AA17+AD17+AG17+AJ17,2) -> 480 | G17: =ROUND(J17+M17+P17+S17+V17+Y17+AB17+AE17+AH17+AK17,2) -> 96.8 | H17: =ROUND(K17+N17+Q17+T17+W17+Z17+AC17+AF17+AI17+AL17,2) -> 9740 | I17: =IF(K16>0,MIN(ROUND(I$6+IF(I$5=$C17,$E$5+$E17,0),2),ROUND(K16+J17,2)),0) -> 270 | J17: =IF(K16>0,ROUND(ROUND(K16*100,0)*ROUND(I$7*10000,0)/12000000,0)/100,0) -> 56.72 | K17: =IF(K16>0,ROUND(K16+J17-I17,2),0) -> 2510.38 | L17: =IF(N16>0,MIN(ROUND(L$6+IF(L$5=$C17,$E$5+$E17,0),2),ROUND(N16+M17,2)),0) -> 210 | M17: =IF(N16>0,ROUND(ROUND(N16*100,0)*ROUND(L$7*10000,0)/12000000,0)/100,0) -> 40.08 | N17: =IF(N16>0,ROUND(N16+M17-L17,2),0) -> 7229.62 | O17: =IF(Q16>0,MIN(ROUND(O$6+IF(O$5=$C17,$E$5+$E17,0),2),ROUND(Q16+P17,2)),0) -> 0 | P17: =IF(Q16>0,ROUND(ROUND(Q16*100,0)*ROUND(O$7*10000,0)/12000000,0)/100,0) -> 0 | Q17: =IF(Q16>0,ROUND(Q16+P17-O17,2),0) -> 0 | R17: =IF(T16>0,MIN(ROUND(R$6+IF(R$5=$C17,$E$5+$E17,0),2),ROUND(T16+S17,2)),0) -> 0 | S17: =IF(T16>0,ROUND(ROUND(T16*100,0)*ROUND(R$7*10000,0)/12000000,0)/100,0) -> 0 | T17: =IF(T16>0,ROUND(T16+S17-R17,2),0) -> 0 | U17: =IF(W16>0,MIN(ROUND(U$6+IF(U$5=$C17,$E$5+$E17,0),2),ROUND(W16+V17,2)),0) -> 0 | V17: =IF(W16>0,ROUND(ROUND(W16*100,0)*ROUND(U$7*10000,0)/12000000,0)/100,0) -> 0 | W17: =IF(W16>0,ROUND(W16+V17-U17,2),0) -> 0 | X17: =IF(Z16>0,MIN(ROUND(X$6+IF(X$5=$C17,$E$5+$E17,0),2),ROUND(Z16+Y17,2)),0) -> 0 | Y17: =IF(Z16>0,ROUND(ROUND(Z16*100,0)*ROUND(X$7*10000,0)/12000000,0)/100,0) -> 0 | Z17: =IF(Z16>0,ROUND(Z16+Y17-X17,2),0) -> 0 | AA17: =IF(AC16>0,MIN(ROUND(AA$6+IF(AA$5=$C17,$E$5+$E17,0),2),ROUND(AC16+AB17,2)),0) -> 0 | AB17: =IF(AC16>0,ROUND(ROUND(AC16*100,0)*ROUND(AA$7*10000,0)/12000000,0)/100,0) -> 0 | AC17: =IF(AC16>0,ROUND(AC16+AB17-AA17,2),0) -> 0 | AD17: =IF(AF16>0,MIN(ROUND(AD$6+IF(AD$5=$C17,$E$5+$E17,0),2),ROUND(AF16+AE17,2)),0) -> 0 | AE17: =IF(AF16>0,ROUND(ROUND(AF16*100,0)*ROUND(AD$7*10000,0)/12000000,0)/100,0) -> 0 | AF17: =IF(AF16>0,ROUND(AF16+AE17-AD17,2),0) -> 0 | AG17: =IF(AI16>0,MIN(ROUND(AG$6+IF(AG$5=$C17,$E$5+$E17,0),2),ROUND(AI16+AH17,2)),0) -> 0 | AH17: =IF(AI16>0,ROUND(ROUND(AI16*100,0)*ROUND(AG$7*10000,0)/12000000,0)/100,0) -> 0 | AI17: =IF(AI16>0,ROUND(AI16+AH17-AG17,2),0) -> 0 | AJ17: =IF(AL16>0,MIN(ROUND(AJ$6+IF(AJ$5=$C17,$E$5+$E17,0),2),ROUND(AL16+AK17,2)),0) -> 0 | AK17: =IF(AL16>0,ROUND(ROUND(AL16*100,0)*ROUND(AJ$7*10000,0)/12000000,0)/100,0) -> 0 | AL17: =IF(AL16>0,ROUND(AL16+AK17-AJ17,2),0) -> 0
A18: =IF(F18>0,8,"") -> 8 | B18: =IF(F18>0,EDATE($E$6,8),"") -> 46543 | C18: =IF(H17>0,MIN(IF(K17>0,I$5,99),IF(N17>0,L$5,99),IF(Q17>0,O$5,99),IF(T17>0,R$5,99),IF(W17>0,U$5,99),IF(Z17>0,X$5,99),IF(AC17>0,AA$5,99),IF(AF17>0,AD$5,99),IF(AI17>0,AG$5,99),IF(AL17>0,AJ$5,99)),0) -> 2 | D18: =IF(C18>0,INDEX($I$4:$AL$4,1,MATCH(C18,$I$5:$AL$5,0)),"") -> Credit card | E18: =ROUND(IF(AND(I$8>0,K17=0),I$6,0)+IF(AND(L$8>0,N17=0),L$6,0)+IF(AND(O$8>0,Q17=0),O$6,0)+IF(AND(R$8>0,T17=0),R$6,0)+IF(AND(U$8>0,W17=0),U$6,0)+IF(AND(X$8>0,Z17=0),X$6,0)+IF(AND(AA$8>0,AC17=0),AA$6,0)+IF(AND(AD$8>0,AF17=0),AD$6,0)+IF(AND(AG$8>0,AI17=0),AG$6,0)+IF(AND(AJ$8>0,AL17=0),AJ$6,0),2) -> 25 | F18: =ROUND(I18+L18+O18+R18+U18+X18+AA18+AD18+AG18+AJ18,2) -> 480 | G18: =ROUND(J18+M18+P18+S18+V18+Y18+AB18+AE18+AH18+AK18,2) -> 91.44 | H18: =ROUND(K18+N18+Q18+T18+W18+Z18+AC18+AF18+AI18+AL18,2) -> 9351.44 | I18: =IF(K17>0,MIN(ROUND(I$6+IF(I$5=$C18,$E$5+$E18,0),2),ROUND(K17+J18,2)),0) -> 270 | J18: =IF(K17>0,ROUND(ROUND(K17*100,0)*ROUND(I$7*10000,0)/12000000,0)/100,0) -> 52.28 | K18: =IF(K17>0,ROUND(K17+J18-I18,2),0) -> 2292.66 | L18: =IF(N17>0,MIN(ROUND(L$6+IF(L$5=$C18,$E$5+$E18,0),2),ROUND(N17+M18,2)),0) -> 210 | M18: =IF(N17>0,ROUND(ROUND(N17*100,0)*ROUND(L$7*10000,0)/12000000,0)/100,0) -> 39.16 | N18: =IF(N17>0,ROUND(N17+M18-L18,2),0) -> 7058.78 | O18: =IF(Q17>0,MIN(ROUND(O$6+IF(O$5=$C18,$E$5+$E18,0),2),ROUND(Q17+P18,2)),0) -> 0 | P18: =IF(Q17>0,ROUND(ROUND(Q17*100,0)*ROUND(O$7*10000,0)/12000000,0)/100,0) -> 0 | Q18: =IF(Q17>0,ROUND(Q17+P18-O18,2),0) -> 0 | R18: =IF(T17>0,MIN(ROUND(R$6+IF(R$5=$C18,$E$5+$E18,0),2),ROUND(T17+S18,2)),0) -> 0 | S18: =IF(T17>0,ROUND(ROUND(T17*100,0)*ROUND(R$7*10000,0)/12000000,0)/100,0) -> 0 | T18: =IF(T17>0,ROUND(T17+S18-R18,2),0) -> 0 | U18: =IF(W17>0,MIN(ROUND(U$6+IF(U$5=$C18,$E$5+$E18,0),2),ROUND(W17+V18,2)),0) -> 0 | V18: =IF(W17>0,ROUND(ROUND(W17*100,0)*ROUND(U$7*10000,0)/12000000,0)/100,0) -> 0 | W18: =IF(W17>0,ROUND(W17+V18-U18,2),0) -> 0 | X18: =IF(Z17>0,MIN(ROUND(X$6+IF(X$5=$C18,$E$5+$E18,0),2),ROUND(Z17+Y18,2)),0) -> 0 | Y18: =IF(Z17>0,ROUND(ROUND(Z17*100,0)*ROUND(X$7*10000,0)/12000000,0)/100,0) -> 0 | Z18: =IF(Z17>0,ROUND(Z17+Y18-X18,2),0) -> 0 | AA18: =IF(AC17>0,MIN(ROUND(AA$6+IF(AA$5=$C18,$E$5+$E18,0),2),ROUND(AC17+AB18,2)),0) -> 0 | AB18: =IF(AC17>0,ROUND(ROUND(AC17*100,0)*ROUND(AA$7*10000,0)/12000000,0)/100,0) -> 0 | AC18: =IF(AC17>0,ROUND(AC17+AB18-AA18,2),0) -> 0 | AD18: =IF(AF17>0,MIN(ROUND(AD$6+IF(AD$5=$C18,$E$5+$E18,0),2),ROUND(AF17+AE18,2)),0) -> 0 | AE18: =IF(AF17>0,ROUND(ROUND(AF17*100,0)*ROUND(AD$7*10000,0)/12000000,0)/100,0) -> 0 | AF18: =IF(AF17>0,ROUND(AF17+AE18-AD18,2),0) -> 0 | AG18: =IF(AI17>0,MIN(ROUND(AG$6+IF(AG$5=$C18,$E$5+$E18,0),2),ROUND(AI17+AH18,2)),0) -> 0 | AH18: =IF(AI17>0,ROUND(ROUND(AI17*100,0)*ROUND(AG$7*10000,0)/12000000,0)/100,0) -> 0 | AI18: =IF(AI17>0,ROUND(AI17+AH18-AG18,2),0) -> 0 | AJ18: =IF(AL17>0,MIN(ROUND(AJ$6+IF(AJ$5=$C18,$E$5+$E18,0),2),ROUND(AL17+AK18,2)),0) -> 0 | AK18: =IF(AL17>0,ROUND(ROUND(AL17*100,0)*ROUND(AJ$7*10000,0)/12000000,0)/100,0) -> 0 | AL18: =IF(AL17>0,ROUND(AL17+AK18-AJ18,2),0) -> 0
A19: =IF(F19>0,9,"") -> 9 | B19: =IF(F19>0,EDATE($E$6,9),"") -> 46573 | C19: =IF(H18>0,MIN(IF(K18>0,I$5,99),IF(N18>0,L$5,99),IF(Q18>0,O$5,99),IF(T18>0,R$5,99),IF(W18>0,U$5,99),IF(Z18>0,X$5,99),IF(AC18>0,AA$5,99),IF(AF18>0,AD$5,99),IF(AI18>0,AG$5,99),IF(AL18>0,AJ$5,99)),0) -> 2 | D19: =IF(C19>0,INDEX($I$4:$AL$4,1,MATCH(C19,$I$5:$AL$5,0)),"") -> Credit card | E19: =ROUND(IF(AND(I$8>0,K18=0),I$6,0)+IF(AND(L$8>0,N18=0),L$6,0)+IF(AND(O$8>0,Q18=0),O$6,0)+IF(AND(R$8>0,T18=0),R$6,0)+IF(AND(U$8>0,W18=0),U$6,0)+IF(AND(X$8>0,Z18=0),X$6,0)+IF(AND(AA$8>0,AC18=0),AA$6,0)+IF(AND(AD$8>0,AF18=0),AD$6,0)+IF(AND(AG$8>0,AI18=0),AG$6,0)+IF(AND(AJ$8>0,AL18=0),AJ$6,0),2) -> 25 | F19: =ROUND(I19+L19+O19+R19+U19+X19+AA19+AD19+AG19+AJ19,2) -> 480 | G19: =ROUND(J19+M19+P19+S19+V19+Y19+AB19+AE19+AH19+AK19,2) -> 85.98 | H19: =ROUND(K19+N19+Q19+T19+W19+Z19+AC19+AF19+AI19+AL19,2) -> 8957.42 | I19: =IF(K18>0,MIN(ROUND(I$6+IF(I$5=$C19,$E$5+$E19,0),2),ROUND(K18+J19,2)),0) -> 270 | J19: =IF(K18>0,ROUND(ROUND(K18*100,0)*ROUND(I$7*10000,0)/12000000,0)/100,0) -> 47.74 | K19: =IF(K18>0,ROUND(K18+J19-I19,2),0) -> 2070.4 | L19: =IF(N18>0,MIN(ROUND(L$6+IF(L$5=$C19,$E$5+$E19,0),2),ROUND(N18+M19,2)),0) -> 210 | M19: =IF(N18>0,ROUND(ROUND(N18*100,0)*ROUND(L$7*10000,0)/12000000,0)/100,0) -> 38.24 | N19: =IF(N18>0,ROUND(N18+M19-L19,2),0) -> 6887.02 | O19: =IF(Q18>0,MIN(ROUND(O$6+IF(O$5=$C19,$E$5+$E19,0),2),ROUND(Q18+P19,2)),0) -> 0 | P19: =IF(Q18>0,ROUND(ROUND(Q18*100,0)*ROUND(O$7*10000,0)/12000000,0)/100,0) -> 0 | Q19: =IF(Q18>0,ROUND(Q18+P19-O19,2),0) -> 0 | R19: =IF(T18>0,MIN(ROUND(R$6+IF(R$5=$C19,$E$5+$E19,0),2),ROUND(T18+S19,2)),0) -> 0 | S19: =IF(T18>0,ROUND(ROUND(T18*100,0)*ROUND(R$7*10000,0)/12000000,0)/100,0) -> 0 | T19: =IF(T18>0,ROUND(T18+S19-R19,2),0) -> 0 | U19: =IF(W18>0,MIN(ROUND(U$6+IF(U$5=$C19,$E$5+$E19,0),2),ROUND(W18+V19,2)),0) -> 0 | V19: =IF(W18>0,ROUND(ROUND(W18*100,0)*ROUND(U$7*10000,0)/12000000,0)/100,0) -> 0 | W19: =IF(W18>0,ROUND(W18+V19-U19,2),0) -> 0 | X19: =IF(Z18>0,MIN(ROUND(X$6+IF(X$5=$C19,$E$5+$E19,0),2),ROUND(Z18+Y19,2)),0) -> 0 | Y19: =IF(Z18>0,ROUND(ROUND(Z18*100,0)*ROUND(X$7*10000,0)/12000000,0)/100,0) -> 0 | Z19: =IF(Z18>0,ROUND(Z18+Y19-X19,2),0) -> 0 | AA19: =IF(AC18>0,MIN(ROUND(AA$6+IF(AA$5=$C19,$E$5+$E19,0),2),ROUND(AC18+AB19,2)),0) -> 0 | AB19: =IF(AC18>0,ROUND(ROUND(AC18*100,0)*ROUND(AA$7*10000,0)/12000000,0)/100,0) -> 0 | AC19: =IF(AC18>0,ROUND(AC18+AB19-AA19,2),0) -> 0 | AD19: =IF(AF18>0,MIN(ROUND(AD$6+IF(AD$5=$C19,$E$5+$E19,0),2),ROUND(AF18+AE19,2)),0) -> 0 | AE19: =IF(AF18>0,ROUND(ROUND(AF18*100,0)*ROUND(AD$7*10000,0)/12000000,0)/100,0) -> 0 | AF19: =IF(AF18>0,ROUND(AF18+AE19-AD19,2),0) -> 0 | AG19: =IF(AI18>0,MIN(ROUND(AG$6+IF(AG$5=$C19,$E$5+$E19,0),2),ROUND(AI18+AH19,2)),0) -> 0 | AH19: =IF(AI18>0,ROUND(ROUND(AI18*100,0)*ROUND(AG$7*10000,0)/12000000,0)/100,0) -> 0 | AI19: =IF(AI18>0,ROUND(AI18+AH19-AG19,2),0) -> 0 | AJ19: =IF(AL18>0,MIN(ROUND(AJ$6+IF(AJ$5=$C19,$E$5+$E19,0),2),ROUND(AL18+AK19,2)),0) -> 0 | AK19: =IF(AL18>0,ROUND(ROUND(AL18*100,0)*ROUND(AJ$7*10000,0)/12000000,0)/100,0) -> 0 | AL19: =IF(AL18>0,ROUND(AL18+AK19-AJ19,2),0) -> 0
A20: =IF(F20>0,10,"") -> 10 | B20: =IF(F20>0,EDATE($E$6,10),"") -> 46604 | C20: =IF(H19>0,MIN(IF(K19>0,I$5,99),IF(N19>0,L$5,99),IF(Q19>0,O$5,99),IF(T19>0,R$5,99),IF(W19>0,U$5,99),IF(Z19>0,X$5,99),IF(AC19>0,AA$5,99),IF(AF19>0,AD$5,99),IF(AI19>0,AG$5,99),IF(AL19>0,AJ$5,99)),0) -> 2 | D20: =IF(C20>0,INDEX($I$4:$AL$4,1,MATCH(C20,$I$5:$AL$5,0)),"") -> Credit card | E20: =ROUND(IF(AND(I$8>0,K19=0),I$6,0)+IF(AND(L$8>0,N19=0),L$6,0)+IF(AND(O$8>0,Q19=0),O$6,0)+IF(AND(R$8>0,T19=0),R$6,0)+IF(AND(U$8>0,W19=0),U$6,0)+IF(AND(X$8>0,Z19=0),X$6,0)+IF(AND(AA$8>0,AC19=0),AA$6,0)+IF(AND(AD$8>0,AF19=0),AD$6,0)+IF(AND(AG$8>0,AI19=0),AG$6,0)+IF(AND(AJ$8>0,AL19=0),AJ$6,0),2) -> 25 | F20: =ROUND(I20+L20+O20+R20+U20+X20+AA20+AD20+AG20+AJ20,2) -> 480 | G20: =ROUND(J20+M20+P20+S20+V20+Y20+AB20+AE20+AH20+AK20,2) -> 80.42 | H20: =ROUND(K20+N20+Q20+T20+W20+Z20+AC20+AF20+AI20+AL20,2) -> 8557.84 | I20: =IF(K19>0,MIN(ROUND(I$6+IF(I$5=$C20,$E$5+$E20,0),2),ROUND(K19+J20,2)),0) -> 270 | J20: =IF(K19>0,ROUND(ROUND(K19*100,0)*ROUND(I$7*10000,0)/12000000,0)/100,0) -> 43.12 | K20: =IF(K19>0,ROUND(K19+J20-I20,2),0) -> 1843.52 | L20: =IF(N19>0,MIN(ROUND(L$6+IF(L$5=$C20,$E$5+$E20,0),2),ROUND(N19+M20,2)),0) -> 210 | M20: =IF(N19>0,ROUND(ROUND(N19*100,0)*ROUND(L$7*10000,0)/12000000,0)/100,0) -> 37.3 | N20: =IF(N19>0,ROUND(N19+M20-L20,2),0) -> 6714.32 | O20: =IF(Q19>0,MIN(ROUND(O$6+IF(O$5=$C20,$E$5+$E20,0),2),ROUND(Q19+P20,2)),0) -> 0 | P20: =IF(Q19>0,ROUND(ROUND(Q19*100,0)*ROUND(O$7*10000,0)/12000000,0)/100,0) -> 0 | Q20: =IF(Q19>0,ROUND(Q19+P20-O20,2),0) -> 0 | R20: =IF(T19>0,MIN(ROUND(R$6+IF(R$5=$C20,$E$5+$E20,0),2),ROUND(T19+S20,2)),0) -> 0 | S20: =IF(T19>0,ROUND(ROUND(T19*100,0)*ROUND(R$7*10000,0)/12000000,0)/100,0) -> 0 | T20: =IF(T19>0,ROUND(T19+S20-R20,2),0) -> 0 | U20: =IF(W19>0,MIN(ROUND(U$6+IF(U$5=$C20,$E$5+$E20,0),2),ROUND(W19+V20,2)),0) -> 0 | V20: =IF(W19>0,ROUND(ROUND(W19*100,0)*ROUND(U$7*10000,0)/12000000,0)/100,0) -> 0 | W20: =IF(W19>0,ROUND(W19+V20-U20,2),0) -> 0 | X20: =IF(Z19>0,MIN(ROUND(X$6+IF(X$5=$C20,$E$5+$E20,0),2),ROUND(Z19+Y20,2)),0) -> 0 | Y20: =IF(Z19>0,ROUND(ROUND(Z19*100,0)*ROUND(X$7*10000,0)/12000000,0)/100,0) -> 0 | Z20: =IF(Z19>0,ROUND(Z19+Y20-X20,2),0) -> 0 | AA20: =IF(AC19>0,MIN(ROUND(AA$6+IF(AA$5=$C20,$E$5+$E20,0),2),ROUND(AC19+AB20,2)),0) -> 0 | AB20: =IF(AC19>0,ROUND(ROUND(AC19*100,0)*ROUND(AA$7*10000,0)/12000000,0)/100,0) -> 0 | AC20: =IF(AC19>0,ROUND(AC19+AB20-AA20,2),0) -> 0 | AD20: =IF(AF19>0,MIN(ROUND(AD$6+IF(AD$5=$C20,$E$5+$E20,0),2),ROUND(AF19+AE20,2)),0) -> 0 | AE20: =IF(AF19>0,ROUND(ROUND(AF19*100,0)*ROUND(AD$7*10000,0)/12000000,0)/100,0) -> 0 | AF20: =IF(AF19>0,ROUND(AF19+AE20-AD20,2),0) -> 0 | AG20: =IF(AI19>0,MIN(ROUND(AG$6+IF(AG$5=$C20,$E$5+$E20,0),2),ROUND(AI19+AH20,2)),0) -> 0 | AH20: =IF(AI19>0,ROUND(ROUND(AI19*100,0)*ROUND(AG$7*10000,0)/12000000,0)/100,0) -> 0 | AI20: =IF(AI19>0,ROUND(AI19+AH20-AG20,2),0) -> 0 | AJ20: =IF(AL19>0,MIN(ROUND(AJ$6+IF(AJ$5=$C20,$E$5+$E20,0),2),ROUND(AL19+AK20,2)),0) -> 0 | AK20: =IF(AL19>0,ROUND(ROUND(AL19*100,0)*ROUND(AJ$7*10000,0)/12000000,0)/100,0) -> 0 | AL20: =IF(AL19>0,ROUND(AL19+AK20-AJ20,2),0) -> 0
A21: =IF(F21>0,11,"") -> 11 | B21: =IF(F21>0,EDATE($E$6,11),"") -> 46635 | C21: =IF(H20>0,MIN(IF(K20>0,I$5,99),IF(N20>0,L$5,99),IF(Q20>0,O$5,99),IF(T20>0,R$5,99),IF(W20>0,U$5,99),IF(Z20>0,X$5,99),IF(AC20>0,AA$5,99),IF(AF20>0,AD$5,99),IF(AI20>0,AG$5,99),IF(AL20>0,AJ$5,99)),0) -> 2 | D21: =IF(C21>0,INDEX($I$4:$AL$4,1,MATCH(C21,$I$5:$AL$5,0)),"") -> Credit card | E21: =ROUND(IF(AND(I$8>0,K20=0),I$6,0)+IF(AND(L$8>0,N20=0),L$6,0)+IF(AND(O$8>0,Q20=0),O$6,0)+IF(AND(R$8>0,T20=0),R$6,0)+IF(AND(U$8>0,W20=0),U$6,0)+IF(AND(X$8>0,Z20=0),X$6,0)+IF(AND(AA$8>0,AC20=0),AA$6,0)+IF(AND(AD$8>0,AF20=0),AD$6,0)+IF(AND(AG$8>0,AI20=0),AG$6,0)+IF(AND(AJ$8>0,AL20=0),AJ$6,0),2) -> 25 | F21: =ROUND(I21+L21+O21+R21+U21+X21+AA21+AD21+AG21+AJ21,2) -> 480 | G21: =ROUND(J21+M21+P21+S21+V21+Y21+AB21+AE21+AH21+AK21,2) -> 74.76 | H21: =ROUND(K21+N21+Q21+T21+W21+Z21+AC21+AF21+AI21+AL21,2) -> 8152.6 | I21: =IF(K20>0,MIN(ROUND(I$6+IF(I$5=$C21,$E$5+$E21,0),2),ROUND(K20+J21,2)),0) -> 270 | J21: =IF(K20>0,ROUND(ROUND(K20*100,0)*ROUND(I$7*10000,0)/12000000,0)/100,0) -> 38.39 | K21: =IF(K20>0,ROUND(K20+J21-I21,2),0) -> 1611.91 | L21: =IF(N20>0,MIN(ROUND(L$6+IF(L$5=$C21,$E$5+$E21,0),2),ROUND(N20+M21,2)),0) -> 210 | M21: =IF(N20>0,ROUND(ROUND(N20*100,0)*ROUND(L$7*10000,0)/12000000,0)/100,0) -> 36.37 | N21: =IF(N20>0,ROUND(N20+M21-L21,2),0) -> 6540.69 | O21: =IF(Q20>0,MIN(ROUND(O$6+IF(O$5=$C21,$E$5+$E21,0),2),ROUND(Q20+P21,2)),0) -> 0 | P21: =IF(Q20>0,ROUND(ROUND(Q20*100,0)*ROUND(O$7*10000,0)/12000000,0)/100,0) -> 0 | Q21: =IF(Q20>0,ROUND(Q20+P21-O21,2),0) -> 0 | R21: =IF(T20>0,MIN(ROUND(R$6+IF(R$5=$C21,$E$5+$E21,0),2),ROUND(T20+S21,2)),0) -> 0 | S21: =IF(T20>0,ROUND(ROUND(T20*100,0)*ROUND(R$7*10000,0)/12000000,0)/100,0) -> 0 | T21: =IF(T20>0,ROUND(T20+S21-R21,2),0) -> 0 | U21: =IF(W20>0,MIN(ROUND(U$6+IF(U$5=$C21,$E$5+$E21,0),2),ROUND(W20+V21,2)),0) -> 0 | V21: =IF(W20>0,ROUND(ROUND(W20*100,0)*ROUND(U$7*10000,0)/12000000,0)/100,0) -> 0 | W21: =IF(W20>0,ROUND(W20+V21-U21,2),0) -> 0 | X21: =IF(Z20>0,MIN(ROUND(X$6+IF(X$5=$C21,$E$5+$E21,0),2),ROUND(Z20+Y21,2)),0) -> 0 | Y21: =IF(Z20>0,ROUND(ROUND(Z20*100,0)*ROUND(X$7*10000,0)/12000000,0)/100,0) -> 0 | Z21: =IF(Z20>0,ROUND(Z20+Y21-X21,2),0) -> 0 | AA21: =IF(AC20>0,MIN(ROUND(AA$6+IF(AA$5=$C21,$E$5+$E21,0),2),ROUND(AC20+AB21,2)),0) -> 0 | AB21: =IF(AC20>0,ROUND(ROUND(AC20*100,0)*ROUND(AA$7*10000,0)/12000000,0)/100,0) -> 0 | AC21: =IF(AC20>0,ROUND(AC20+AB21-AA21,2),0) -> 0 | AD21: =IF(AF20>0,MIN(ROUND(AD$6+IF(AD$5=$C21,$E$5+$E21,0),2),ROUND(AF20+AE21,2)),0) -> 0 | AE21: =IF(AF20>0,ROUND(ROUND(AF20*100,0)*ROUND(AD$7*10000,0)/12000000,0)/100,0) -> 0 | AF21: =IF(AF20>0,ROUND(AF20+AE21-AD21,2),0) -> 0 | AG21: =IF(AI20>0,MIN(ROUND(AG$6+IF(AG$5=$C21,$E$5+$E21,0),2),ROUND(AI20+AH21,2)),0) -> 0 | AH21: =IF(AI20>0,ROUND(ROUND(AI20*100,0)*ROUND(AG$7*10000,0)/12000000,0)/100,0) -> 0 | AI21: =IF(AI20>0,ROUND(AI20+AH21-AG21,2),0) -> 0 | AJ21: =IF(AL20>0,MIN(ROUND(AJ$6+IF(AJ$5=$C21,$E$5+$E21,0),2),ROUND(AL20+AK21,2)),0) -> 0 | AK21: =IF(AL20>0,ROUND(ROUND(AL20*100,0)*ROUND(AJ$7*10000,0)/12000000,0)/100,0) -> 0 | AL21: =IF(AL20>0,ROUND(AL20+AK21-AJ21,2),0) -> 0
A22: =IF(F22>0,12,"") -> 12 | B22: =IF(F22>0,EDATE($E$6,12),"") -> 46665 | C22: =IF(H21>0,MIN(IF(K21>0,I$5,99),IF(N21>0,L$5,99),IF(Q21>0,O$5,99),IF(T21>0,R$5,99),IF(W21>0,U$5,99),IF(Z21>0,X$5,99),IF(AC21>0,AA$5,99),IF(AF21>0,AD$5,99),IF(AI21>0,AG$5,99),IF(AL21>0,AJ$5,99)),0) -> 2 | D22: =IF(C22>0,INDEX($I$4:$AL$4,1,MATCH(C22,$I$5:$AL$5,0)),"") -> Credit card | E22: =ROUND(IF(AND(I$8>0,K21=0),I$6,0)+IF(AND(L$8>0,N21=0),L$6,0)+IF(AND(O$8>0,Q21=0),O$6,0)+IF(AND(R$8>0,T21=0),R$6,0)+IF(AND(U$8>0,W21=0),U$6,0)+IF(AND(X$8>0,Z21=0),X$6,0)+IF(AND(AA$8>0,AC21=0),AA$6,0)+IF(AND(AD$8>0,AF21=0),AD$6,0)+IF(AND(AG$8>0,AI21=0),AG$6,0)+IF(AND(AJ$8>0,AL21=0),AJ$6,0),2) -> 25 | F22: =ROUND(I22+L22+O22+R22+U22+X22+AA22+AD22+AG22+AJ22,2) -> 480 | G22: =ROUND(J22+M22+P22+S22+V22+Y22+AB22+AE22+AH22+AK22,2) -> 69 | H22: =ROUND(K22+N22+Q22+T22+W22+Z22+AC22+AF22+AI22+AL22,2) -> 7741.6 | I22: =IF(K21>0,MIN(ROUND(I$6+IF(I$5=$C22,$E$5+$E22,0),2),ROUND(K21+J22,2)),0) -> 270 | J22: =IF(K21>0,ROUND(ROUND(K21*100,0)*ROUND(I$7*10000,0)/12000000,0)/100,0) -> 33.57 | K22: =IF(K21>0,ROUND(K21+J22-I22,2),0) -> 1375.48 | L22: =IF(N21>0,MIN(ROUND(L$6+IF(L$5=$C22,$E$5+$E22,0),2),ROUND(N21+M22,2)),0) -> 210 | M22: =IF(N21>0,ROUND(ROUND(N21*100,0)*ROUND(L$7*10000,0)/12000000,0)/100,0) -> 35.43 | N22: =IF(N21>0,ROUND(N21+M22-L22,2),0) -> 6366.12 | O22: =IF(Q21>0,MIN(ROUND(O$6+IF(O$5=$C22,$E$5+$E22,0),2),ROUND(Q21+P22,2)),0) -> 0 | P22: =IF(Q21>0,ROUND(ROUND(Q21*100,0)*ROUND(O$7*10000,0)/12000000,0)/100,0) -> 0 | Q22: =IF(Q21>0,ROUND(Q21+P22-O22,2),0) -> 0 | R22: =IF(T21>0,MIN(ROUND(R$6+IF(R$5=$C22,$E$5+$E22,0),2),ROUND(T21+S22,2)),0) -> 0 | S22: =IF(T21>0,ROUND(ROUND(T21*100,0)*ROUND(R$7*10000,0)/12000000,0)/100,0) -> 0 | T22: =IF(T21>0,ROUND(T21+S22-R22,2),0) -> 0 | U22: =IF(W21>0,MIN(ROUND(U$6+IF(U$5=$C22,$E$5+$E22,0),2),ROUND(W21+V22,2)),0) -> 0 | V22: =IF(W21>0,ROUND(ROUND(W21*100,0)*ROUND(U$7*10000,0)/12000000,0)/100,0) -> 0 | W22: =IF(W21>0,ROUND(W21+V22-U22,2),0) -> 0 | X22: =IF(Z21>0,MIN(ROUND(X$6+IF(X$5=$C22,$E$5+$E22,0),2),ROUND(Z21+Y22,2)),0) -> 0 | Y22: =IF(Z21>0,ROUND(ROUND(Z21*100,0)*ROUND(X$7*10000,0)/12000000,0)/100,0) -> 0 | Z22: =IF(Z21>0,ROUND(Z21+Y22-X22,2),0) -> 0 | AA22: =IF(AC21>0,MIN(ROUND(AA$6+IF(AA$5=$C22,$E$5+$E22,0),2),ROUND(AC21+AB22,2)),0) -> 0 | AB22: =IF(AC21>0,ROUND(ROUND(AC21*100,0)*ROUND(AA$7*10000,0)/12000000,0)/100,0) -> 0 | AC22: =IF(AC21>0,ROUND(AC21+AB22-AA22,2),0) -> 0 | AD22: =IF(AF21>0,MIN(ROUND(AD$6+IF(AD$5=$C22,$E$5+$E22,0),2),ROUND(AF21+AE22,2)),0) -> 0 | AE22: =IF(AF21>0,ROUND(ROUND(AF21*100,0)*ROUND(AD$7*10000,0)/12000000,0)/100,0) -> 0 | AF22: =IF(AF21>0,ROUND(AF21+AE22-AD22,2),0) -> 0 | AG22: =IF(AI21>0,MIN(ROUND(AG$6+IF(AG$5=$C22,$E$5+$E22,0),2),ROUND(AI21+AH22,2)),0) -> 0 | AH22: =IF(AI21>0,ROUND(ROUND(AI21*100,0)*ROUND(AG$7*10000,0)/12000000,0)/100,0) -> 0 | AI22: =IF(AI21>0,ROUND(AI21+AH22-AG22,2),0) -> 0 | AJ22: =IF(AL21>0,MIN(ROUND(AJ$6+IF(AJ$5=$C22,$E$5+$E22,0),2),ROUND(AL21+AK22,2)),0) -> 0 | AK22: =IF(AL21>0,ROUND(ROUND(AL21*100,0)*ROUND(AJ$7*10000,0)/12000000,0)/100,0) -> 0 | AL22: =IF(AL21>0,ROUND(AL21+AK22-AJ22,2),0) -> 0
