Workbook

Sheet Plan
A1: Plan para pagar deudas con bola de nieve o avalancha
A2: Escribe tus datos en las celdas azules. La hoja Calendario muestra el plan mes a mes.
A3: Gratis en debtpayoff.app
B4: Ajustes
B5: Método | C5: Bola de nieve | D5: Bola de nieve o Avalancha
B6: Presupuesto mensual | C6: 475 | D6: Todo lo que pagas cada mes por tus deudas
B7: Fecha de inicio | C7: =TODAY() -> 46332 | D7: Fecha de tus saldos. El primer pago es un mes después.
B8: Pagos mínimos | C8: =ROUND(SUM(Calendario!I6:AV6),2) -> 325
B9: Extra al mes | C9: =C6-C8 -> 150 | D9: Presupuesto menos mínimos. Va a la primera deuda del orden.
B10: Resultados
B11: Mes sin deudas | C11: =IF(C12>0,EDATE(C7,C12),"") -> 47214
B12: Meses hasta acabar | C12: =COUNTIF(Calendario!F11:F370,">0") -> 29
B13: Intereses totales | C13: =ROUND(SUM(Calendario!G11:G370),2) -> 1107.42
B14: Total pagado | C14: =ROUND(SUM(Calendario!F11:F370),2) -> 13207.42
B15: Revisión | C15: =IF(COUNTIF(Calendario!I8:AV8,">0")=0,"Añade tus deudas abajo.",IF(COUNTIF(Calendario!I9:AV9,"Sin mínimo")>0,"Añade un pago mínimo a cada deuda.",IF(C9<0,"El presupuesto no cubre los pagos mínimos.",IF(COUNTIF(Calendario!I9:AV9,"Muy bajo")>0,"Un pago no cubre sus intereses. Mira la columna Revisión.",IF(Calendario!H370>0,"No se liquida en 360 meses. Sube el presupuesto.","OK"))))) -> OK
B17: Deudas (hasta 10)
A18: # | B18: Deuda | C18: Saldo | D18: Interés % | E18: Pago mínimo | F18: Orden | G18: Meses | H18: Liquidada en | I18: Intereses pagados | J18: Revisión
A19: 1 | B19: Tarjeta de crédito | C19: 2500 | D19: 18 | E19: 75 | F19: =IF(Calendario!I5>0,Calendario!I5,"") -> 2 | G19: =IF(Calendario!I8>0,COUNTIF(Calendario!I11:I370,">0"),"") -> 13 | H19: =IF(Calendario!I8>0,IF(Calendario!K370=0,EDATE($C$7,G19),""),"") -> 46727 | I19: =IF(Calendario!I8>0,ROUND(SUM(Calendario!J11:J370),2),"") -> 300.59 | J19: =Calendario!I9 -> OK
A20: 2 | B20: Préstamo de coche | C20: 9000 | D20: 6 | E20: 200 | F20: =IF(Calendario!M5>0,Calendario!M5,"") -> 3 | G20: =IF(Calendario!M8>0,COUNTIF(Calendario!M11:M370,">0"),"") -> 29 | H20: =IF(Calendario!M8>0,IF(Calendario!O370=0,EDATE($C$7,G20),""),"") -> 47214 | I20: =IF(Calendario!M8>0,ROUND(SUM(Calendario!N11:N370),2),"") -> 806.83 | J20: =Calendario!M9 -> OK
A21: 3 | B21: Compra a plazos | C21: 600 | D21: 0 | E21: 50 | F21: =IF(Calendario!Q5>0,Calendario!Q5,"") -> 1 | G21: =IF(Calendario!Q8>0,COUNTIF(Calendario!Q11:Q370,">0"),"") -> 3 | H21: =IF(Calendario!Q8>0,IF(Calendario!S370=0,EDATE($C$7,G21),""),"") -> 46424 | I21: =IF(Calendario!Q8>0,ROUND(SUM(Calendario!R11:R370),2),"") -> 0 | J21: =Calendario!Q9 -> OK
A22: 4 | F22: =IF(Calendario!U5>0,Calendario!U5,"") | G22: =IF(Calendario!U8>0,COUNTIF(Calendario!U11:U370,">0"),"") | H22: =IF(Calendario!U8>0,IF(Calendario!W370=0,EDATE($C$7,G22),""),"") | I22: =IF(Calendario!U8>0,ROUND(SUM(Calendario!V11:V370),2),"") | J22: =Calendario!U9
A23: 5 | F23: =IF(Calendario!Y5>0,Calendario!Y5,"") | G23: =IF(Calendario!Y8>0,COUNTIF(Calendario!Y11:Y370,">0"),"") | H23: =IF(Calendario!Y8>0,IF(Calendario!AA370=0,EDATE($C$7,G23),""),"") | I23: =IF(Calendario!Y8>0,ROUND(SUM(Calendario!Z11:Z370),2),"") | J23: =Calendario!Y9
A24: 6 | F24: =IF(Calendario!AC5>0,Calendario!AC5,"") | G24: =IF(Calendario!AC8>0,COUNTIF(Calendario!AC11:AC370,">0"),"") | H24: =IF(Calendario!AC8>0,IF(Calendario!AE370=0,EDATE($C$7,G24),""),"") | I24: =IF(Calendario!AC8>0,ROUND(SUM(Calendario!AD11:AD370),2),"") | J24: =Calendario!AC9
A25: 7 | F25: =IF(Calendario!AG5>0,Calendario!AG5,"") | G25: =IF(Calendario!AG8>0,COUNTIF(Calendario!AG11:AG370,">0"),"") | H25: =IF(Calendario!AG8>0,IF(Calendario!AI370=0,EDATE($C$7,G25),""),"") | I25: =IF(Calendario!AG8>0,ROUND(SUM(Calendario!AH11:AH370),2),"") | J25: =Calendario!AG9
A26: 8 | F26: =IF(Calendario!AK5>0,Calendario!AK5,"") | G26: =IF(Calendario!AK8>0,COUNTIF(Calendario!AK11:AK370,">0"),"") | H26: =IF(Calendario!AK8>0,IF(Calendario!AM370=0,EDATE($C$7,G26),""),"") | I26: =IF(Calendario!AK8>0,ROUND(SUM(Calendario!AL11:AL370),2),"") | J26: =Calendario!AK9
A27: 9 | F27: =IF(Calendario!AO5>0,Calendario!AO5,"") | G27: =IF(Calendario!AO8>0,COUNTIF(Calendario!AO11:AO370,">0"),"") | H27: =IF(Calendario!AO8>0,IF(Calendario!AQ370=0,EDATE($C$7,G27),""),"") | I27: =IF(Calendario!AO8>0,ROUND(SUM(Calendario!AP11:AP370),2),"") | J27: =Calendario!AO9
A28: 10 | F28: =IF(Calendario!AS5>0,Calendario!AS5,"") | G28: =IF(Calendario!AS8>0,COUNTIF(Calendario!AS11:AS370,">0"),"") | H28: =IF(Calendario!AS8>0,IF(Calendario!AU370=0,EDATE($C$7,G28),""),"") | I28: =IF(Calendario!AS8>0,ROUND(SUM(Calendario!AT11:AT370),2),"") | J28: =Calendario!AS9
B29: Total | C29: =ROUND(SUM(Calendario!I8:AV8),2) -> 12100 | E29: =C8 -> 325 | I29: =C13 -> 1107.42

Sheet Calendario
A1: Calendario mes a mes
A2: Calculado desde la hoja Plan. Cambia tus datos allí.
D4: Método | E4: =IF(UPPER(LEFT(TRIM(Plan!C5),1))="A","Avalancha","Bola de nieve") -> Bola de nieve | H4: Deuda | I4: =IF(I8>0,IF(TRIM(Plan!B19)="","Deuda 1",TRIM(Plan!B19)),"") -> Tarjeta de crédito | M4: =IF(M8>0,IF(TRIM(Plan!B20)="","Deuda 2",TRIM(Plan!B20)),"") -> Préstamo de coche | Q4: =IF(Q8>0,IF(TRIM(Plan!B21)="","Deuda 3",TRIM(Plan!B21)),"") -> Compra a plazos | U4: =IF(U8>0,IF(TRIM(Plan!B22)="","Deuda 4",TRIM(Plan!B22)),"") | Y4: =IF(Y8>0,IF(TRIM(Plan!B23)="","Deuda 5",TRIM(Plan!B23)),"") | AC4: =IF(AC8>0,IF(TRIM(Plan!B24)="","Deuda 6",TRIM(Plan!B24)),"") | AG4: =IF(AG8>0,IF(TRIM(Plan!B25)="","Deuda 7",TRIM(Plan!B25)),"") | AK4: =IF(AK8>0,IF(TRIM(Plan!B26)="","Deuda 8",TRIM(Plan!B26)),"") | AO4: =IF(AO8>0,IF(TRIM(Plan!B27)="","Deuda 9",TRIM(Plan!B27)),"") | AS4: =IF(AS8>0,IF(TRIM(Plan!B28)="","Deuda 10",TRIM(Plan!B28)),"")
D5: Extra al mes | E5: =MAX(0,Plan!C9) -> 150 | H5: Orden | I5: =IF(I8>0,1+IF(AND(M8>0,IF($E$4="Avalancha",OR(M7>I7,AND(M7=I7,OR(M8<I8,AND(M8=I8,M4<I4)))),OR(M8<I8,AND(M8=I8,OR(M7>I7,AND(M7=I7,M4<I4)))))),1,0)+IF(AND(Q8>0,IF($E$4="Avalancha",OR(Q7>I7,AND(Q7=I7,OR(Q8<I8,AND(Q8=I8,Q4<I4)))),OR(Q8<I8,AND(Q8=I8,OR(Q7>I7,AND(Q7=I7,Q4<I4)))))),1,0)+IF(AND(U8>0,IF($E$4="Avalancha",OR(U7>I7,AND(U7=I7,OR(U8<I8,AND(U8=I8,U4<I4)))),OR(U8<I8,AND(U8=I8,OR(U7>I7,AND(U7=I7,U4<I4)))))),1,0)+IF(AND(Y8>0,IF($E$4="Avalancha",OR(Y7>I7,AND(Y7=I7,OR(Y8<I8,AND(Y8=I8,Y4<I4)))),OR(Y8<I8,AND(Y8=I8,OR(Y7>I7,AND(Y7=I7,Y4<I4)))))),1,0)+IF(AND(AC8>0,IF($E$4="Avalancha",OR(AC7>I7,AND(AC7=I7,OR(AC8<I8,AND(AC8=I8,AC4<I4)))),OR(AC8<I8,AND(AC8=I8,OR(AC7>I7,AND(AC7=I7,AC4<I4)))))),1,0)+IF(AND(AG8>0,IF($E$4="Avalancha",OR(AG7>I7,AND(AG7=I7,OR(AG8<I8,AND(AG8=I8,AG4<I4)))),OR(AG8<I8,AND(AG8=I8,OR(AG7>I7,AND(AG7=I7,AG4<I4)))))),1,0)+IF(AND(AK8>0,IF($E$4="Avalancha",OR(AK7>I7,AND(AK7=I7,OR(AK8<I8,AND(AK8=I8,AK4<I4)))),OR(AK8<I8,AND(AK8=I8,OR(AK7>I7,AND(AK7=I7,AK4<I4)))))),1,0)+IF(AND(AO8>0,IF($E$4="Avalancha",OR(AO7>I7,AND(AO7=I7,OR(AO8<I8,AND(AO8=I8,AO4<I4)))),OR(AO8<I8,AND(AO8=I8,OR(AO7>I7,AND(AO7=I7,AO4<I4)))))),1,0)+IF(AND(AS8>0,IF($E$4="Avalancha",OR(AS7>I7,AND(AS7=I7,OR(AS8<I8,AND(AS8=I8,AS4<I4)))),OR(AS8<I8,AND(AS8=I8,OR(AS7>I7,AND(AS7=I7,AS4<I4)))))),1,0),0) -> 2 | M5: =IF(M8>0,1+IF(AND(I8>0,IF($E$4="Avalancha",OR(I7>M7,AND(I7=M7,OR(I8<M8,AND(I8=M8,I4<=M4)))),OR(I8<M8,AND(I8=M8,OR(I7>M7,AND(I7=M7,I4<=M4)))))),1,0)+IF(AND(Q8>0,IF($E$4="Avalancha",OR(Q7>M7,AND(Q7=M7,OR(Q8<M8,AND(Q8=M8,Q4<M4)))),OR(Q8<M8,AND(Q8=M8,OR(Q7>M7,AND(Q7=M7,Q4<M4)))))),1,0)+IF(AND(U8>0,IF($E$4="Avalancha",OR(U7>M7,AND(U7=M7,OR(U8<M8,AND(U8=M8,U4<M4)))),OR(U8<M8,AND(U8=M8,OR(U7>M7,AND(U7=M7,U4<M4)))))),1,0)+IF(AND(Y8>0,IF($E$4="Avalancha",OR(Y7>M7,AND(Y7=M7,OR(Y8<M8,AND(Y8=M8,Y4<M4)))),OR(Y8<M8,AND(Y8=M8,OR(Y7>M7,AND(Y7=M7,Y4<M4)))))),1,0)+IF(AND(AC8>0,IF($E$4="Avalancha",OR(AC7>M7,AND(AC7=M7,OR(AC8<M8,AND(AC8=M8,AC4<M4)))),OR(AC8<M8,AND(AC8=M8,OR(AC7>M7,AND(AC7=M7,AC4<M4)))))),1,0)+IF(AND(AG8>0,IF($E$4="Avalancha",OR(AG7>M7,AND(AG7=M7,OR(AG8<M8,AND(AG8=M8,AG4<M4)))),OR(AG8<M8,AND(AG8=M8,OR(AG7>M7,AND(AG7=M7,AG4<M4)))))),1,0)+IF(AND(AK8>0,IF($E$4="Avalancha",OR(AK7>M7,AND(AK7=M7,OR(AK8<M8,AND(AK8=M8,AK4<M4)))),OR(AK8<M8,AND(AK8=M8,OR(AK7>M7,AND(AK7=M7,AK4<M4)))))),1,0)+IF(AND(AO8>0,IF($E$4="Avalancha",OR(AO7>M7,AND(AO7=M7,OR(AO8<M8,AND(AO8=M8,AO4<M4)))),OR(AO8<M8,AND(AO8=M8,OR(AO7>M7,AND(AO7=M7,AO4<M4)))))),1,0)+IF(AND(AS8>0,IF($E$4="Avalancha",OR(AS7>M7,AND(AS7=M7,OR(AS8<M8,AND(AS8=M8,AS4<M4)))),OR(AS8<M8,AND(AS8=M8,OR(AS7>M7,AND(AS7=M7,AS4<M4)))))),1,0),0) -> 3 | Q5: =IF(Q8>0,1+IF(AND(I8>0,IF($E$4="Avalancha",OR(I7>Q7,AND(I7=Q7,OR(I8<Q8,AND(I8=Q8,I4<=Q4)))),OR(I8<Q8,AND(I8=Q8,OR(I7>Q7,AND(I7=Q7,I4<=Q4)))))),1,0)+IF(AND(M8>0,IF($E$4="Avalancha",OR(M7>Q7,AND(M7=Q7,OR(M8<Q8,AND(M8=Q8,M4<=Q4)))),OR(M8<Q8,AND(M8=Q8,OR(M7>Q7,AND(M7=Q7,M4<=Q4)))))),1,0)+IF(AND(U8>0,IF($E$4="Avalancha",OR(U7>Q7,AND(U7=Q7,OR(U8<Q8,AND(U8=Q8,U4<Q4)))),OR(U8<Q8,AND(U8=Q8,OR(U7>Q7,AND(U7=Q7,U4<Q4)))))),1,0)+IF(AND(Y8>0,IF($E$4="Avalancha",OR(Y7>Q7,AND(Y7=Q7,OR(Y8<Q8,AND(Y8=Q8,Y4<Q4)))),OR(Y8<Q8,AND(Y8=Q8,OR(Y7>Q7,AND(Y7=Q7,Y4<Q4)))))),1,0)+IF(AND(AC8>0,IF($E$4="Avalancha",OR(AC7>Q7,AND(AC7=Q7,OR(AC8<Q8,AND(AC8=Q8,AC4<Q4)))),OR(AC8<Q8,AND(AC8=Q8,OR(AC7>Q7,AND(AC7=Q7,AC4<Q4)))))),1,0)+IF(AND(AG8>0,IF($E$4="Avalancha",OR(AG7>Q7,AND(AG7=Q7,OR(AG8<Q8,AND(AG8=Q8,AG4<Q4)))),OR(AG8<Q8,AND(AG8=Q8,OR(AG7>Q7,AND(AG7=Q7,AG4<Q4)))))),1,0)+IF(AND(AK8>0,IF($E$4="Avalancha",OR(AK7>Q7,AND(AK7=Q7,OR(AK8<Q8,AND(AK8=Q8,AK4<Q4)))),OR(AK8<Q8,AND(AK8=Q8,OR(AK7>Q7,AND(AK7=Q7,AK4<Q4)))))),1,0)+IF(AND(AO8>0,IF($E$4="Avalancha",OR(AO7>Q7,AND(AO7=Q7,OR(AO8<Q8,AND(AO8=Q8,AO4<Q4)))),OR(AO8<Q8,AND(AO8=Q8,OR(AO7>Q7,AND(AO7=Q7,AO4<Q4)))))),1,0)+IF(AND(AS8>0,IF($E$4="Avalancha",OR(AS7>Q7,AND(AS7=Q7,OR(AS8<Q8,AND(AS8=Q8,AS4<Q4)))),OR(AS8<Q8,AND(AS8=Q8,OR(AS7>Q7,AND(AS7=Q7,AS4<Q4)))))),1,0),0) -> 1 | U5: =IF(U8>0,1+IF(AND(I8>0,IF($E$4="Avalancha",OR(I7>U7,AND(I7=U7,OR(I8<U8,AND(I8=U8,I4<=U4)))),OR(I8<U8,AND(I8=U8,OR(I7>U7,AND(I7=U7,I4<=U4)))))),1,0)+IF(AND(M8>0,IF($E$4="Avalancha",OR(M7>U7,AND(M7=U7,OR(M8<U8,AND(M8=U8,M4<=U4)))),OR(M8<U8,AND(M8=U8,OR(M7>U7,AND(M7=U7,M4<=U4)))))),1,0)+IF(AND(Q8>0,IF($E$4="Avalancha",OR(Q7>U7,AND(Q7=U7,OR(Q8<U8,AND(Q8=U8,Q4<=U4)))),OR(Q8<U8,AND(Q8=U8,OR(Q7>U7,AND(Q7=U7,Q4<=U4)))))),1,0)+IF(AND(Y8>0,IF($E$4="Avalancha",OR(Y7>U7,AND(Y7=U7,OR(Y8<U8,AND(Y8=U8,Y4<U4)))),OR(Y8<U8,AND(Y8=U8,OR(Y7>U7,AND(Y7=U7,Y4<U4)))))),1,0)+IF(AND(AC8>0,IF($E$4="Avalancha",OR(AC7>U7,AND(AC7=U7,OR(AC8<U8,AND(AC8=U8,AC4<U4)))),OR(AC8<U8,AND(AC8=U8,OR(AC7>U7,AND(AC7=U7,AC4<U4)))))),1,0)+IF(AND(AG8>0,IF($E$4="Avalancha",OR(AG7>U7,AND(AG7=U7,OR(AG8<U8,AND(AG8=U8,AG4<U4)))),OR(AG8<U8,AND(AG8=U8,OR(AG7>U7,AND(AG7=U7,AG4<U4)))))),1,0)+IF(AND(AK8>0,IF($E$4="Avalancha",OR(AK7>U7,AND(AK7=U7,OR(AK8<U8,AND(AK8=U8,AK4<U4)))),OR(AK8<U8,AND(AK8=U8,OR(AK7>U7,AND(AK7=U7,AK4<U4)))))),1,0)+IF(AND(AO8>0,IF($E$4="Avalancha",OR(AO7>U7,AND(AO7=U7,OR(AO8<U8,AND(AO8=U8,AO4<U4)))),OR(AO8<U8,AND(AO8=U8,OR(AO7>U7,AND(AO7=U7,AO4<U4)))))),1,0)+IF(AND(AS8>0,IF($E$4="Avalancha",OR(AS7>U7,AND(AS7=U7,OR(AS8<U8,AND(AS8=U8,AS4<U4)))),OR(AS8<U8,AND(AS8=U8,OR(AS7>U7,AND(AS7=U7,AS4<U4)))))),1,0),0) -> 0 | Y5: =IF(Y8>0,1+IF(AND(I8>0,IF($E$4="Avalancha",OR(I7>Y7,AND(I7=Y7,OR(I8<Y8,AND(I8=Y8,I4<=Y4)))),OR(I8<Y8,AND(I8=Y8,OR(I7>Y7,AND(I7=Y7,I4<=Y4)))))),1,0)+IF(AND(M8>0,IF($E$4="Avalancha",OR(M7>Y7,AND(M7=Y7,OR(M8<Y8,AND(M8=Y8,M4<=Y4)))),OR(M8<Y8,AND(M8=Y8,OR(M7>Y7,AND(M7=Y7,M4<=Y4)))))),1,0)+IF(AND(Q8>0,IF($E$4="Avalancha",OR(Q7>Y7,AND(Q7=Y7,OR(Q8<Y8,AND(Q8=Y8,Q4<=Y4)))),OR(Q8<Y8,AND(Q8=Y8,OR(Q7>Y7,AND(Q7=Y7,Q4<=Y4)))))),1,0)+IF(AND(U8>0,IF($E$4="Avalancha",OR(U7>Y7,AND(U7=Y7,OR(U8<Y8,AND(U8=Y8,U4<=Y4)))),OR(U8<Y8,AND(U8=Y8,OR(U7>Y7,AND(U7=Y7,U4<=Y4)))))),1,0)+IF(AND(AC8>0,IF($E$4="Avalancha",OR(AC7>Y7,AND(AC7=Y7,OR(AC8<Y8,AND(AC8=Y8,AC4<Y4)))),OR(AC8<Y8,AND(AC8=Y8,OR(AC7>Y7,AND(AC7=Y7,AC4<Y4)))))),1,0)+IF(AND(AG8>0,IF($E$4="Avalancha",OR(AG7>Y7,AND(AG7=Y7,OR(AG8<Y8,AND(AG8=Y8,AG4<Y4)))),OR(AG8<Y8,AND(AG8=Y8,OR(AG7>Y7,AND(AG7=Y7,AG4<Y4)))))),1,0)+IF(AND(AK8>0,IF($E$4="Avalancha",OR(AK7>Y7,AND(AK7=Y7,OR(AK8<Y8,AND(AK8=Y8,AK4<Y4)))),OR(AK8<Y8,AND(AK8=Y8,OR(AK7>Y7,AND(AK7=Y7,AK4<Y4)))))),1,0)+IF(AND(AO8>0,IF($E$4="Avalancha",OR(AO7>Y7,AND(AO7=Y7,OR(AO8<Y8,AND(AO8=Y8,AO4<Y4)))),OR(AO8<Y8,AND(AO8=Y8,OR(AO7>Y7,AND(AO7=Y7,AO4<Y4)))))),1,0)+IF(AND(AS8>0,IF($E$4="Avalancha",OR(AS7>Y7,AND(AS7=Y7,OR(AS8<Y8,AND(AS8=Y8,AS4<Y4)))),OR(AS8<Y8,AND(AS8=Y8,OR(AS7>Y7,AND(AS7=Y7,AS4<Y4)))))),1,0),0) -> 0 | AC5: =IF(AC8>0,1+IF(AND(I8>0,IF($E$4="Avalancha",OR(I7>AC7,AND(I7=AC7,OR(I8<AC8,AND(I8=AC8,I4<=AC4)))),OR(I8<AC8,AND(I8=AC8,OR(I7>AC7,AND(I7=AC7,I4<=AC4)))))),1,0)+IF(AND(M8>0,IF($E$4="Avalancha",OR(M7>AC7,AND(M7=AC7,OR(M8<AC8,AND(M8=AC8,M4<=AC4)))),OR(M8<AC8,AND(M8=AC8,OR(M7>AC7,AND(M7=AC7,M4<=AC4)))))),1,0)+IF(AND(Q8>0,IF($E$4="Avalancha",OR(Q7>AC7,AND(Q7=AC7,OR(Q8<AC8,AND(Q8=AC8,Q4<=AC4)))),OR(Q8<AC8,AND(Q8=AC8,OR(Q7>AC7,AND(Q7=AC7,Q4<=AC4)))))),1,0)+IF(AND(U8>0,IF($E$4="Avalancha",OR(U7>AC7,AND(U7=AC7,OR(U8<AC8,AND(U8=AC8,U4<=AC4)))),OR(U8<AC8,AND(U8=AC8,OR(U7>AC7,AND(U7=AC7,U4<=AC4)))))),1,0)+IF(AND(Y8>0,IF($E$4="Avalancha",OR(Y7>AC7,AND(Y7=AC7,OR(Y8<AC8,AND(Y8=AC8,Y4<=AC4)))),OR(Y8<AC8,AND(Y8=AC8,OR(Y7>AC7,AND(Y7=AC7,Y4<=AC4)))))),1,0)+IF(AND(AG8>0,IF($E$4="Avalancha",OR(AG7>AC7,AND(AG7=AC7,OR(AG8<AC8,AND(AG8=AC8,AG4<AC4)))),OR(AG8<AC8,AND(AG8=AC8,OR(AG7>AC7,AND(AG7=AC7,AG4<AC4)))))),1,0)+IF(AND(AK8>0,IF($E$4="Avalancha",OR(AK7>AC7,AND(AK7=AC7,OR(AK8<AC8,AND(AK8=AC8,AK4<AC4)))),OR(AK8<AC8,AND(AK8=AC8,OR(AK7>AC7,AND(AK7=AC7,AK4<AC4)))))),1,0)+IF(AND(AO8>0,IF($E$4="Avalancha",OR(AO7>AC7,AND(AO7=AC7,OR(AO8<AC8,AND(AO8=AC8,AO4<AC4)))),OR(AO8<AC8,AND(AO8=AC8,OR(AO7>AC7,AND(AO7=AC7,AO4<AC4)))))),1,0)+IF(AND(AS8>0,IF($E$4="Avalancha",OR(AS7>AC7,AND(AS7=AC7,OR(AS8<AC8,AND(AS8=AC8,AS4<AC4)))),OR(AS8<AC8,AND(AS8=AC8,OR(AS7>AC7,AND(AS7=AC7,AS4<AC4)))))),1,0),0) -> 0 | AG5: =IF(AG8>0,1+IF(AND(I8>0,IF($E$4="Avalancha",OR(I7>AG7,AND(I7=AG7,OR(I8<AG8,AND(I8=AG8,I4<=AG4)))),OR(I8<AG8,AND(I8=AG8,OR(I7>AG7,AND(I7=AG7,I4<=AG4)))))),1,0)+IF(AND(M8>0,IF($E$4="Avalancha",OR(M7>AG7,AND(M7=AG7,OR(M8<AG8,AND(M8=AG8,M4<=AG4)))),OR(M8<AG8,AND(M8=AG8,OR(M7>AG7,AND(M7=AG7,M4<=AG4)))))),1,0)+IF(AND(Q8>0,IF($E$4="Avalancha",OR(Q7>AG7,AND(Q7=AG7,OR(Q8<AG8,AND(Q8=AG8,Q4<=AG4)))),OR(Q8<AG8,AND(Q8=AG8,OR(Q7>AG7,AND(Q7=AG7,Q4<=AG4)))))),1,0)+IF(AND(U8>0,IF($E$4="Avalancha",OR(U7>AG7,AND(U7=AG7,OR(U8<AG8,AND(U8=AG8,U4<=AG4)))),OR(U8<AG8,AND(U8=AG8,OR(U7>AG7,AND(U7=AG7,U4<=AG4)))))),1,0)+IF(AND(Y8>0,IF($E$4="Avalancha",OR(Y7>AG7,AND(Y7=AG7,OR(Y8<AG8,AND(Y8=AG8,Y4<=AG4)))),OR(Y8<AG8,AND(Y8=AG8,OR(Y7>AG7,AND(Y7=AG7,Y4<=AG4)))))),1,0)+IF(AND(AC8>0,IF($E$4="Avalancha",OR(AC7>AG7,AND(AC7=AG7,OR(AC8<AG8,AND(AC8=AG8,AC4<=AG4)))),OR(AC8<AG8,AND(AC8=AG8,OR(AC7>AG7,AND(AC7=AG7,AC4<=AG4)))))),1,0)+IF(AND(AK8>0,IF($E$4="Avalancha",OR(AK7>AG7,AND(AK7=AG7,OR(AK8<AG8,AND(AK8=AG8,AK4<AG4)))),OR(AK8<AG8,AND(AK8=AG8,OR(AK7>AG7,AND(AK7=AG7,AK4<AG4)))))),1,0)+IF(AND(AO8>0,IF($E$4="Avalancha",OR(AO7>AG7,AND(AO7=AG7,OR(AO8<AG8,AND(AO8=AG8,AO4<AG4)))),OR(AO8<AG8,AND(AO8=AG8,OR(AO7>AG7,AND(AO7=AG7,AO4<AG4)))))),1,0)+IF(AND(AS8>0,IF($E$4="Avalancha",OR(AS7>AG7,AND(AS7=AG7,OR(AS8<AG8,AND(AS8=AG8,AS4<AG4)))),OR(AS8<AG8,AND(AS8=AG8,OR(AS7>AG7,AND(AS7=AG7,AS4<AG4)))))),1,0),0) -> 0 | AK5: =IF(AK8>0,1+IF(AND(I8>0,IF($E$4="Avalancha",OR(I7>AK7,AND(I7=AK7,OR(I8<AK8,AND(I8=AK8,I4<=AK4)))),OR(I8<AK8,AND(I8=AK8,OR(I7>AK7,AND(I7=AK7,I4<=AK4)))))),1,0)+IF(AND(M8>0,IF($E$4="Avalancha",OR(M7>AK7,AND(M7=AK7,OR(M8<AK8,AND(M8=AK8,M4<=AK4)))),OR(M8<AK8,AND(M8=AK8,OR(M7>AK7,AND(M7=AK7,M4<=AK4)))))),1,0)+IF(AND(Q8>0,IF($E$4="Avalancha",OR(Q7>AK7,AND(Q7=AK7,OR(Q8<AK8,AND(Q8=AK8,Q4<=AK4)))),OR(Q8<AK8,AND(Q8=AK8,OR(Q7>AK7,AND(Q7=AK7,Q4<=AK4)))))),1,0)+IF(AND(U8>0,IF($E$4="Avalancha",OR(U7>AK7,AND(U7=AK7,OR(U8<AK8,AND(U8=AK8,U4<=AK4)))),OR(U8<AK8,AND(U8=AK8,OR(U7>AK7,AND(U7=AK7,U4<=AK4)))))),1,0)+IF(AND(Y8>0,IF($E$4="Avalancha",OR(Y7>AK7,AND(Y7=AK7,OR(Y8<AK8,AND(Y8=AK8,Y4<=AK4)))),OR(Y8<AK8,AND(Y8=AK8,OR(Y7>AK7,AND(Y7=AK7,Y4<=AK4)))))),1,0)+IF(AND(AC8>0,IF($E$4="Avalancha",OR(AC7>AK7,AND(AC7=AK7,OR(AC8<AK8,AND(AC8=AK8,AC4<=AK4)))),OR(AC8<AK8,AND(AC8=AK8,OR(AC7>AK7,AND(AC7=AK7,AC4<=AK4)))))),1,0)+IF(AND(AG8>0,IF($E$4="Avalancha",OR(AG7>AK7,AND(AG7=AK7,OR(AG8<AK8,AND(AG8=AK8,AG4<=AK4)))),OR(AG8<AK8,AND(AG8=AK8,OR(AG7>AK7,AND(AG7=AK7,AG4<=AK4)))))),1,0)+IF(AND(AO8>0,IF($E$4="Avalancha",OR(AO7>AK7,AND(AO7=AK7,OR(AO8<AK8,AND(AO8=AK8,AO4<AK4)))),OR(AO8<AK8,AND(AO8=AK8,OR(AO7>AK7,AND(AO7=AK7,AO4<AK4)))))),1,0)+IF(AND(AS8>0,IF($E$4="Avalancha",OR(AS7>AK7,AND(AS7=AK7,OR(AS8<AK8,AND(AS8=AK8,AS4<AK4)))),OR(AS8<AK8,AND(AS8=AK8,OR(AS7>AK7,AND(AS7=AK7,AS4<AK4)))))),1,0),0) -> 0 | AO5: =IF(AO8>0,1+IF(AND(I8>0,IF($E$4="Avalancha",OR(I7>AO7,AND(I7=AO7,OR(I8<AO8,AND(I8=AO8,I4<=AO4)))),OR(I8<AO8,AND(I8=AO8,OR(I7>AO7,AND(I7=AO7,I4<=AO4)))))),1,0)+IF(AND(M8>0,IF($E$4="Avalancha",OR(M7>AO7,AND(M7=AO7,OR(M8<AO8,AND(M8=AO8,M4<=AO4)))),OR(M8<AO8,AND(M8=AO8,OR(M7>AO7,AND(M7=AO7,M4<=AO4)))))),1,0)+IF(AND(Q8>0,IF($E$4="Avalancha",OR(Q7>AO7,AND(Q7=AO7,OR(Q8<AO8,AND(Q8=AO8,Q4<=AO4)))),OR(Q8<AO8,AND(Q8=AO8,OR(Q7>AO7,AND(Q7=AO7,Q4<=AO4)))))),1,0)+IF(AND(U8>0,IF($E$4="Avalancha",OR(U7>AO7,AND(U7=AO7,OR(U8<AO8,AND(U8=AO8,U4<=AO4)))),OR(U8<AO8,AND(U8=AO8,OR(U7>AO7,AND(U7=AO7,U4<=AO4)))))),1,0)+IF(AND(Y8>0,IF($E$4="Avalancha",OR(Y7>AO7,AND(Y7=AO7,OR(Y8<AO8,AND(Y8=AO8,Y4<=AO4)))),OR(Y8<AO8,AND(Y8=AO8,OR(Y7>AO7,AND(Y7=AO7,Y4<=AO4)))))),1,0)+IF(AND(AC8>0,IF($E$4="Avalancha",OR(AC7>AO7,AND(AC7=AO7,OR(AC8<AO8,AND(AC8=AO8,AC4<=AO4)))),OR(AC8<AO8,AND(AC8=AO8,OR(AC7>AO7,AND(AC7=AO7,AC4<=AO4)))))),1,0)+IF(AND(AG8>0,IF($E$4="Avalancha",OR(AG7>AO7,AND(AG7=AO7,OR(AG8<AO8,AND(AG8=AO8,AG4<=AO4)))),OR(AG8<AO8,AND(AG8=AO8,OR(AG7>AO7,AND(AG7=AO7,AG4<=AO4)))))),1,0)+IF(AND(AK8>0,IF($E$4="Avalancha",OR(AK7>AO7,AND(AK7=AO7,OR(AK8<AO8,AND(AK8=AO8,AK4<=AO4)))),OR(AK8<AO8,AND(AK8=AO8,OR(AK7>AO7,AND(AK7=AO7,AK4<=AO4)))))),1,0)+IF(AND(AS8>0,IF($E$4="Avalancha",OR(AS7>AO7,AND(AS7=AO7,OR(AS8<AO8,AND(AS8=AO8,AS4<AO4)))),OR(AS8<AO8,AND(AS8=AO8,OR(AS7>AO7,AND(AS7=AO7,AS4<AO4)))))),1,0),0) -> 0 | AS5: =IF(AS8>0,1+IF(AND(I8>0,IF($E$4="Avalancha",OR(I7>AS7,AND(I7=AS7,OR(I8<AS8,AND(I8=AS8,I4<=AS4)))),OR(I8<AS8,AND(I8=AS8,OR(I7>AS7,AND(I7=AS7,I4<=AS4)))))),1,0)+IF(AND(M8>0,IF($E$4="Avalancha",OR(M7>AS7,AND(M7=AS7,OR(M8<AS8,AND(M8=AS8,M4<=AS4)))),OR(M8<AS8,AND(M8=AS8,OR(M7>AS7,AND(M7=AS7,M4<=AS4)))))),1,0)+IF(AND(Q8>0,IF($E$4="Avalancha",OR(Q7>AS7,AND(Q7=AS7,OR(Q8<AS8,AND(Q8=AS8,Q4<=AS4)))),OR(Q8<AS8,AND(Q8=AS8,OR(Q7>AS7,AND(Q7=AS7,Q4<=AS4)))))),1,0)+IF(AND(U8>0,IF($E$4="Avalancha",OR(U7>AS7,AND(U7=AS7,OR(U8<AS8,AND(U8=AS8,U4<=AS4)))),OR(U8<AS8,AND(U8=AS8,OR(U7>AS7,AND(U7=AS7,U4<=AS4)))))),1,0)+IF(AND(Y8>0,IF($E$4="Avalancha",OR(Y7>AS7,AND(Y7=AS7,OR(Y8<AS8,AND(Y8=AS8,Y4<=AS4)))),OR(Y8<AS8,AND(Y8=AS8,OR(Y7>AS7,AND(Y7=AS7,Y4<=AS4)))))),1,0)+IF(AND(AC8>0,IF($E$4="Avalancha",OR(AC7>AS7,AND(AC7=AS7,OR(AC8<AS8,AND(AC8=AS8,AC4<=AS4)))),OR(AC8<AS8,AND(AC8=AS8,OR(AC7>AS7,AND(AC7=AS7,AC4<=AS4)))))),1,0)+IF(AND(AG8>0,IF($E$4="Avalancha",OR(AG7>AS7,AND(AG7=AS7,OR(AG8<AS8,AND(AG8=AS8,AG4<=AS4)))),OR(AG8<AS8,AND(AG8=AS8,OR(AG7>AS7,AND(AG7=AS7,AG4<=AS4)))))),1,0)+IF(AND(AK8>0,IF($E$4="Avalancha",OR(AK7>AS7,AND(AK7=AS7,OR(AK8<AS8,AND(AK8=AS8,AK4<=AS4)))),OR(AK8<AS8,AND(AK8=AS8,OR(AK7>AS7,AND(AK7=AS7,AK4<=AS4)))))),1,0)+IF(AND(AO8>0,IF($E$4="Avalancha",OR(AO7>AS7,AND(AO7=AS7,OR(AO8<AS8,AND(AO8=AS8,AO4<=AS4)))),OR(AO8<AS8,AND(AO8=AS8,OR(AO7>AS7,AND(AO7=AS7,AO4<=AS4)))))),1,0),0) -> 0
D6: Fecha de inicio | E6: =Plan!C7 -> 46332 | H6: Mínimo | I6: =IF(I8>0,MAX(0,IFERROR(ROUND(Plan!E19,2),0)),0) -> 75 | M6: =IF(M8>0,MAX(0,IFERROR(ROUND(Plan!E20,2),0)),0) -> 200 | Q6: =IF(Q8>0,MAX(0,IFERROR(ROUND(Plan!E21,2),0)),0) -> 50 | U6: =IF(U8>0,MAX(0,IFERROR(ROUND(Plan!E22,2),0)),0) -> 0 | Y6: =IF(Y8>0,MAX(0,IFERROR(ROUND(Plan!E23,2),0)),0) -> 0 | AC6: =IF(AC8>0,MAX(0,IFERROR(ROUND(Plan!E24,2),0)),0) -> 0 | AG6: =IF(AG8>0,MAX(0,IFERROR(ROUND(Plan!E25,2),0)),0) -> 0 | AK6: =IF(AK8>0,MAX(0,IFERROR(ROUND(Plan!E26,2),0)),0) -> 0 | AO6: =IF(AO8>0,MAX(0,IFERROR(ROUND(Plan!E27,2),0)),0) -> 0 | AS6: =IF(AS8>0,MAX(0,IFERROR(ROUND(Plan!E28,2),0)),0) -> 0
H7: Interés % | I7: =IF(I8>0,MAX(0,IFERROR(ROUND(Plan!D19,4),0)),0) -> 18 | M7: =IF(M8>0,MAX(0,IFERROR(ROUND(Plan!D20,4),0)),0) -> 6 | Q7: =IF(Q8>0,MAX(0,IFERROR(ROUND(Plan!D21,4),0)),0) -> 0 | U7: =IF(U8>0,MAX(0,IFERROR(ROUND(Plan!D22,4),0)),0) -> 0 | Y7: =IF(Y8>0,MAX(0,IFERROR(ROUND(Plan!D23,4),0)),0) -> 0 | AC7: =IF(AC8>0,MAX(0,IFERROR(ROUND(Plan!D24,4),0)),0) -> 0 | AG7: =IF(AG8>0,MAX(0,IFERROR(ROUND(Plan!D25,4),0)),0) -> 0 | AK7: =IF(AK8>0,MAX(0,IFERROR(ROUND(Plan!D26,4),0)),0) -> 0 | AO7: =IF(AO8>0,MAX(0,IFERROR(ROUND(Plan!D27,4),0)),0) -> 0 | AS7: =IF(AS8>0,MAX(0,IFERROR(ROUND(Plan!D28,4),0)),0) -> 0
H8: Saldo inicial | I8: =MAX(0,IFERROR(ROUND(Plan!C19,2),0)) -> 2500 | M8: =MAX(0,IFERROR(ROUND(Plan!C20,2),0)) -> 9000 | Q8: =MAX(0,IFERROR(ROUND(Plan!C21,2),0)) -> 600 | U8: =MAX(0,IFERROR(ROUND(Plan!C22,2),0)) -> 0 | Y8: =MAX(0,IFERROR(ROUND(Plan!C23,2),0)) -> 0 | AC8: =MAX(0,IFERROR(ROUND(Plan!C24,2),0)) -> 0 | AG8: =MAX(0,IFERROR(ROUND(Plan!C25,2),0)) -> 0 | AK8: =MAX(0,IFERROR(ROUND(Plan!C26,2),0)) -> 0 | AO8: =MAX(0,IFERROR(ROUND(Plan!C27,2),0)) -> 0 | AS8: =MAX(0,IFERROR(ROUND(Plan!C28,2),0)) -> 0
H9: Revisión | I9: =IF(I8>0,IF(I6<=0,"Sin mínimo",IF(I11<=J11,"Muy bajo","OK")),"") -> OK | M9: =IF(M8>0,IF(M6<=0,"Sin mínimo",IF(M11<=N11,"Muy bajo","OK")),"") -> OK | Q9: =IF(Q8>0,IF(Q6<=0,"Sin mínimo",IF(Q11<=R11,"Muy bajo","OK")),"") -> OK | U9: =IF(U8>0,IF(U6<=0,"Sin mínimo",IF(U11<=V11,"Muy bajo","OK")),"") | Y9: =IF(Y8>0,IF(Y6<=0,"Sin mínimo",IF(Y11<=Z11,"Muy bajo","OK")),"") | AC9: =IF(AC8>0,IF(AC6<=0,"Sin mínimo",IF(AC11<=AD11,"Muy bajo","OK")),"") | AG9: =IF(AG8>0,IF(AG6<=0,"Sin mínimo",IF(AG11<=AH11,"Muy bajo","OK")),"") | AK9: =IF(AK8>0,IF(AK6<=0,"Sin mínimo",IF(AK11<=AL11,"Muy bajo","OK")),"") | AO9: =IF(AO8>0,IF(AO6<=0,"Sin mínimo",IF(AO11<=AP11,"Muy bajo","OK")),"") | AS9: =IF(AS8>0,IF(AS6<=0,"Sin mínimo",IF(AS11<=AT11,"Muy bajo","OK")),"")
A10: Mes | B10: Fecha | C10: Extra a # | D10: Extra va a | E10: Traspasado | F10: Pagado | G10: Intereses | H10: Saldo pendiente | I10: Pago | J10: Intereses | K10: Saldo | L10: Reserva de redondeo | M10: Pago | N10: Intereses | O10: Saldo | P10: Reserva de redondeo | Q10: Pago | R10: Intereses | S10: Saldo | T10: Reserva de redondeo | U10: Pago | V10: Intereses | W10: Saldo | X10: Reserva de redondeo | Y10: Pago | Z10: Intereses | AA10: Saldo | AB10: Reserva de redondeo | AC10: Pago | AD10: Intereses | AE10: Saldo | AF10: Reserva de redondeo | AG10: Pago | AH10: Intereses | AI10: Saldo | AJ10: Reserva de redondeo | AK10: Pago | AL10: Intereses | AM10: Saldo | AN10: Reserva de redondeo | AO10: Pago | AP10: Intereses | AQ10: Saldo | AR10: Reserva de redondeo | AS10: Pago | AT10: Intereses | AU10: Saldo | AV10: Reserva de redondeo
A11: =IF(F11>0,1,"") -> 1 | B11: =IF(F11>0,EDATE($E$6,1),"") -> 46362 | C11: =IF(SUM($I$8:$AV$8)>0,MIN(IF(I$8>0,I$5,99),IF(M$8>0,M$5,99),IF(Q$8>0,Q$5,99),IF(U$8>0,U$5,99),IF(Y$8>0,Y$5,99),IF(AC$8>0,AC$5,99),IF(AG$8>0,AG$5,99),IF(AK$8>0,AK$5,99),IF(AO$8>0,AO$5,99),IF(AS$8>0,AS$5,99)),0) -> 1 | D11: =IF(C11>0,INDEX($I$4:$AV$4,1,MATCH(C11,$I$5:$AV$5,0)),"") -> Compra a plazos | E11: =ROUND(IF(AND(I$8>0,I$8=0),I$6,0)+IF(AND(M$8>0,M$8=0),M$6,0)+IF(AND(Q$8>0,Q$8=0),Q$6,0)+IF(AND(U$8>0,U$8=0),U$6,0)+IF(AND(Y$8>0,Y$8=0),Y$6,0)+IF(AND(AC$8>0,AC$8=0),AC$6,0)+IF(AND(AG$8>0,AG$8=0),AG$6,0)+IF(AND(AK$8>0,AK$8=0),AK$6,0)+IF(AND(AO$8>0,AO$8=0),AO$6,0)+IF(AND(AS$8>0,AS$8=0),AS$6,0),2) -> 0 | F11: =ROUND(I11+M11+Q11+U11+Y11+AC11+AG11+AK11+AO11+AS11,2) -> 475 | G11: =ROUND(J11+N11+R11+V11+Z11+AD11+AH11+AL11+AP11+AT11,2) -> 82.5 | H11: =ROUND(K11+O11+S11+W11+AA11+AE11+AI11+AM11+AQ11+AU11,2) -> 11707.5 | I11: =IF(I$8>0,IF(AND(ROUND(I$8+J11-ROUND(I$6+IF(I$5=$C11,$E$5+$E11,0),2),2)>0,ROUND(I$8+J11-ROUND(I$6+IF(I$5=$C11,$E$5+$E11,0),2),2)<=L11,ROUND(I$8+J11-ROUND(I$6+IF(I$5=$C11,$E$5+$E11,0),2),2)*10<=ROUND(I$6+IF(I$5=$C11,$E$5+$E11,0),2)),ROUND(I$8+J11,2),MIN(ROUND(I$6+IF(I$5=$C11,$E$5+$E11,0),2),ROUND(I$8+J11,2))),0) -> 75 | J11: =IF(I$8>0,ROUND(ROUND(I$8*100,0)*ROUND(I$7*10000,0)/12000000,0)/100,0) -> 37.5 | K11: =IF(I$8>0,ROUND(I$8+J11-I11,2),0) -> 2462.5 | L11: =IF(I$8>0,0.02,0) -> 0.02 | M11: =IF(M$8>0,IF(AND(ROUND(M$8+N11-ROUND(M$6+IF(M$5=$C11,$E$5+$E11,0),2),2)>0,ROUND(M$8+N11-ROUND(M$6+IF(M$5=$C11,$E$5+$E11,0),2),2)<=P11,ROUND(M$8+N11-ROUND(M$6+IF(M$5=$C11,$E$5+$E11,0),2),2)*10<=ROUND(M$6+IF(M$5=$C11,$E$5+$E11,0),2)),ROUND(M$8+N11,2),MIN(ROUND(M$6+IF(M$5=$C11,$E$5+$E11,0),2),ROUND(M$8+N11,2))),0) -> 200 | N11: =IF(M$8>0,ROUND(ROUND(M$8*100,0)*ROUND(M$7*10000,0)/12000000,0)/100,0) -> 45 | O11: =IF(M$8>0,ROUND(M$8+N11-M11,2),0) -> 8845 | P11: =IF(M$8>0,0.02,0) -> 0.02 | Q11: =IF(Q$8>0,IF(AND(ROUND(Q$8+R11-ROUND(Q$6+IF(Q$5=$C11,$E$5+$E11,0),2),2)>0,ROUND(Q$8+R11-ROUND(Q$6+IF(Q$5=$C11,$E$5+$E11,0),2),2)<=T11,ROUND(Q$8+R11-ROUND(Q$6+IF(Q$5=$C11,$E$5+$E11,0),2),2)*10<=ROUND(Q$6+IF(Q$5=$C11,$E$5+$E11,0),2)),ROUND(Q$8+R11,2),MIN(ROUND(Q$6+IF(Q$5=$C11,$E$5+$E11,0),2),ROUND(Q$8+R11,2))),0) -> 200 | R11: =IF(Q$8>0,ROUND(ROUND(Q$8*100,0)*ROUND(Q$7*10000,0)/12000000,0)/100,0) -> 0 | S11: =IF(Q$8>0,ROUND(Q$8+R11-Q11,2),0) -> 400 | T11: =IF(Q$8>0,0.02,0) -> 0.02 | U11: =IF(U$8>0,IF(AND(ROUND(U$8+V11-ROUND(U$6+IF(U$5=$C11,$E$5+$E11,0),2),2)>0,ROUND(U$8+V11-ROUND(U$6+IF(U$5=$C11,$E$5+$E11,0),2),2)<=X11,ROUND(U$8+V11-ROUND(U$6+IF(U$5=$C11,$E$5+$E11,0),2),2)*10<=ROUND(U$6+IF(U$5=$C11,$E$5+$E11,0),2)),ROUND(U$8+V11,2),MIN(ROUND(U$6+IF(U$5=$C11,$E$5+$E11,0),2),ROUND(U$8+V11,2))),0) -> 0 | V11: =IF(U$8>0,ROUND(ROUND(U$8*100,0)*ROUND(U$7*10000,0)/12000000,0)/100,0) -> 0 | W11: =IF(U$8>0,ROUND(U$8+V11-U11,2),0) -> 0 | X11: =IF(U$8>0,0.02,0) -> 0 | Y11: =IF(Y$8>0,IF(AND(ROUND(Y$8+Z11-ROUND(Y$6+IF(Y$5=$C11,$E$5+$E11,0),2),2)>0,ROUND(Y$8+Z11-ROUND(Y$6+IF(Y$5=$C11,$E$5+$E11,0),2),2)<=AB11,ROUND(Y$8+Z11-ROUND(Y$6+IF(Y$5=$C11,$E$5+$E11,0),2),2)*10<=ROUND(Y$6+IF(Y$5=$C11,$E$5+$E11,0),2)),ROUND(Y$8+Z11,2),MIN(ROUND(Y$6+IF(Y$5=$C11,$E$5+$E11,0),2),ROUND(Y$8+Z11,2))),0) -> 0 | Z11: =IF(Y$8>0,ROUND(ROUND(Y$8*100,0)*ROUND(Y$7*10000,0)/12000000,0)/100,0) -> 0 | AA11: =IF(Y$8>0,ROUND(Y$8+Z11-Y11,2),0) -> 0 | AB11: =IF(Y$8>0,0.02,0) -> 0 | AC11: =IF(AC$8>0,IF(AND(ROUND(AC$8+AD11-ROUND(AC$6+IF(AC$5=$C11,$E$5+$E11,0),2),2)>0,ROUND(AC$8+AD11-ROUND(AC$6+IF(AC$5=$C11,$E$5+$E11,0),2),2)<=AF11,ROUND(AC$8+AD11-ROUND(AC$6+IF(AC$5=$C11,$E$5+$E11,0),2),2)*10<=ROUND(AC$6+IF(AC$5=$C11,$E$5+$E11,0),2)),ROUND(AC$8+AD11,2),MIN(ROUND(AC$6+IF(AC$5=$C11,$E$5+$E11,0),2),ROUND(AC$8+AD11,2))),0) -> 0 | AD11: =IF(AC$8>0,ROUND(ROUND(AC$8*100,0)*ROUND(AC$7*10000,0)/12000000,0)/100,0) -> 0 | AE11: =IF(AC$8>0,ROUND(AC$8+AD11-AC11,2),0) -> 0 | AF11: =IF(AC$8>0,0.02,0) -> 0 | AG11: =IF(AG$8>0,IF(AND(ROUND(AG$8+AH11-ROUND(AG$6+IF(AG$5=$C11,$E$5+$E11,0),2),2)>0,ROUND(AG$8+AH11-ROUND(AG$6+IF(AG$5=$C11,$E$5+$E11,0),2),2)<=AJ11,ROUND(AG$8+AH11-ROUND(AG$6+IF(AG$5=$C11,$E$5+$E11,0),2),2)*10<=ROUND(AG$6+IF(AG$5=$C11,$E$5+$E11,0),2)),ROUND(AG$8+AH11,2),MIN(ROUND(AG$6+IF(AG$5=$C11,$E$5+$E11,0),2),ROUND(AG$8+AH11,2))),0) -> 0 | AH11: =IF(AG$8>0,ROUND(ROUND(AG$8*100,0)*ROUND(AG$7*10000,0)/12000000,0)/100,0) -> 0 | AI11: =IF(AG$8>0,ROUND(AG$8+AH11-AG11,2),0) -> 0 | AJ11: =IF(AG$8>0,0.02,0) -> 0 | AK11: =IF(AK$8>0,IF(AND(ROUND(AK$8+AL11-ROUND(AK$6+IF(AK$5=$C11,$E$5+$E11,0),2),2)>0,ROUND(AK$8+AL11-ROUND(AK$6+IF(AK$5=$C11,$E$5+$E11,0),2),2)<=AN11,ROUND(AK$8+AL11-ROUND(AK$6+IF(AK$5=$C11,$E$5+$E11,0),2),2)*10<=ROUND(AK$6+IF(AK$5=$C11,$E$5+$E11,0),2)),ROUND(AK$8+AL11,2),MIN(ROUND(AK$6+IF(AK$5=$C11,$E$5+$E11,0),2),ROUND(AK$8+AL11,2))),0) -> 0 | AL11: =IF(AK$8>0,ROUND(ROUND(AK$8*100,0)*ROUND(AK$7*10000,0)/12000000,0)/100,0) -> 0 | AM11: =IF(AK$8>0,ROUND(AK$8+AL11-AK11,2),0) -> 0 | AN11: =IF(AK$8>0,0.02,0) -> 0 | AO11: =IF(AO$8>0,IF(AND(ROUND(AO$8+AP11-ROUND(AO$6+IF(AO$5=$C11,$E$5+$E11,0),2),2)>0,ROUND(AO$8+AP11-ROUND(AO$6+IF(AO$5=$C11,$E$5+$E11,0),2),2)<=AR11,ROUND(AO$8+AP11-ROUND(AO$6+IF(AO$5=$C11,$E$5+$E11,0),2),2)*10<=ROUND(AO$6+IF(AO$5=$C11,$E$5+$E11,0),2)),ROUND(AO$8+AP11,2),MIN(ROUND(AO$6+IF(AO$5=$C11,$E$5+$E11,0),2),ROUND(AO$8+AP11,2))),0) -> 0 | AP11: =IF(AO$8>0,ROUND(ROUND(AO$8*100,0)*ROUND(AO$7*10000,0)/12000000,0)/100,0) -> 0 | AQ11: =IF(AO$8>0,ROUND(AO$8+AP11-AO11,2),0) -> 0 | AR11: =IF(AO$8>0,0.02,0) -> 0 | AS11: =IF(AS$8>0,IF(AND(ROUND(AS$8+AT11-ROUND(AS$6+IF(AS$5=$C11,$E$5+$E11,0),2),2)>0,ROUND(AS$8+AT11-ROUND(AS$6+IF(AS$5=$C11,$E$5+$E11,0),2),2)<=AV11,ROUND(AS$8+AT11-ROUND(AS$6+IF(AS$5=$C11,$E$5+$E11,0),2),2)*10<=ROUND(AS$6+IF(AS$5=$C11,$E$5+$E11,0),2)),ROUND(AS$8+AT11,2),MIN(ROUND(AS$6+IF(AS$5=$C11,$E$5+$E11,0),2),ROUND(AS$8+AT11,2))),0) -> 0 | AT11: =IF(AS$8>0,ROUND(ROUND(AS$8*100,0)*ROUND(AS$7*10000,0)/12000000,0)/100,0) -> 0 | AU11: =IF(AS$8>0,ROUND(AS$8+AT11-AS11,2),0) -> 0 | AV11: =IF(AS$8>0,0.02,0) -> 0
A12: =IF(F12>0,2,"") -> 2 | B12: =IF(F12>0,EDATE($E$6,2),"") -> 46393 | C12: =IF(H11>0,MIN(IF(K11>0,I$5,99),IF(O11>0,M$5,99),IF(S11>0,Q$5,99),IF(W11>0,U$5,99),IF(AA11>0,Y$5,99),IF(AE11>0,AC$5,99),IF(AI11>0,AG$5,99),IF(AM11>0,AK$5,99),IF(AQ11>0,AO$5,99),IF(AU11>0,AS$5,99)),0) -> 1 | D12: =IF(C12>0,INDEX($I$4:$AV$4,1,MATCH(C12,$I$5:$AV$5,0)),"") -> Compra a plazos | E12: =ROUND(IF(AND(I$8>0,K11=0),I$6,0)+IF(AND(M$8>0,O11=0),M$6,0)+IF(AND(Q$8>0,S11=0),Q$6,0)+IF(AND(U$8>0,W11=0),U$6,0)+IF(AND(Y$8>0,AA11=0),Y$6,0)+IF(AND(AC$8>0,AE11=0),AC$6,0)+IF(AND(AG$8>0,AI11=0),AG$6,0)+IF(AND(AK$8>0,AM11=0),AK$6,0)+IF(AND(AO$8>0,AQ11=0),AO$6,0)+IF(AND(AS$8>0,AU11=0),AS$6,0),2) -> 0 | F12: =ROUND(I12+M12+Q12+U12+Y12+AC12+AG12+AK12+AO12+AS12,2) -> 475 | G12: =ROUND(J12+N12+R12+V12+Z12+AD12+AH12+AL12+AP12+AT12,2) -> 81.17 | H12: =ROUND(K12+O12+S12+W12+AA12+AE12+AI12+AM12+AQ12+AU12,2) -> 11313.67 | I12: =IF(K11>0,IF(AND(ROUND(K11+J12-ROUND(I$6+IF(I$5=$C12,$E$5+$E12,0),2),2)>0,ROUND(K11+J12-ROUND(I$6+IF(I$5=$C12,$E$5+$E12,0),2),2)<=L12,ROUND(K11+J12-ROUND(I$6+IF(I$5=$C12,$E$5+$E12,0),2),2)*10<=ROUND(I$6+IF(I$5=$C12,$E$5+$E12,0),2)),ROUND(K11+J12,2),MIN(ROUND(I$6+IF(I$5=$C12,$E$5+$E12,0),2),ROUND(K11+J12,2))),0) -> 75 | J12: =IF(K11>0,ROUND(ROUND(K11*100,0)*ROUND(I$7*10000,0)/12000000,0)/100,0) -> 36.94 | K12: =IF(K11>0,ROUND(K11+J12-I12,2),0) -> 2424.44 | L12: =IF(K11>0,ROUND(L11+ROUND(ROUND(L11*100,0)*ROUND(I$7*10000,0)/12000000,0)/100+0.02,2),0) -> 0.04 | M12: =IF(O11>0,IF(AND(ROUND(O11+N12-ROUND(M$6+IF(M$5=$C12,$E$5+$E12,0),2),2)>0,ROUND(O11+N12-ROUND(M$6+IF(M$5=$C12,$E$5+$E12,0),2),2)<=P12,ROUND(O11+N12-ROUND(M$6+IF(M$5=$C12,$E$5+$E12,0),2),2)*10<=ROUND(M$6+IF(M$5=$C12,$E$5+$E12,0),2)),ROUND(O11+N12,2),MIN(ROUND(M$6+IF(M$5=$C12,$E$5+$E12,0),2),ROUND(O11+N12,2))),0) -> 200 | N12: =IF(O11>0,ROUND(ROUND(O11*100,0)*ROUND(M$7*10000,0)/12000000,0)/100,0) -> 44.23 | O12: =IF(O11>0,ROUND(O11+N12-M12,2),0) -> 8689.23 | P12: =IF(O11>0,ROUND(P11+ROUND(ROUND(P11*100,0)*ROUND(M$7*10000,0)/12000000,0)/100+0.02,2),0) -> 0.04 | Q12: =IF(S11>0,IF(AND(ROUND(S11+R12-ROUND(Q$6+IF(Q$5=$C12,$E$5+$E12,0),2),2)>0,ROUND(S11+R12-ROUND(Q$6+IF(Q$5=$C12,$E$5+$E12,0),2),2)<=T12,ROUND(S11+R12-ROUND(Q$6+IF(Q$5=$C12,$E$5+$E12,0),2),2)*10<=ROUND(Q$6+IF(Q$5=$C12,$E$5+$E12,0),2)),ROUND(S11+R12,2),MIN(ROUND(Q$6+IF(Q$5=$C12,$E$5+$E12,0),2),ROUND(S11+R12,2))),0) -> 200 | R12: =IF(S11>0,ROUND(ROUND(S11*100,0)*ROUND(Q$7*10000,0)/12000000,0)/100,0) -> 0 | S12: =IF(S11>0,ROUND(S11+R12-Q12,2),0) -> 200 | T12: =IF(S11>0,ROUND(T11+ROUND(ROUND(T11*100,0)*ROUND(Q$7*10000,0)/12000000,0)/100+0.02,2),0) -> 0.04 | U12: =IF(W11>0,IF(AND(ROUND(W11+V12-ROUND(U$6+IF(U$5=$C12,$E$5+$E12,0),2),2)>0,ROUND(W11+V12-ROUND(U$6+IF(U$5=$C12,$E$5+$E12,0),2),2)<=X12,ROUND(W11+V12-ROUND(U$6+IF(U$5=$C12,$E$5+$E12,0),2),2)*10<=ROUND(U$6+IF(U$5=$C12,$E$5+$E12,0),2)),ROUND(W11+V12,2),MIN(ROUND(U$6+IF(U$5=$C12,$E$5+$E12,0),2),ROUND(W11+V12,2))),0) -> 0 | V12: =IF(W11>0,ROUND(ROUND(W11*100,0)*ROUND(U$7*10000,0)/12000000,0)/100,0) -> 0 | W12: =IF(W11>0,ROUND(W11+V12-U12,2),0) -> 0 | X12: =IF(W11>0,ROUND(X11+ROUND(ROUND(X11*100,0)*ROUND(U$7*10000,0)/12000000,0)/100+0.02,2),0) -> 0 | Y12: =IF(AA11>0,IF(AND(ROUND(AA11+Z12-ROUND(Y$6+IF(Y$5=$C12,$E$5+$E12,0),2),2)>0,ROUND(AA11+Z12-ROUND(Y$6+IF(Y$5=$C12,$E$5+$E12,0),2),2)<=AB12,ROUND(AA11+Z12-ROUND(Y$6+IF(Y$5=$C12,$E$5+$E12,0),2),2)*10<=ROUND(Y$6+IF(Y$5=$C12,$E$5+$E12,0),2)),ROUND(AA11+Z12,2),MIN(ROUND(Y$6+IF(Y$5=$C12,$E$5+$E12,0),2),ROUND(AA11+Z12,2))),0) -> 0 | Z12: =IF(AA11>0,ROUND(ROUND(AA11*100,0)*ROUND(Y$7*10000,0)/12000000,0)/100,0) -> 0 | AA12: =IF(AA11>0,ROUND(AA11+Z12-Y12,2),0) -> 0 | AB12: =IF(AA11>0,ROUND(AB11+ROUND(ROUND(AB11*100,0)*ROUND(Y$7*10000,0)/12000000,0)/100+0.02,2),0) -> 0 | AC12: =IF(AE11>0,IF(AND(ROUND(AE11+AD12-ROUND(AC$6+IF(AC$5=$C12,$E$5+$E12,0),2),2)>0,ROUND(AE11+AD12-ROUND(AC$6+IF(AC$5=$C12,$E$5+$E12,0),2),2)<=AF12,ROUND(AE11+AD12-ROUND(AC$6+IF(AC$5=$C12,$E$5+$E12,0),2),2)*10<=ROUND(AC$6+IF(AC$5=$C12,$E$5+$E12,0),2)),ROUND(AE11+AD12,2),MIN(ROUND(AC$6+IF(AC$5=$C12,$E$5+$E12,0),2),ROUND(AE11+AD12,2))),0) -> 0 | AD12: =IF(AE11>0,ROUND(ROUND(AE11*100,0)*ROUND(AC$7*10000,0)/12000000,0)/100,0) -> 0 | AE12: =IF(AE11>0,ROUND(AE11+AD12-AC12,2),0) -> 0 | AF12: =IF(AE11>0,ROUND(AF11+ROUND(ROUND(AF11*100,0)*ROUND(AC$7*10000,0)/12000000,0)/100+0.02,2),0) -> 0 | AG12: =IF(AI11>0,IF(AND(ROUND(AI11+AH12-ROUND(AG$6+IF(AG$5=$C12,$E$5+$E12,0),2),2)>0,ROUND(AI11+AH12-ROUND(AG$6+IF(AG$5=$C12,$E$5+$E12,0),2),2)<=AJ12,ROUND(AI11+AH12-ROUND(AG$6+IF(AG$5=$C12,$E$5+$E12,0),2),2)*10<=ROUND(AG$6+IF(AG$5=$C12,$E$5+$E12,0),2)),ROUND(AI11+AH12,2),MIN(ROUND(AG$6+IF(AG$5=$C12,$E$5+$E12,0),2),ROUND(AI11+AH12,2))),0) -> 0 | AH12: =IF(AI11>0,ROUND(ROUND(AI11*100,0)*ROUND(AG$7*10000,0)/12000000,0)/100,0) -> 0 | AI12: =IF(AI11>0,ROUND(AI11+AH12-AG12,2),0) -> 0 | AJ12: =IF(AI11>0,ROUND(AJ11+ROUND(ROUND(AJ11*100,0)*ROUND(AG$7*10000,0)/12000000,0)/100+0.02,2),0) -> 0 | AK12: =IF(AM11>0,IF(AND(ROUND(AM11+AL12-ROUND(AK$6+IF(AK$5=$C12,$E$5+$E12,0),2),2)>0,ROUND(AM11+AL12-ROUND(AK$6+IF(AK$5=$C12,$E$5+$E12,0),2),2)<=AN12,ROUND(AM11+AL12-ROUND(AK$6+IF(AK$5=$C12,$E$5+$E12,0),2),2)*10<=ROUND(AK$6+IF(AK$5=$C12,$E$5+$E12,0),2)),ROUND(AM11+AL12,2),MIN(ROUND(AK$6+IF(AK$5=$C12,$E$5+$E12,0),2),ROUND(AM11+AL12,2))),0) -> 0 | AL12: =IF(AM11>0,ROUND(ROUND(AM11*100,0)*ROUND(AK$7*10000,0)/12000000,0)/100,0) -> 0 | AM12: =IF(AM11>0,ROUND(AM11+AL12-AK12,2),0) -> 0 | AN12: =IF(AM11>0,ROUND(AN11+ROUND(ROUND(AN11*100,0)*ROUND(AK$7*10000,0)/12000000,0)/100+0.02,2),0) -> 0 | AO12: =IF(AQ11>0,IF(AND(ROUND(AQ11+AP12-ROUND(AO$6+IF(AO$5=$C12,$E$5+$E12,0),2),2)>0,ROUND(AQ11+AP12-ROUND(AO$6+IF(AO$5=$C12,$E$5+$E12,0),2),2)<=AR12,ROUND(AQ11+AP12-ROUND(AO$6+IF(AO$5=$C12,$E$5+$E12,0),2),2)*10<=ROUND(AO$6+IF(AO$5=$C12,$E$5+$E12,0),2)),ROUND(AQ11+AP12,2),MIN(ROUND(AO$6+IF(AO$5=$C12,$E$5+$E12,0),2),ROUND(AQ11+AP12,2))),0) -> 0 | AP12: =IF(AQ11>0,ROUND(ROUND(AQ11*100,0)*ROUND(AO$7*10000,0)/12000000,0)/100,0) -> 0 | AQ12: =IF(AQ11>0,ROUND(AQ11+AP12-AO12,2),0) -> 0 | AR12: =IF(AQ11>0,ROUND(AR11+ROUND(ROUND(AR11*100,0)*ROUND(AO$7*10000,0)/12000000,0)/100+0.02,2),0) -> 0 | AS12: =IF(AU11>0,IF(AND(ROUND(AU11+AT12-ROUND(AS$6+IF(AS$5=$C12,$E$5+$E12,0),2),2)>0,ROUND(AU11+AT12-ROUND(AS$6+IF(AS$5=$C12,$E$5+$E12,0),2),2)<=AV12,ROUND(AU11+AT12-ROUND(AS$6+IF(AS$5=$C12,$E$5+$E12,0),2),2)*10<=ROUND(AS$6+IF(AS$5=$C12,$E$5+$E12,0),2)),ROUND(AU11+AT12,2),MIN(ROUND(AS$6+IF(AS$5=$C12,$E$5+$E12,0),2),ROUND(AU11+AT12,2))),0) -> 0 | AT12: =IF(AU11>0,ROUND(ROUND(AU11*100,0)*ROUND(AS$7*10000,0)/12000000,0)/100,0) -> 0 | AU12: =IF(AU11>0,ROUND(AU11+AT12-AS12,2),0) -> 0 | AV12: =IF(AU11>0,ROUND(AV11+ROUND(ROUND(AV11*100,0)*ROUND(AS$7*10000,0)/12000000,0)/100+0.02,2),0) -> 0
A13: =IF(F13>0,3,"") -> 3 | B13: =IF(F13>0,EDATE($E$6,3),"") -> 46424 | C13: =IF(H12>0,MIN(IF(K12>0,I$5,99),IF(O12>0,M$5,99),IF(S12>0,Q$5,99),IF(W12>0,U$5,99),IF(AA12>0,Y$5,99),IF(AE12>0,AC$5,99),IF(AI12>0,AG$5,99),IF(AM12>0,AK$5,99),IF(AQ12>0,AO$5,99),IF(AU12>0,AS$5,99)),0) -> 1 | D13: =IF(C13>0,INDEX($I$4:$AV$4,1,MATCH(C13,$I$5:$AV$5,0)),"") -> Compra a plazos | E13: =ROUND(IF(AND(I$8>0,K12=0),I$6,0)+IF(AND(M$8>0,O12=0),M$6,0)+IF(AND(Q$8>0,S12=0),Q$6,0)+IF(AND(U$8>0,W12=0),U$6,0)+IF(AND(Y$8>0,AA12=0),Y$6,0)+IF(AND(AC$8>0,AE12=0),AC$6,0)+IF(AND(AG$8>0,AI12=0),AG$6,0)+IF(AND(AK$8>0,AM12=0),AK$6,0)+IF(AND(AO$8>0,AQ12=0),AO$6,0)+IF(AND(AS$8>0,AU12=0),AS$6,0),2) -> 0 | F13: =ROUND(I13+M13+Q13+U13+Y13+AC13+AG13+AK13+AO13+AS13,2) -> 475 | G13: =ROUND(J13+N13+R13+V13+Z13+AD13+AH13+AL13+AP13+AT13,2) -> 79.82 | H13: =ROUND(K13+O13+S13+W13+AA13+AE13+AI13+AM13+AQ13+AU13,2) -> 10918.49 | I13: =IF(K12>0,IF(AND(ROUND(K12+J13-ROUND(I$6+IF(I$5=$C13,$E$5+$E13,0),2),2)>0,ROUND(K12+J13-ROUND(I$6+IF(I$5=$C13,$E$5+$E13,0),2),2)<=L13,ROUND(K12+J13-ROUND(I$6+IF(I$5=$C13,$E$5+$E13,0),2),2)*10<=ROUND(I$6+IF(I$5=$C13,$E$5+$E13,0),2)),ROUND(K12+J13,2),MIN(ROUND(I$6+IF(I$5=$C13,$E$5+$E13,0),2),ROUND(K12+J13,2))),0) -> 75 | J13: =IF(K12>0,ROUND(ROUND(K12*100,0)*ROUND(I$7*10000,0)/12000000,0)/100,0) -> 36.37 | K13: =IF(K12>0,ROUND(K12+J13-I13,2),0) -> 2385.81 | L13: =IF(K12>0,ROUND(L12+ROUND(ROUND(L12*100,0)*ROUND(I$7*10000,0)/12000000,0)/100+0.02,2),0) -> 0.06 | M13: =IF(O12>0,IF(AND(ROUND(O12+N13-ROUND(M$6+IF(M$5=$C13,$E$5+$E13,0),2),2)>0,ROUND(O12+N13-ROUND(M$6+IF(M$5=$C13,$E$5+$E13,0),2),2)<=P13,ROUND(O12+N13-ROUND(M$6+IF(M$5=$C13,$E$5+$E13,0),2),2)*10<=ROUND(M$6+IF(M$5=$C13,$E$5+$E13,0),2)),ROUND(O12+N13,2),MIN(ROUND(M$6+IF(M$5=$C13,$E$5+$E13,0),2),ROUND(O12+N13,2))),0) -> 200 | N13: =IF(O12>0,ROUND(ROUND(O12*100,0)*ROUND(M$7*10000,0)/12000000,0)/100,0) -> 43.45 | O13: =IF(O12>0,ROUND(O12+N13-M13,2),0) -> 8532.68 | P13: =IF(O12>0,ROUND(P12+ROUND(ROUND(P12*100,0)*ROUND(M$7*10000,0)/12000000,0)/100+0.02,2),0) -> 0.06 | Q13: =IF(S12>0,IF(AND(ROUND(S12+R13-ROUND(Q$6+IF(Q$5=$C13,$E$5+$E13,0),2),2)>0,ROUND(S12+R13-ROUND(Q$6+IF(Q$5=$C13,$E$5+$E13,0),2),2)<=T13,ROUND(S12+R13-ROUND(Q$6+IF(Q$5=$C13,$E$5+$E13,0),2),2)*10<=ROUND(Q$6+IF(Q$5=$C13,$E$5+$E13,0),2)),ROUND(S12+R13,2),MIN(ROUND(Q$6+IF(Q$5=$C13,$E$5+$E13,0),2),ROUND(S12+R13,2))),0) -> 200 | R13: =IF(S12>0,ROUND(ROUND(S12*100,0)*ROUND(Q$7*10000,0)/12000000,0)/100,0) -> 0 | S13: =IF(S12>0,ROUND(S12+R13-Q13,2),0) -> 0 | T13: =IF(S12>0,ROUND(T12+ROUND(ROUND(T12*100,0)*ROUND(Q$7*10000,0)/12000000,0)/100+0.02,2),0) -> 0.06 | U13: =IF(W12>0,IF(AND(ROUND(W12+V13-ROUND(U$6+IF(U$5=$C13,$E$5+$E13,0),2),2)>0,ROUND(W12+V13-ROUND(U$6+IF(U$5=$C13,$E$5+$E13,0),2),2)<=X13,ROUND(W12+V13-ROUND(U$6+IF(U$5=$C13,$E$5+$E13,0),2),2)*10<=ROUND(U$6+IF(U$5=$C13,$E$5+$E13,0),2)),ROUND(W12+V13,2),MIN(ROUND(U$6+IF(U$5=$C13,$E$5+$E13,0),2),ROUND(W12+V13,2))),0) -> 0 | V13: =IF(W12>0,ROUND(ROUND(W12*100,0)*ROUND(U$7*10000,0)/12000000,0)/100,0) -> 0 | W13: =IF(W12>0,ROUND(W12+V13-U13,2),0) -> 0 | X13: =IF(W12>0,ROUND(X12+ROUND(ROUND(X12*100,0)*ROUND(U$7*10000,0)/12000000,0)/100+0.02,2),0) -> 0 | Y13: =IF(AA12>0,IF(AND(ROUND(AA12+Z13-ROUND(Y$6+IF(Y$5=$C13,$E$5+$E13,0),2),2)>0,ROUND(AA12+Z13-ROUND(Y$6+IF(Y$5=$C13,$E$5+$E13,0),2),2)<=AB13,ROUND(AA12+Z13-ROUND(Y$6+IF(Y$5=$C13,$E$5+$E13,0),2),2)*10<=ROUND(Y$6+IF(Y$5=$C13,$E$5+$E13,0),2)),ROUND(AA12+Z13,2),MIN(ROUND(Y$6+IF(Y$5=$C13,$E$5+$E13,0),2),ROUND(AA12+Z13,2))),0) -> 0 | Z13: =IF(AA12>0,ROUND(ROUND(AA12*100,0)*ROUND(Y$7*10000,0)/12000000,0)/100,0) -> 0 | AA13: =IF(AA12>0,ROUND(AA12+Z13-Y13,2),0) -> 0 | AB13: =IF(AA12>0,ROUND(AB12+ROUND(ROUND(AB12*100,0)*ROUND(Y$7*10000,0)/12000000,0)/100+0.02,2),0) -> 0 | AC13: =IF(AE12>0,IF(AND(ROUND(AE12+AD13-ROUND(AC$6+IF(AC$5=$C13,$E$5+$E13,0),2),2)>0,ROUND(AE12+AD13-ROUND(AC$6+IF(AC$5=$C13,$E$5+$E13,0),2),2)<=AF13,ROUND(AE12+AD13-ROUND(AC$6+IF(AC$5=$C13,$E$5+$E13,0),2),2)*10<=ROUND(AC$6+IF(AC$5=$C13,$E$5+$E13,0),2)),ROUND(AE12+AD13,2),MIN(ROUND(AC$6+IF(AC$5=$C13,$E$5+$E13,0),2),ROUND(AE12+AD13,2))),0) -> 0 | AD13: =IF(AE12>0,ROUND(ROUND(AE12*100,0)*ROUND(AC$7*10000,0)/12000000,0)/100,0) -> 0 | AE13: =IF(AE12>0,ROUND(AE12+AD13-AC13,2),0) -> 0 | AF13: =IF(AE12>0,ROUND(AF12+ROUND(ROUND(AF12*100,0)*ROUND(AC$7*10000,0)/12000000,0)/100+0.02,2),0) -> 0 | AG13: =IF(AI12>0,IF(AND(ROUND(AI12+AH13-ROUND(AG$6+IF(AG$5=$C13,$E$5+$E13,0),2),2)>0,ROUND(AI12+AH13-ROUND(AG$6+IF(AG$5=$C13,$E$5+$E13,0),2),2)<=AJ13,ROUND(AI12+AH13-ROUND(AG$6+IF(AG$5=$C13,$E$5+$E13,0),2),2)*10<=ROUND(AG$6+IF(AG$5=$C13,$E$5+$E13,0),2)),ROUND(AI12+AH13,2),MIN(ROUND(AG$6+IF(AG$5=$C13,$E$5+$E13,0),2),ROUND(AI12+AH13,2))),0) -> 0 | AH13: =IF(AI12>0,ROUND(ROUND(AI12*100,0)*ROUND(AG$7*10000,0)/12000000,0)/100,0) -> 0 | AI13: =IF(AI12>0,ROUND(AI12+AH13-AG13,2),0) -> 0 | AJ13: =IF(AI12>0,ROUND(AJ12+ROUND(ROUND(AJ12*100,0)*ROUND(AG$7*10000,0)/12000000,0)/100+0.02,2),0) -> 0 | AK13: =IF(AM12>0,IF(AND(ROUND(AM12+AL13-ROUND(AK$6+IF(AK$5=$C13,$E$5+$E13,0),2),2)>0,ROUND(AM12+AL13-ROUND(AK$6+IF(AK$5=$C13,$E$5+$E13,0),2),2)<=AN13,ROUND(AM12+AL13-ROUND(AK$6+IF(AK$5=$C13,$E$5+$E13,0),2),2)*10<=ROUND(AK$6+IF(AK$5=$C13,$E$5+$E13,0),2)),ROUND(AM12+AL13,2),MIN(ROUND(AK$6+IF(AK$5=$C13,$E$5+$E13,0),2),ROUND(AM12+AL13,2))),0) -> 0 | AL13: =IF(AM12>0,ROUND(ROUND(AM12*100,0)*ROUND(AK$7*10000,0)/12000000,0)/100,0) -> 0 | AM13: =IF(AM12>0,ROUND(AM12+AL13-AK13,2),0) -> 0 | AN13: =IF(AM12>0,ROUND(AN12+ROUND(ROUND(AN12*100,0)*ROUND(AK$7*10000,0)/12000000,0)/100+0.02,2),0) -> 0 | AO13: =IF(AQ12>0,IF(AND(ROUND(AQ12+AP13-ROUND(AO$6+IF(AO$5=$C13,$E$5+$E13,0),2),2)>0,ROUND(AQ12+AP13-ROUND(AO$6+IF(AO$5=$C13,$E$5+$E13,0),2),2)<=AR13,ROUND(AQ12+AP13-ROUND(AO$6+IF(AO$5=$C13,$E$5+$E13,0),2),2)*10<=ROUND(AO$6+IF(AO$5=$C13,$E$5+$E13,0),2)),ROUND(AQ12+AP13,2),MIN(ROUND(AO$6+IF(AO$5=$C13,$E$5+$E13,0),2),ROUND(AQ12+AP13,2))),0) -> 0 | AP13: =IF(AQ12>0,ROUND(ROUND(AQ12*100,0)*ROUND(AO$7*10000,0)/12000000,0)/100,0) -> 0 | AQ13: =IF(AQ12>0,ROUND(AQ12+AP13-AO13,2),0) -> 0 | AR13: =IF(AQ12>0,ROUND(AR12+ROUND(ROUND(AR12*100,0)*ROUND(AO$7*10000,0)/12000000,0)/100+0.02,2),0) -> 0 | AS13: =IF(AU12>0,IF(AND(ROUND(AU12+AT13-ROUND(AS$6+IF(AS$5=$C13,$E$5+$E13,0),2),2)>0,ROUND(AU12+AT13-ROUND(AS$6+IF(AS$5=$C13,$E$5+$E13,0),2),2)<=AV13,ROUND(AU12+AT13-ROUND(AS$6+IF(AS$5=$C13,$E$5+$E13,0),2),2)*10<=ROUND(AS$6+IF(AS$5=$C13,$E$5+$E13,0),2)),ROUND(AU12+AT13,2),MIN(ROUND(AS$6+IF(AS$5=$C13,$E$5+$E13,0),2),ROUND(AU12+AT13,2))),0) -> 0 | AT13: =IF(AU12>0,ROUND(ROUND(AU12*100,0)*ROUND(AS$7*10000,0)/12000000,0)/100,0) -> 0 | AU13: =IF(AU12>0,ROUND(AU12+AT13-AS13,2),0) -> 0 | AV13: =IF(AU12>0,ROUND(AV12+ROUND(ROUND(AV12*100,0)*ROUND(AS$7*10000,0)/12000000,0)/100+0.02,2),0) -> 0
A14: =IF(F14>0,4,"") -> 4 | B14: =IF(F14>0,EDATE($E$6,4),"") -> 46452 | C14: =IF(H13>0,MIN(IF(K13>0,I$5,99),IF(O13>0,M$5,99),IF(S13>0,Q$5,99),IF(W13>0,U$5,99),IF(AA13>0,Y$5,99),IF(AE13>0,AC$5,99),IF(AI13>0,AG$5,99),IF(AM13>0,AK$5,99),IF(AQ13>0,AO$5,99),IF(AU13>0,AS$5,99)),0) -> 2 | D14: =IF(C14>0,INDEX($I$4:$AV$4,1,MATCH(C14,$I$5:$AV$5,0)),"") -> Tarjeta de crédito | E14: =ROUND(IF(AND(I$8>0,K13=0),I$6,0)+IF(AND(M$8>0,O13=0),M$6,0)+IF(AND(Q$8>0,S13=0),Q$6,0)+IF(AND(U$8>0,W13=0),U$6,0)+IF(AND(Y$8>0,AA13=0),Y$6,0)+IF(AND(AC$8>0,AE13=0),AC$6,0)+IF(AND(AG$8>0,AI13=0),AG$6,0)+IF(AND(AK$8>0,AM13=0),AK$6,0)+IF(AND(AO$8>0,AQ13=0),AO$6,0)+IF(AND(AS$8>0,AU13=0),AS$6,0),2) -> 50 | F14: =ROUND(I14+M14+Q14+U14+Y14+AC14+AG14+AK14+AO14+AS14,2) -> 475 | G14: =ROUND(J14+N14+R14+V14+Z14+AD14+AH14+AL14+AP14+AT14,2) -> 78.45 | H14: =ROUND(K14+O14+S14+W14+AA14+AE14+AI14+AM14+AQ14+AU14,2) -> 10521.94 | I14: =IF(K13>0,IF(AND(ROUND(K13+J14-ROUND(I$6+IF(I$5=$C14,$E$5+$E14,0),2),2)>0,ROUND(K13+J14-ROUND(I$6+IF(I$5=$C14,$E$5+$E14,0),2),2)<=L14,ROUND(K13+J14-ROUND(I$6+IF(I$5=$C14,$E$5+$E14,0),2),2)*10<=ROUND(I$6+IF(I$5=$C14,$E$5+$E14,0),2)),ROUND(K13+J14,2),MIN(ROUND(I$6+IF(I$5=$C14,$E$5+$E14,0),2),ROUND(K13+J14,2))),0) -> 275 | J14: =IF(K13>0,ROUND(ROUND(K13*100,0)*ROUND(I$7*10000,0)/12000000,0)/100,0) -> 35.79 | K14: =IF(K13>0,ROUND(K13+J14-I14,2),0) -> 2146.6 | L14: =IF(K13>0,ROUND(L13+ROUND(ROUND(L13*100,0)*ROUND(I$7*10000,0)/12000000,0)/100+0.02,2),0) -> 0.08 | M14: =IF(O13>0,IF(AND(ROUND(O13+N14-ROUND(M$6+IF(M$5=$C14,$E$5+$E14,0),2),2)>0,ROUND(O13+N14-ROUND(M$6+IF(M$5=$C14,$E$5+$E14,0),2),2)<=P14,ROUND(O13+N14-ROUND(M$6+IF(M$5=$C14,$E$5+$E14,0),2),2)*10<=ROUND(M$6+IF(M$5=$C14,$E$5+$E14,0),2)),ROUND(O13+N14,2),MIN(ROUND(M$6+IF(M$5=$C14,$E$5+$E14,0),2),ROUND(O13+N14,2))),0) -> 200 | N14: =IF(O13>0,ROUND(ROUND(O13*100,0)*ROUND(M$7*10000,0)/12000000,0)/100,0) -> 42.66 | O14: =IF(O13>0,ROUND(O13+N14-M14,2),0) -> 8375.34 | P14: =IF(O13>0,ROUND(P13+ROUND(ROUND(P13*100,0)*ROUND(M$7*10000,0)/12000000,0)/100+0.02,2),0) -> 0.08 | Q14: =IF(S13>0,IF(AND(ROUND(S13+R14-ROUND(Q$6+IF(Q$5=$C14,$E$5+$E14,0),2),2)>0,ROUND(S13+R14-ROUND(Q$6+IF(Q$5=$C14,$E$5+$E14,0),2),2)<=T14,ROUND(S13+R14-ROUND(Q$6+IF(Q$5=$C14,$E$5+$E14,0),2),2)*10<=ROUND(Q$6+IF(Q$5=$C14,$E$5+$E14,0),2)),ROUND(S13+R14,2),MIN(ROUND(Q$6+IF(Q$5=$C14,$E$5+$E14,0),2),ROUND(S13+R14,2))),0) -> 0 | R14: =IF(S13>0,ROUND(ROUND(S13*100,0)*ROUND(Q$7*10000,0)/12000000,0)/100,0) -> 0 | S14: =IF(S13>0,ROUND(S13+R14-Q14,2),0) -> 0 | T14: =IF(S13>0,ROUND(T13+ROUND(ROUND(T13*100,0)*ROUND(Q$7*10000,0)/12000000,0)/100+0.02,2),0) -> 0 | U14: =IF(W13>0,IF(AND(ROUND(W13+V14-ROUND(U$6+IF(U$5=$C14,$E$5+$E14,0),2),2)>0,ROUND(W13+V14-ROUND(U$6+IF(U$5=$C14,$E$5+$E14,0),2),2)<=X14,ROUND(W13+V14-ROUND(U$6+IF(U$5=$C14,$E$5+$E14,0),2),2)*10<=ROUND(U$6+IF(U$5=$C14,$E$5+$E14,0),2)),ROUND(W13+V14,2),MIN(ROUND(U$6+IF(U$5=$C14,$E$5+$E14,0),2),ROUND(W13+V14,2))),0) -> 0 | V14: =IF(W13>0,ROUND(ROUND(W13*100,0)*ROUND(U$7*10000,0)/12000000,0)/100,0) -> 0 | W14: =IF(W13>0,ROUND(W13+V14-U14,2),0) -> 0 | X14: =IF(W13>0,ROUND(X13+ROUND(ROUND(X13*100,0)*ROUND(U$7*10000,0)/12000000,0)/100+0.02,2),0) -> 0 | Y14: =IF(AA13>0,IF(AND(ROUND(AA13+Z14-ROUND(Y$6+IF(Y$5=$C14,$E$5+$E14,0),2),2)>0,ROUND(AA13+Z14-ROUND(Y$6+IF(Y$5=$C14,$E$5+$E14,0),2),2)<=AB14,ROUND(AA13+Z14-ROUND(Y$6+IF(Y$5=$C14,$E$5+$E14,0),2),2)*10<=ROUND(Y$6+IF(Y$5=$C14,$E$5+$E14,0),2)),ROUND(AA13+Z14,2),MIN(ROUND(Y$6+IF(Y$5=$C14,$E$5+$E14,0),2),ROUND(AA13+Z14,2))),0) -> 0 | Z14: =IF(AA13>0,ROUND(ROUND(AA13*100,0)*ROUND(Y$7*10000,0)/12000000,0)/100,0) -> 0 | AA14: =IF(AA13>0,ROUND(AA13+Z14-Y14,2),0) -> 0 | AB14: =IF(AA13>0,ROUND(AB13+ROUND(ROUND(AB13*100,0)*ROUND(Y$7*10000,0)/12000000,0)/100+0.02,2),0) -> 0 | AC14: =IF(AE13>0,IF(AND(ROUND(AE13+AD14-ROUND(AC$6+IF(AC$5=$C14,$E$5+$E14,0),2),2)>0,ROUND(AE13+AD14-ROUND(AC$6+IF(AC$5=$C14,$E$5+$E14,0),2),2)<=AF14,ROUND(AE13+AD14-ROUND(AC$6+IF(AC$5=$C14,$E$5+$E14,0),2),2)*10<=ROUND(AC$6+IF(AC$5=$C14,$E$5+$E14,0),2)),ROUND(AE13+AD14,2),MIN(ROUND(AC$6+IF(AC$5=$C14,$E$5+$E14,0),2),ROUND(AE13+AD14,2))),0) -> 0 | AD14: =IF(AE13>0,ROUND(ROUND(AE13*100,0)*ROUND(AC$7*10000,0)/12000000,0)/100,0) -> 0 | AE14: =IF(AE13>0,ROUND(AE13+AD14-AC14,2),0) -> 0 | AF14: =IF(AE13>0,ROUND(AF13+ROUND(ROUND(AF13*100,0)*ROUND(AC$7*10000,0)/12000000,0)/100+0.02,2),0) -> 0 | AG14: =IF(AI13>0,IF(AND(ROUND(AI13+AH14-ROUND(AG$6+IF(AG$5=$C14,$E$5+$E14,0),2),2)>0,ROUND(AI13+AH14-ROUND(AG$6+IF(AG$5=$C14,$E$5+$E14,0),2),2)<=AJ14,ROUND(AI13+AH14-ROUND(AG$6+IF(AG$5=$C14,$E$5+$E14,0),2),2)*10<=ROUND(AG$6+IF(AG$5=$C14,$E$5+$E14,0),2)),ROUND(AI13+AH14,2),MIN(ROUND(AG$6+IF(AG$5=$C14,$E$5+$E14,0),2),ROUND(AI13+AH14,2))),0) -> 0 | AH14: =IF(AI13>0,ROUND(ROUND(AI13*100,0)*ROUND(AG$7*10000,0)/12000000,0)/100,0) -> 0 | AI14: =IF(AI13>0,ROUND(AI13+AH14-AG14,2),0) -> 0 | AJ14: =IF(AI13>0,ROUND(AJ13+ROUND(ROUND(AJ13*100,0)*ROUND(AG$7*10000,0)/12000000,0)/100+0.02,2),0) -> 0 | AK14: =IF(AM13>0,IF(AND(ROUND(AM13+AL14-ROUND(AK$6+IF(AK$5=$C14,$E$5+$E14,0),2),2)>0,ROUND(AM13+AL14-ROUND(AK$6+IF(AK$5=$C14,$E$5+$E14,0),2),2)<=AN14,ROUND(AM13+AL14-ROUND(AK$6+IF(AK$5=$C14,$E$5+$E14,0),2),2)*10<=ROUND(AK$6+IF(AK$5=$C14,$E$5+$E14,0),2)),ROUND(AM13+AL14,2),MIN(ROUND(AK$6+IF(AK$5=$C14,$E$5+$E14,0),2),ROUND(AM13+AL14,2))),0) -> 0 | AL14: =IF(AM13>0,ROUND(ROUND(AM13*100,0)*ROUND(AK$7*10000,0)/12000000,0)/100,0) -> 0 | AM14: =IF(AM13>0,ROUND(AM13+AL14-AK14,2),0) -> 0 | AN14: =IF(AM13>0,ROUND(AN13+ROUND(ROUND(AN13*100,0)*ROUND(AK$7*10000,0)/12000000,0)/100+0.02,2),0) -> 0 | AO14: =IF(AQ13>0,IF(AND(ROUND(AQ13+AP14-ROUND(AO$6+IF(AO$5=$C14,$E$5+$E14,0),2),2)>0,ROUND(AQ13+AP14-ROUND(AO$6+IF(AO$5=$C14,$E$5+$E14,0),2),2)<=AR14,ROUND(AQ13+AP14-ROUND(AO$6+IF(AO$5=$C14,$E$5+$E14,0),2),2)*10<=ROUND(AO$6+IF(AO$5=$C14,$E$5+$E14,0),2)),ROUND(AQ13+AP14,2),MIN(ROUND(AO$6+IF(AO$5=$C14,$E$5+$E14,0),2),ROUND(AQ13+AP14,2))),0) -> 0 | AP14: =IF(AQ13>0,ROUND(ROUND(AQ13*100,0)*ROUND(AO$7*10000,0)/12000000,0)/100,0) -> 0 | AQ14: =IF(AQ13>0,ROUND(AQ13+AP14-AO14,2),0) -> 0 | AR14: =IF(AQ13>0,ROUND(AR13+ROUND(ROUND(AR13*100,0)*ROUND(AO$7*10000,0)/12000000,0)/100+0.02,2),0) -> 0 | AS14: =IF(AU13>0,IF(AND(ROUND(AU13+AT14-ROUND(AS$6+IF(AS$5=$C14,$E$5+$E14,0),2),2)>0,ROUND(AU13+AT14-ROUND(AS$6+IF(AS$5=$C14,$E$5+$E14,0),2),2)<=AV14,ROUND(AU13+AT14-ROUND(AS$6+IF(AS$5=$C14,$E$5+$E14,0),2),2)*10<=ROUND(AS$6+IF(AS$5=$C14,$E$5+$E14,0),2)),ROUND(AU13+AT14,2),MIN(ROUND(AS$6+IF(AS$5=$C14,$E$5+$E14,0),2),ROUND(AU13+AT14,2))),0) -> 0 | AT14: =IF(AU13>0,ROUND(ROUND(AU13*100,0)*ROUND(AS$7*10000,0)/12000000,0)/100,0) -> 0 | AU14: =IF(AU13>0,ROUND(AU13+AT14-AS14,2),0) -> 0 | AV14: =IF(AU13>0,ROUND(AV13+ROUND(ROUND(AV13*100,0)*ROUND(AS$7*10000,0)/12000000,0)/100+0.02,2),0) -> 0
A15: =IF(F15>0,5,"") -> 5 | B15: =IF(F15>0,EDATE($E$6,5),"") -> 46483 | C15: =IF(H14>0,MIN(IF(K14>0,I$5,99),IF(O14>0,M$5,99),IF(S14>0,Q$5,99),IF(W14>0,U$5,99),IF(AA14>0,Y$5,99),IF(AE14>0,AC$5,99),IF(AI14>0,AG$5,99),IF(AM14>0,AK$5,99),IF(AQ14>0,AO$5,99),IF(AU14>0,AS$5,99)),0) -> 2 | D15: =IF(C15>0,INDEX($I$4:$AV$4,1,MATCH(C15,$I$5:$AV$5,0)),"") -> Tarjeta de crédito | E15: =ROUND(IF(AND(I$8>0,K14=0),I$6,0)+IF(AND(M$8>0,O14=0),M$6,0)+IF(AND(Q$8>0,S14=0),Q$6,0)+IF(AND(U$8>0,W14=0),U$6,0)+IF(AND(Y$8>0,AA14=0),Y$6,0)+IF(AND(AC$8>0,AE14=0),AC$6,0)+IF(AND(AG$8>0,AI14=0),AG$6,0)+IF(AND(AK$8>0,AM14=0),AK$6,0)+IF(AND(AO$8>0,AQ14=0),AO$6,0)+IF(AND(AS$8>0,AU14=0),AS$6,0),2) -> 50 | F15: =ROUND(I15+M15+Q15+U15+Y15+AC15+AG15+AK15+AO15+AS15,2) -> 475 | G15: =ROUND(J15+N15+R15+V15+Z15+AD15+AH15+AL15+AP15+AT15,2) -> 74.08 | H15: =ROUND(K15+O15+S15+W15+AA15+AE15+AI15+AM15+AQ15+AU15,2) -> 10121.02 | I15: =IF(K14>0,IF(AND(ROUND(K14+J15-ROUND(I$6+IF(I$5=$C15,$E$5+$E15,0),2),2)>0,ROUND(K14+J15-ROUND(I$6+IF(I$5=$C15,$E$5+$E15,0),2),2)<=L15,ROUND(K14+J15-ROUND(I$6+IF(I$5=$C15,$E$5+$E15,0),2),2)*10<=ROUND(I$6+IF(I$5=$C15,$E$5+$E15,0),2)),ROUND(K14+J15,2),MIN(ROUND(I$6+IF(I$5=$C15,$E$5+$E15,0),2),ROUND(K14+J15,2))),0) -> 275 | J15: =IF(K14>0,ROUND(ROUND(K14*100,0)*ROUND(I$7*10000,0)/12000000,0)/100,0) -> 32.2 | K15: =IF(K14>0,ROUND(K14+J15-I15,2),0) -> 1903.8 | L15: =IF(K14>0,ROUND(L14+ROUND(ROUND(L14*100,0)*ROUND(I$7*10000,0)/12000000,0)/100+0.02,2),0) -> 0.1 | M15: =IF(O14>0,IF(AND(ROUND(O14+N15-ROUND(M$6+IF(M$5=$C15,$E$5+$E15,0),2),2)>0,ROUND(O14+N15-ROUND(M$6+IF(M$5=$C15,$E$5+$E15,0),2),2)<=P15,ROUND(O14+N15-ROUND(M$6+IF(M$5=$C15,$E$5+$E15,0),2),2)*10<=ROUND(M$6+IF(M$5=$C15,$E$5+$E15,0),2)),ROUND(O14+N15,2),MIN(ROUND(M$6+IF(M$5=$C15,$E$5+$E15,0),2),ROUND(O14+N15,2))),0) -> 200 | N15: =IF(O14>0,ROUND(ROUND(O14*100,0)*ROUND(M$7*10000,0)/12000000,0)/100,0) -> 41.88 | O15: =IF(O14>0,ROUND(O14+N15-M15,2),0) -> 8217.22 | P15: =IF(O14>0,ROUND(P14+ROUND(ROUND(P14*100,0)*ROUND(M$7*10000,0)/12000000,0)/100+0.02,2),0) -> 0.1 | Q15: =IF(S14>0,IF(AND(ROUND(S14+R15-ROUND(Q$6+IF(Q$5=$C15,$E$5+$E15,0),2),2)>0,ROUND(S14+R15-ROUND(Q$6+IF(Q$5=$C15,$E$5+$E15,0),2),2)<=T15,ROUND(S14+R15-ROUND(Q$6+IF(Q$5=$C15,$E$5+$E15,0),2),2)*10<=ROUND(Q$6+IF(Q$5=$C15,$E$5+$E15,0),2)),ROUND(S14+R15,2),MIN(ROUND(Q$6+IF(Q$5=$C15,$E$5+$E15,0),2),ROUND(S14+R15,2))),0) -> 0 | R15: =IF(S14>0,ROUND(ROUND(S14*100,0)*ROUND(Q$7*10000,0)/12000000,0)/100,0) -> 0 | S15: =IF(S14>0,ROUND(S14+R15-Q15,2),0) -> 0 | T15: =IF(S14>0,ROUND(T14+ROUND(ROUND(T14*100,0)*ROUND(Q$7*10000,0)/12000000,0)/100+0.02,2),0) -> 0 | U15: =IF(W14>0,IF(AND(ROUND(W14+V15-ROUND(U$6+IF(U$5=$C15,$E$5+$E15,0),2),2)>0,ROUND(W14+V15-ROUND(U$6+IF(U$5=$C15,$E$5+$E15,0),2),2)<=X15,ROUND(W14+V15-ROUND(U$6+IF(U$5=$C15,$E$5+$E15,0),2),2)*10<=ROUND(U$6+IF(U$5=$C15,$E$5+$E15,0),2)),ROUND(W14+V15,2),MIN(ROUND(U$6+IF(U$5=$C15,$E$5+$E15,0),2),ROUND(W14+V15,2))),0) -> 0 | V15: =IF(W14>0,ROUND(ROUND(W14*100,0)*ROUND(U$7*10000,0)/12000000,0)/100,0) -> 0 | W15: =IF(W14>0,ROUND(W14+V15-U15,2),0) -> 0 | X15: =IF(W14>0,ROUND(X14+ROUND(ROUND(X14*100,0)*ROUND(U$7*10000,0)/12000000,0)/100+0.02,2),0) -> 0 | Y15: =IF(AA14>0,IF(AND(ROUND(AA14+Z15-ROUND(Y$6+IF(Y$5=$C15,$E$5+$E15,0),2),2)>0,ROUND(AA14+Z15-ROUND(Y$6+IF(Y$5=$C15,$E$5+$E15,0),2),2)<=AB15,ROUND(AA14+Z15-ROUND(Y$6+IF(Y$5=$C15,$E$5+$E15,0),2),2)*10<=ROUND(Y$6+IF(Y$5=$C15,$E$5+$E15,0),2)),ROUND(AA14+Z15,2),MIN(ROUND(Y$6+IF(Y$5=$C15,$E$5+$E15,0),2),ROUND(AA14+Z15,2))),0) -> 0 | Z15: =IF(AA14>0,ROUND(ROUND(AA14*100,0)*ROUND(Y$7*10000,0)/12000000,0)/100,0) -> 0 | AA15: =IF(AA14>0,ROUND(AA14+Z15-Y15,2),0) -> 0 | AB15: =IF(AA14>0,ROUND(AB14+ROUND(ROUND(AB14*100,0)*ROUND(Y$7*10000,0)/12000000,0)/100+0.02,2),0) -> 0 | AC15: =IF(AE14>0,IF(AND(ROUND(AE14+AD15-ROUND(AC$6+IF(AC$5=$C15,$E$5+$E15,0),2),2)>0,ROUND(AE14+AD15-ROUND(AC$6+IF(AC$5=$C15,$E$5+$E15,0),2),2)<=AF15,ROUND(AE14+AD15-ROUND(AC$6+IF(AC$5=$C15,$E$5+$E15,0),2),2)*10<=ROUND(AC$6+IF(AC$5=$C15,$E$5+$E15,0),2)),ROUND(AE14+AD15,2),MIN(ROUND(AC$6+IF(AC$5=$C15,$E$5+$E15,0),2),ROUND(AE14+AD15,2))),0) -> 0 | AD15: =IF(AE14>0,ROUND(ROUND(AE14*100,0)*ROUND(AC$7*10000,0)/12000000,0)/100,0) -> 0 | AE15: =IF(AE14>0,ROUND(AE14+AD15-AC15,2),0) -> 0 | AF15: =IF(AE14>0,ROUND(AF14+ROUND(ROUND(AF14*100,0)*ROUND(AC$7*10000,0)/12000000,0)/100+0.02,2),0) -> 0 | AG15: =IF(AI14>0,IF(AND(ROUND(AI14+AH15-ROUND(AG$6+IF(AG$5=$C15,$E$5+$E15,0),2),2)>0,ROUND(AI14+AH15-ROUND(AG$6+IF(AG$5=$C15,$E$5+$E15,0),2),2)<=AJ15,ROUND(AI14+AH15-ROUND(AG$6+IF(AG$5=$C15,$E$5+$E15,0),2),2)*10<=ROUND(AG$6+IF(AG$5=$C15,$E$5+$E15,0),2)),ROUND(AI14+AH15,2),MIN(ROUND(AG$6+IF(AG$5=$C15,$E$5+$E15,0),2),ROUND(AI14+AH15,2))),0) -> 0 | AH15: =IF(AI14>0,ROUND(ROUND(AI14*100,0)*ROUND(AG$7*10000,0)/12000000,0)/100,0) -> 0 | AI15: =IF(AI14>0,ROUND(AI14+AH15-AG15,2),0) -> 0 | AJ15: =IF(AI14>0,ROUND(AJ14+ROUND(ROUND(AJ14*100,0)*ROUND(AG$7*10000,0)/12000000,0)/100+0.02,2),0) -> 0 | AK15: =IF(AM14>0,IF(AND(ROUND(AM14+AL15-ROUND(AK$6+IF(AK$5=$C15,$E$5+$E15,0),2),2)>0,ROUND(AM14+AL15-ROUND(AK$6+IF(AK$5=$C15,$E$5+$E15,0),2),2)<=AN15,ROUND(AM14+AL15-ROUND(AK$6+IF(AK$5=$C15,$E$5+$E15,0),2),2)*10<=ROUND(AK$6+IF(AK$5=$C15,$E$5+$E15,0),2)),ROUND(AM14+AL15,2),MIN(ROUND(AK$6+IF(AK$5=$C15,$E$5+$E15,0),2),ROUND(AM14+AL15,2))),0) -> 0 | AL15: =IF(AM14>0,ROUND(ROUND(AM14*100,0)*ROUND(AK$7*10000,0)/12000000,0)/100,0) -> 0 | AM15: =IF(AM14>0,ROUND(AM14+AL15-AK15,2),0) -> 0 | AN15: =IF(AM14>0,ROUND(AN14+ROUND(ROUND(AN14*100,0)*ROUND(AK$7*10000,0)/12000000,0)/100+0.02,2),0) -> 0 | AO15: =IF(AQ14>0,IF(AND(ROUND(AQ14+AP15-ROUND(AO$6+IF(AO$5=$C15,$E$5+$E15,0),2),2)>0,ROUND(AQ14+AP15-ROUND(AO$6+IF(AO$5=$C15,$E$5+$E15,0),2),2)<=AR15,ROUND(AQ14+AP15-ROUND(AO$6+IF(AO$5=$C15,$E$5+$E15,0),2),2)*10<=ROUND(AO$6+IF(AO$5=$C15,$E$5+$E15,0),2)),ROUND(AQ14+AP15,2),MIN(ROUND(AO$6+IF(AO$5=$C15,$E$5+$E15,0),2),ROUND(AQ14+AP15,2))),0) -> 0 | AP15: =IF(AQ14>0,ROUND(ROUND(AQ14*100,0)*ROUND(AO$7*10000,0)/12000000,0)/100,0) -> 0 | AQ15: =IF(AQ14>0,ROUND(AQ14+AP15-AO15,2),0) -> 0 | AR15: =IF(AQ14>0,ROUND(AR14+ROUND(ROUND(AR14*100,0)*ROUND(AO$7*10000,0)/12000000,0)/100+0.02,2),0) -> 0 | AS15: =IF(AU14>0,IF(AND(ROUND(AU14+AT15-ROUND(AS$6+IF(AS$5=$C15,$E$5+$E15,0),2),2)>0,ROUND(AU14+AT15-ROUND(AS$6+IF(AS$5=$C15,$E$5+$E15,0),2),2)<=AV15,ROUND(AU14+AT15-ROUND(AS$6+IF(AS$5=$C15,$E$5+$E15,0),2),2)*10<=ROUND(AS$6+IF(AS$5=$C15,$E$5+$E15,0),2)),ROUND(AU14+AT15,2),MIN(ROUND(AS$6+IF(AS$5=$C15,$E$5+$E15,0),2),ROUND(AU14+AT15,2))),0) -> 0 | AT15: =IF(AU14>0,ROUND(ROUND(AU14*100,0)*ROUND(AS$7*10000,0)/12000000,0)/100,0) -> 0 | AU15: =IF(AU14>0,ROUND(AU14+AT15-AS15,2),0) -> 0 | AV15: =IF(AU14>0,ROUND(AV14+ROUND(ROUND(AV14*100,0)*ROUND(AS$7*10000,0)/12000000,0)/100+0.02,2),0) -> 0
